BEGIN:VCALENDAR
VERSION:2.0
PRODID:-//Looky Here - ECPv6.15.20//NONSGML v1.0//EN
CALSCALE:GREGORIAN
METHOD:PUBLISH
X-WR-CALNAME:Looky Here
X-ORIGINAL-URL:https://lookyheregreenfield.com
X-WR-CALDESC:Events for Looky Here
REFRESH-INTERVAL;VALUE=DURATION:PT1H
X-Robots-Tag:noindex
X-PUBLISHED-TTL:PT1H
BEGIN:VTIMEZONE
TZID:America/New_York
BEGIN:DAYLIGHT
TZOFFSETFROM:-0500
TZOFFSETTO:-0400
TZNAME:EDT
DTSTART:20230312T070000
END:DAYLIGHT
BEGIN:STANDARD
TZOFFSETFROM:-0400
TZOFFSETTO:-0500
TZNAME:EST
DTSTART:20231105T060000
END:STANDARD
BEGIN:DAYLIGHT
TZOFFSETFROM:-0500
TZOFFSETTO:-0400
TZNAME:EDT
DTSTART:20240310T070000
END:DAYLIGHT
BEGIN:STANDARD
TZOFFSETFROM:-0400
TZOFFSETTO:-0500
TZNAME:EST
DTSTART:20241103T060000
END:STANDARD
BEGIN:DAYLIGHT
TZOFFSETFROM:-0500
TZOFFSETTO:-0400
TZNAME:EDT
DTSTART:20250309T070000
END:DAYLIGHT
BEGIN:STANDARD
TZOFFSETFROM:-0400
TZOFFSETTO:-0500
TZNAME:EST
DTSTART:20251102T060000
END:STANDARD
END:VTIMEZONE
BEGIN:VEVENT
DTSTART;TZID=America/New_York:20240905T180000
DTEND;TZID=America/New_York:20240905T200000
DTSTAMP:20260425T123043
CREATED:20240801T192450Z
LAST-MODIFIED:20240905T204227Z
UID:9099-1725559200-1725566400@lookyheregreenfield.com
SUMMARY:Figure Drawing 9/5
DESCRIPTION:Figure drawing at Looky Here is an uninstructed drawing session with a nude model. \nEasels and drawing horses are provided but please bring your own materials.
URL:https://lookyheregreenfield.com/event/figure-drawing-9-5/
CATEGORIES:Drawing,workshop
ATTACH;FMTTYPE=image/jpeg:https://lookyheregreenfield.com/wp-content/uploads/2024/05/9F6968EC-9969-4CAD-8C93-89191499AC7F-scaled.jpeg
END:VEVENT
BEGIN:VEVENT
DTSTART;TZID=America/New_York:20240912T180000
DTEND;TZID=America/New_York:20240912T200000
DTSTAMP:20260425T123043
CREATED:20240801T194151Z
LAST-MODIFIED:20240801T194253Z
UID:9108-1726164000-1726171200@lookyheregreenfield.com
SUMMARY:Still Life Social Club
DESCRIPTION:Still Life Social Club – biweekly on Thursdays 6-8pm. Bring drawing or painting supplies\, a drink or a snack\, a playlist or a good story and an item to add to the still life ! $10 tickets online 🎨✏️💐🏺🧃🍿🎶🧸📚
URL:https://lookyheregreenfield.com/event/still-life-social-club-3/
CATEGORIES:Drawing,workshop
ATTACH;FMTTYPE=image/jpeg:https://lookyheregreenfield.com/wp-content/uploads/2024/05/IMG_4344.jpeg
END:VEVENT
BEGIN:VEVENT
DTSTART;TZID=America/New_York:20240919T180000
DTEND;TZID=America/New_York:20240919T200000
DTSTAMP:20260425T123043
CREATED:20240801T192959Z
LAST-MODIFIED:20240919T175311Z
UID:9102-1726768800-1726776000@lookyheregreenfield.com
SUMMARY:Figure Drawing 9/19
DESCRIPTION:Figure drawing at Looky Here is an uninstructed drawing session with a nude model. \nEasels and drawing horses are provided but please bring your own materials.
URL:https://lookyheregreenfield.com/event/figure-drawing-9-19/
CATEGORIES:Drawing,workshop
ATTACH;FMTTYPE=image/jpeg:https://lookyheregreenfield.com/wp-content/uploads/2024/05/9F6968EC-9969-4CAD-8C93-89191499AC7F-scaled.jpeg
END:VEVENT
END:VCALENDAR