BEGIN:VCALENDAR
VERSION:2.0
PRODID:-//Looky Here - ECPv6.15.20//NONSGML v1.0//EN
CALSCALE:GREGORIAN
METHOD:PUBLISH
X-WR-CALNAME:Looky Here
X-ORIGINAL-URL:https://lookyheregreenfield.com
X-WR-CALDESC:Events for Looky Here
REFRESH-INTERVAL;VALUE=DURATION:PT1H
X-Robots-Tag:noindex
X-PUBLISHED-TTL:PT1H
BEGIN:VTIMEZONE
TZID:America/New_York
BEGIN:DAYLIGHT
TZOFFSETFROM:-0500
TZOFFSETTO:-0400
TZNAME:EDT
DTSTART:20230312T070000
END:DAYLIGHT
BEGIN:STANDARD
TZOFFSETFROM:-0400
TZOFFSETTO:-0500
TZNAME:EST
DTSTART:20231105T060000
END:STANDARD
BEGIN:DAYLIGHT
TZOFFSETFROM:-0500
TZOFFSETTO:-0400
TZNAME:EDT
DTSTART:20240310T070000
END:DAYLIGHT
BEGIN:STANDARD
TZOFFSETFROM:-0400
TZOFFSETTO:-0500
TZNAME:EST
DTSTART:20241103T060000
END:STANDARD
BEGIN:DAYLIGHT
TZOFFSETFROM:-0500
TZOFFSETTO:-0400
TZNAME:EDT
DTSTART:20250309T070000
END:DAYLIGHT
BEGIN:STANDARD
TZOFFSETFROM:-0400
TZOFFSETTO:-0500
TZNAME:EST
DTSTART:20251102T060000
END:STANDARD
END:VTIMEZONE
BEGIN:VEVENT
DTSTART;TZID=America/New_York:20241003T180000
DTEND;TZID=America/New_York:20241003T200000
DTSTAMP:20260425T105140
CREATED:20240801T193637Z
LAST-MODIFIED:20240801T193638Z
UID:9105-1727978400-1727985600@lookyheregreenfield.com
SUMMARY:Figure Drawing 10/3
DESCRIPTION:Figure drawing at Looky Here is an uninstructed drawing session with a nude model. \nEasels and drawing horses are provided but please bring your own materials.
URL:https://lookyheregreenfield.com/event/figure-drawing-10-3/
CATEGORIES:Drawing,workshop
ATTACH;FMTTYPE=image/jpeg:https://lookyheregreenfield.com/wp-content/uploads/2024/05/9F6968EC-9969-4CAD-8C93-89191499AC7F-scaled.jpeg
END:VEVENT
BEGIN:VEVENT
DTSTART;TZID=America/New_York:20241017T180000
DTEND;TZID=America/New_York:20241017T200000
DTSTAMP:20260425T105140
CREATED:20240922T020931Z
LAST-MODIFIED:20241003T025027Z
UID:9562-1729188000-1729195200@lookyheregreenfield.com
SUMMARY:Figure Drawing
DESCRIPTION:Figure drawing at Looky Here is an uninstructed drawing session with a nude model. \nEasels and drawing horses are provided but please bring your own materials.
URL:https://lookyheregreenfield.com/event/figure-drawing/
CATEGORIES:Drawing,workshop
ATTACH;FMTTYPE=image/jpeg:https://lookyheregreenfield.com/wp-content/uploads/2024/09/figure-drawing-scaled.jpg
END:VEVENT
BEGIN:VEVENT
DTSTART;TZID=America/New_York:20241024T180000
DTEND;TZID=America/New_York:20241024T200000
DTSTAMP:20260425T105140
CREATED:20241006T002835Z
LAST-MODIFIED:20241024T212954Z
UID:9687-1729792800-1729800000@lookyheregreenfield.com
SUMMARY:Still Life Social Club
DESCRIPTION:Still Life Social Club – biweekly on Thursdays 6-8pm. Bring drawing or painting supplies\, a drink or a snack\, a playlist or a good story and an item to add to the still life ! $10 tickets online 🎨✏️💐🏺🧃🍿🎶🧸📚
URL:https://lookyheregreenfield.com/event/still-life-social-club-4/
CATEGORIES:Drawing,workshop
ATTACH;FMTTYPE=image/jpeg:https://lookyheregreenfield.com/wp-content/uploads/2024/05/IMG_4344.jpeg
END:VEVENT
END:VCALENDAR