BEGIN:VCALENDAR
VERSION:2.0
PRODID:-//Looky Here - ECPv6.15.20//NONSGML v1.0//EN
CALSCALE:GREGORIAN
METHOD:PUBLISH
X-ORIGINAL-URL:https://lookyheregreenfield.com
X-WR-CALDESC:Events for Looky Here
REFRESH-INTERVAL;VALUE=DURATION:PT1H
X-Robots-Tag:noindex
X-PUBLISHED-TTL:PT1H
BEGIN:VTIMEZONE
TZID:America/New_York
BEGIN:DAYLIGHT
TZOFFSETFROM:-0500
TZOFFSETTO:-0400
TZNAME:EDT
DTSTART:20220313T070000
END:DAYLIGHT
BEGIN:STANDARD
TZOFFSETFROM:-0400
TZOFFSETTO:-0500
TZNAME:EST
DTSTART:20221106T060000
END:STANDARD
BEGIN:DAYLIGHT
TZOFFSETFROM:-0500
TZOFFSETTO:-0400
TZNAME:EDT
DTSTART:20230312T070000
END:DAYLIGHT
BEGIN:STANDARD
TZOFFSETFROM:-0400
TZOFFSETTO:-0500
TZNAME:EST
DTSTART:20231105T060000
END:STANDARD
BEGIN:DAYLIGHT
TZOFFSETFROM:-0500
TZOFFSETTO:-0400
TZNAME:EDT
DTSTART:20240310T070000
END:DAYLIGHT
BEGIN:STANDARD
TZOFFSETFROM:-0400
TZOFFSETTO:-0500
TZNAME:EST
DTSTART:20241103T060000
END:STANDARD
BEGIN:DAYLIGHT
TZOFFSETFROM:-0500
TZOFFSETTO:-0400
TZNAME:EDT
DTSTART:20250309T070000
END:DAYLIGHT
BEGIN:STANDARD
TZOFFSETFROM:-0400
TZOFFSETTO:-0500
TZNAME:EST
DTSTART:20251102T060000
END:STANDARD
END:VTIMEZONE
BEGIN:VEVENT
DTSTART;TZID=America/New_York:20240620T180000
DTEND;TZID=America/New_York:20240620T200000
DTSTAMP:20260424T073458
CREATED:20240605T185757Z
LAST-MODIFIED:20240605T185758Z
UID:8634-1718906400-1718913600@lookyheregreenfield.com
SUMMARY:Still Life Social Club 6/20 - $10
DESCRIPTION:Still Life Social Club – biweekly on Thursdays 6-8pm. Bring drawing or painting supplies\, a drink or a snack\, a playlist or a good story and an item to add to the still life ! $10 tickets online 🎨✏️💐🏺🧃🍿🎶🧸📚
URL:https://lookyheregreenfield.com/event/still-life-social-club-6-20-10/
CATEGORIES:Drawing,workshop
ATTACH;FMTTYPE=image/jpeg:https://lookyheregreenfield.com/wp-content/uploads/2024/05/IMG_4344.jpeg
END:VEVENT
BEGIN:VEVENT
DTSTART;TZID=America/New_York:20240613T180000
DTEND;TZID=America/New_York:20240613T200000
DTSTAMP:20260424T073458
CREATED:20240502T122338Z
LAST-MODIFIED:20240605T162212Z
UID:8395-1718301600-1718308800@lookyheregreenfield.com
SUMMARY:Figure Drawing 6/13/2024
DESCRIPTION:BYO materials. \nEasels and Drawing horses provided!
URL:https://lookyheregreenfield.com/event/figure-drawing-6-13-2024/
CATEGORIES:Drawing,workshop
ATTACH;FMTTYPE=image/jpeg:https://lookyheregreenfield.com/wp-content/uploads/2024/05/9F6968EC-9969-4CAD-8C93-89191499AC7F-scaled.jpeg
END:VEVENT
BEGIN:VEVENT
DTSTART;TZID=America/New_York:20240606T180000
DTEND;TZID=America/New_York:20240606T200000
DTSTAMP:20260424T073458
CREATED:20240502T122026Z
LAST-MODIFIED:20240503T111526Z
UID:8392-1717696800-1717704000@lookyheregreenfield.com
SUMMARY:Still Life Social Club
DESCRIPTION:Starting in June\, Hannah will host Still Life Social Club biweekly on Thursdays 6-8pm. Bring drawing or painting supplies\, a drink or a snack\, a playlist or a good story and an item to add to the still life ! $10 tickets online 🎨✏️💐🏺🧃🍿🎶🧸📚
URL:https://lookyheregreenfield.com/event/still-life-social-club/
CATEGORIES:Drawing,workshop
ATTACH;FMTTYPE=image/jpeg:https://lookyheregreenfield.com/wp-content/uploads/2024/05/IMG_4344.jpeg
END:VEVENT
BEGIN:VEVENT
DTSTART;TZID=America/New_York:20240530T180000
DTEND;TZID=America/New_York:20240530T200000
DTSTAMP:20260424T073458
CREATED:20231127T202346Z
LAST-MODIFIED:20231127T202346Z
UID:6948-1717092000-1717099200@lookyheregreenfield.com
SUMMARY:Figure Drawing 5/30/24
DESCRIPTION:BYO materials. \nEasels and Drawing horses provided!
URL:https://lookyheregreenfield.com/event/figure-drawing-5-30-24/
CATEGORIES:Drawing,workshop
ATTACH;FMTTYPE=image/jpeg:https://lookyheregreenfield.com/wp-content/uploads/2023/08/IMG-1525-scaled.jpg
END:VEVENT
BEGIN:VEVENT
DTSTART;TZID=America/New_York:20240516T180000
DTEND;TZID=America/New_York:20240516T200000
DTSTAMP:20260424T073458
CREATED:20231127T202202Z
LAST-MODIFIED:20231127T202202Z
UID:6945-1715882400-1715889600@lookyheregreenfield.com
SUMMARY:Figure Drawing 5/16/24
DESCRIPTION:BYO materials. \nEasels and Drawing horses provided!
URL:https://lookyheregreenfield.com/event/figure-drawing-5-16-24/
CATEGORIES:Drawing,workshop
ATTACH;FMTTYPE=image/jpeg:https://lookyheregreenfield.com/wp-content/uploads/2023/08/IMG-1525-scaled.jpg
END:VEVENT
BEGIN:VEVENT
DTSTART;TZID=America/New_York:20240502T180000
DTEND;TZID=America/New_York:20240502T200000
DTSTAMP:20260424T073458
CREATED:20231127T201959Z
LAST-MODIFIED:20240502T175445Z
UID:6942-1714672800-1714680000@lookyheregreenfield.com
SUMMARY:Figure Drawing 5/2/24
DESCRIPTION:BYO materials. \nEasels and Drawing horses provided!
URL:https://lookyheregreenfield.com/event/figure-drawing-5-2-24/
CATEGORIES:Drawing,workshop
ATTACH;FMTTYPE=image/jpeg:https://lookyheregreenfield.com/wp-content/uploads/2023/08/IMG-1525-scaled.jpg
END:VEVENT
BEGIN:VEVENT
DTSTART;TZID=America/New_York:20240418T180000
DTEND;TZID=America/New_York:20240418T200000
DTSTAMP:20260424T073458
CREATED:20231127T201802Z
LAST-MODIFIED:20231127T201803Z
UID:6939-1713463200-1713470400@lookyheregreenfield.com
SUMMARY:Figure Drawing 4/18/24
DESCRIPTION:BYO materials. \nEasels and Drawing horses provided!
URL:https://lookyheregreenfield.com/event/figure-drawing-4-18-24/
CATEGORIES:Drawing,workshop
ATTACH;FMTTYPE=image/jpeg:https://lookyheregreenfield.com/wp-content/uploads/2023/08/IMG-1525-scaled.jpg
END:VEVENT
BEGIN:VEVENT
DTSTART;TZID=America/New_York:20240404T180000
DTEND;TZID=America/New_York:20240404T200000
DTSTAMP:20260424T073458
CREATED:20231127T201610Z
LAST-MODIFIED:20240330T181916Z
UID:6936-1712253600-1712260800@lookyheregreenfield.com
SUMMARY:Figure Drawing 4/4/24
DESCRIPTION:BYO materials. \nEasels and Drawing horses provided!
URL:https://lookyheregreenfield.com/event/figure-drawing-4-4-24/
CATEGORIES:Drawing,workshop
ATTACH;FMTTYPE=image/jpeg:https://lookyheregreenfield.com/wp-content/uploads/2023/08/IMG-1525-scaled.jpg
END:VEVENT
BEGIN:VEVENT
DTSTART;TZID=America/New_York:20240321T180000
DTEND;TZID=America/New_York:20240321T200000
DTSTAMP:20260424T073458
CREATED:20231127T201406Z
LAST-MODIFIED:20240207T125255Z
UID:6933-1711044000-1711051200@lookyheregreenfield.com
SUMMARY:Figure Drawing 3/21/24
DESCRIPTION:BYO materials. \nEasels and Drawing horses provided!
URL:https://lookyheregreenfield.com/event/figure-drawing-3-21-24/
CATEGORIES:Drawing,workshop
ATTACH;FMTTYPE=image/jpeg:https://lookyheregreenfield.com/wp-content/uploads/2023/08/IMG-1525-scaled.jpg
END:VEVENT
BEGIN:VEVENT
DTSTART;TZID=America/New_York:20240307T180000
DTEND;TZID=America/New_York:20240307T200000
DTSTAMP:20260424T073458
CREATED:20231127T201206Z
LAST-MODIFIED:20240207T125331Z
UID:6930-1709834400-1709841600@lookyheregreenfield.com
SUMMARY:Figure Drawing 3/7/24
DESCRIPTION:BYO materials. \nEasels and Drawing horses provided!
URL:https://lookyheregreenfield.com/event/figure-drawing-3-7-24/
CATEGORIES:Drawing,workshop
ATTACH;FMTTYPE=image/jpeg:https://lookyheregreenfield.com/wp-content/uploads/2023/08/IMG-1525-scaled.jpg
END:VEVENT
BEGIN:VEVENT
DTSTART;TZID=America/New_York:20240222T180000
DTEND;TZID=America/New_York:20240222T200000
DTSTAMP:20260424T073458
CREATED:20231127T201001Z
LAST-MODIFIED:20231127T201001Z
UID:6927-1708624800-1708632000@lookyheregreenfield.com
SUMMARY:Figure Drawing 2/22/24
DESCRIPTION:BYO materials. \nEasels and Drawing horses provided!
URL:https://lookyheregreenfield.com/event/figure-drawing-2-22-24/
CATEGORIES:Drawing,workshop
ATTACH;FMTTYPE=image/jpeg:https://lookyheregreenfield.com/wp-content/uploads/2023/08/IMG-1525-scaled.jpg
END:VEVENT
BEGIN:VEVENT
DTSTART;TZID=America/New_York:20240208T180000
DTEND;TZID=America/New_York:20240208T200000
DTSTAMP:20260424T073458
CREATED:20231127T200801Z
LAST-MODIFIED:20240208T163750Z
UID:6924-1707415200-1707422400@lookyheregreenfield.com
SUMMARY:Figure Drawing 2/8/23
DESCRIPTION:BYO materials. \nEasels and Drawing horses provided!
URL:https://lookyheregreenfield.com/event/figure-drawing-2-8-23/
CATEGORIES:Drawing,workshop
ATTACH;FMTTYPE=image/jpeg:https://lookyheregreenfield.com/wp-content/uploads/2023/08/IMG-1525-scaled.jpg
END:VEVENT
BEGIN:VEVENT
DTSTART;TZID=America/New_York:20240125T180000
DTEND;TZID=America/New_York:20240125T200000
DTSTAMP:20260424T073458
CREATED:20231127T200620Z
LAST-MODIFIED:20231127T200621Z
UID:6921-1706205600-1706212800@lookyheregreenfield.com
SUMMARY:Figure Drawing 1/25/23
DESCRIPTION:BYO materials. \nEasels and Drawing horses provided!
URL:https://lookyheregreenfield.com/event/figure-drawing-1-25-23/
CATEGORIES:Drawing,workshop
ATTACH;FMTTYPE=image/jpeg:https://lookyheregreenfield.com/wp-content/uploads/2023/08/IMG-1525-scaled.jpg
END:VEVENT
BEGIN:VEVENT
DTSTART;TZID=America/New_York:20240111T180000
DTEND;TZID=America/New_York:20240111T200000
DTSTAMP:20260424T073458
CREATED:20231127T200433Z
LAST-MODIFIED:20231127T200433Z
UID:6918-1704996000-1705003200@lookyheregreenfield.com
SUMMARY:Figure Drawing 1/11/24
DESCRIPTION:BYO materials. \nEasels and Drawing horses provided!
URL:https://lookyheregreenfield.com/event/figure-drawing-1-11-24/
CATEGORIES:Drawing
ATTACH;FMTTYPE=image/jpeg:https://lookyheregreenfield.com/wp-content/uploads/2023/08/IMG-1525-scaled.jpg
END:VEVENT
BEGIN:VEVENT
DTSTART;TZID=America/New_York:20231109T180000
DTEND;TZID=America/New_York:20231109T200000
DTSTAMP:20260424T073458
CREATED:20230906T183744Z
LAST-MODIFIED:20230906T183744Z
UID:6375-1699552800-1699560000@lookyheregreenfield.com
SUMMARY:Draw What You See: A 3 Workshop Series (Biweekly Thursdays 10/12\, 10/26 & 11/9)
DESCRIPTION:Tickets and info in Week 1!
URL:https://lookyheregreenfield.com/event/draw-what-you-see-a-3-workshop-series-biweekly-thursdays-10-12-10-26-11-9-3/
CATEGORIES:Drawing,workshop
ATTACH;FMTTYPE=image/jpeg:https://lookyheregreenfield.com/wp-content/uploads/2023/08/DWYS_01-1.jpg
END:VEVENT
BEGIN:VEVENT
DTSTART;TZID=America/New_York:20231026T180000
DTEND;TZID=America/New_York:20231026T200000
DTSTAMP:20260424T073458
CREATED:20230906T183635Z
LAST-MODIFIED:20230906T183636Z
UID:6371-1698343200-1698350400@lookyheregreenfield.com
SUMMARY:Draw What You See: A 3 Workshop Series (Biweekly Thursdays 10/12\, 10/26 & 11/9)
DESCRIPTION:Tickets and info in Week 1!
URL:https://lookyheregreenfield.com/event/draw-what-you-see-a-3-workshop-series-biweekly-thursdays-10-12-10-26-11-9-2/
CATEGORIES:Drawing,workshop
ATTACH;FMTTYPE=image/jpeg:https://lookyheregreenfield.com/wp-content/uploads/2023/08/DWYS_01-1.jpg
END:VEVENT
BEGIN:VEVENT
DTSTART;TZID=America/New_York:20231012T180000
DTEND;TZID=America/New_York:20231012T200000
DTSTAMP:20260424T073458
CREATED:20230814T035948Z
LAST-MODIFIED:20231012T165258Z
UID:6216-1697133600-1697140800@lookyheregreenfield.com
SUMMARY:Draw What You See: A 3 Workshop Series (Biweekly Thursdays 10/12\, 10/26 & 11/9)
DESCRIPTION:“Draw What You See”\n\nA 3 workshop series\nEvery other Thursday evening  from 6-8pm\nAll materials included or bring your own\nOctober 12\, 26\, Nov 9\nAll levels of experience/ adults and mature teens\n$65\n\nDraw What You See is a drawing workshop for all levels of experience\, and those who want a solid foundation for painting: Using still life set-ups from the Looky Here menagerie\, draw from observation \,consider the composition\, and make shapes combine to represent that which is before you. Learn and experiment with drawing tools and techniques. Look and draw\, and look and talk about it\, every other week\, so there is time to see and draw outside of class.\n\n\n\nJulia Shirar is a painter and educator working across disciplines\, from observation. Her work has been shown internationally in exhibitions at The Tate Modern in London\, UK\, The National Veterans Art Museum in Chicago\, IL\, Gray Area Foundation for Art in San Francisco\, CA\, Rowan Morrison Gallery in Oakland\, CA\, and La Mama Galleria in New York City\, among many others.  She is an Adjunct Assistant Professor at City University of New York and Adjunct Faculty at New York University\, living and working in Shelburne Falls\, MA.
URL:https://lookyheregreenfield.com/event/draw-what-you-see-a-3-workshop-series-biweekly-thursdays-10-12-10-26-11-9/
LOCATION:Looky Here\, 28 chapman street\, greenfield\, MA\, 01301\, United States
CATEGORIES:Drawing,workshop
ATTACH;FMTTYPE=image/jpeg:https://lookyheregreenfield.com/wp-content/uploads/2023/08/DWYS_01.jpg
ORGANIZER;CN="Looky Here":MAILTO:lookyheregreenfield@gmail.com
END:VEVENT
BEGIN:VEVENT
DTSTART;TZID=America/New_York:20230920T180000
DTEND;TZID=America/New_York:20230920T200000
DTSTAMP:20260424T073458
CREATED:20230721T201738Z
LAST-MODIFIED:20230809T164431Z
UID:6012-1695232800-1695240000@lookyheregreenfield.com
SUMMARY:Spanish through Art (Wednesday\, 9/20)
DESCRIPTION:Let’s paint\, speak Spanish and learn more about Hispanic art and Artists on Wednesday nights at Looky Here in September. You don’t need to be a fluent Spanish speaker or a professional artist\, just excited for both! \nTickets are $20 per class\, all materials included. N.O.T.A.F.L.O.F.
URL:https://lookyheregreenfield.com/event/spanish-through-art-4-week-series-9-6-9-27-2/
CATEGORIES:Drawing,Spanish,workshop,writing
ATTACH;FMTTYPE=image/jpeg:https://lookyheregreenfield.com/wp-content/uploads/2023/08/Spanish-through-art-e1704552355708.jpg
END:VEVENT
BEGIN:VEVENT
DTSTART;TZID=America/New_York:20230913T180000
DTEND;TZID=America/New_York:20230913T200000
DTSTAMP:20260424T073458
CREATED:20230721T201554Z
LAST-MODIFIED:20230809T164637Z
UID:6010-1694628000-1694635200@lookyheregreenfield.com
SUMMARY:Spanish through Art (Wednesday\, 9/13)
DESCRIPTION:Let’s paint\, speak Spanish and learn more about Hispanic art and Artists on Wednesday nights at Looky Here in September. You don’t need to be a fluent Spanish speaker or a professional artist\, just excited for both! \nTickets are $20 per class\, all materials included. N.O.T.A.F.L.O.F.
URL:https://lookyheregreenfield.com/event/spanish-through-art-4-week-series-9-6-9-27/
CATEGORIES:Drawing,Spanish,workshop,writing
ATTACH;FMTTYPE=image/jpeg:https://lookyheregreenfield.com/wp-content/uploads/2023/08/Spanish-through-art-e1704552355708.jpg
END:VEVENT
BEGIN:VEVENT
DTSTART;TZID=America/New_York:20230906T180000
DTEND;TZID=America/New_York:20230906T200000
DTSTAMP:20260424T073458
CREATED:20230504T171536Z
LAST-MODIFIED:20230809T165152Z
UID:5528-1694023200-1694030400@lookyheregreenfield.com
SUMMARY:Spanish through Art (Wednesday\, 9/6)
DESCRIPTION:Let’s paint\, speak Spanish and learn more about Hispanic art and Artists on Wednesday nights at Looky Here in September. You don’t need to be a fluent Spanish speaker or a professional artist\, just excited for both! \nTickets are $20 per class\, all materials included. N.O.T.A.F.L.O.F.
URL:https://lookyheregreenfield.com/event/spanish-through-art/
CATEGORIES:Drawing,Spanish,workshop,writing
ATTACH;FMTTYPE=image/jpeg:https://lookyheregreenfield.com/wp-content/uploads/2023/08/Spanish-through-art-e1704552355708.jpg
END:VEVENT
BEGIN:VEVENT
DTSTART;TZID=America/New_York:20230824T180000
DTEND;TZID=America/New_York:20230824T200000
DTSTAMP:20260424T073458
CREATED:20230331T192509Z
LAST-MODIFIED:20230331T192509Z
UID:5314-1692900000-1692907200@lookyheregreenfield.com
SUMMARY:Figure Drawing 8/24
DESCRIPTION:Byo materials \neasels provided \nmasks optional \nSession starts 6pm prompt!
URL:https://lookyheregreenfield.com/event/figure-drawing-8-24/
CATEGORIES:Drawing
END:VEVENT
BEGIN:VEVENT
DTSTART;TZID=America/New_York:20230810T180000
DTEND;TZID=America/New_York:20230810T200000
DTSTAMP:20260424T073458
CREATED:20230331T192350Z
LAST-MODIFIED:20230331T192350Z
UID:5311-1691690400-1691697600@lookyheregreenfield.com
SUMMARY:Figure Drawing  8/10
DESCRIPTION:Byo materials \neasels provided \nmasks optional \nSession starts 6pm prompt!
URL:https://lookyheregreenfield.com/event/figure-drawing-8-10/
CATEGORIES:Drawing
END:VEVENT
BEGIN:VEVENT
DTSTART;TZID=America/New_York:20230727T180000
DTEND;TZID=America/New_York:20230727T200000
DTSTAMP:20260424T073458
CREATED:20230331T192235Z
LAST-MODIFIED:20230331T192235Z
UID:5308-1690480800-1690488000@lookyheregreenfield.com
SUMMARY:Figure Drawing 7/ 27
DESCRIPTION:Byo materials \neasels provided \nmasks optional \nSession starts 6pm prompt!
URL:https://lookyheregreenfield.com/event/figure-drawing-7-27/
CATEGORIES:Drawing
END:VEVENT
BEGIN:VEVENT
DTSTART;TZID=America/New_York:20230629T180000
DTEND;TZID=America/New_York:20230629T200000
DTSTAMP:20260424T073458
CREATED:20230331T192100Z
LAST-MODIFIED:20230331T192100Z
UID:5305-1688061600-1688068800@lookyheregreenfield.com
SUMMARY:Figure Drawing 6/29
DESCRIPTION:Byo materials \neasels provided \nmasks optional \nSession starts 6pm prompt!
URL:https://lookyheregreenfield.com/event/figure-drawing-6-29/
CATEGORIES:Drawing
END:VEVENT
BEGIN:VEVENT
DTSTART;TZID=America/New_York:20230615T180000
DTEND;TZID=America/New_York:20230615T200000
DTSTAMP:20260424T073458
CREATED:20230331T191951Z
LAST-MODIFIED:20230615T180539Z
UID:5302-1686852000-1686859200@lookyheregreenfield.com
SUMMARY:Figure Drawing 6/15
DESCRIPTION:Byo materials \neasels provided \nmasks optional \nSession starts 6pm prompt!
URL:https://lookyheregreenfield.com/event/figure-drawing-6-15/
CATEGORIES:Drawing
END:VEVENT
BEGIN:VEVENT
DTSTART;TZID=America/New_York:20230601T180000
DTEND;TZID=America/New_York:20230601T200000
DTSTAMP:20260424T073458
CREATED:20230331T191845Z
LAST-MODIFIED:20230331T191845Z
UID:5299-1685642400-1685649600@lookyheregreenfield.com
SUMMARY:Figure Drawing 6/1
DESCRIPTION:Byo materials \neasels provided \nmasks optional \nSession starts 6pm prompt!
URL:https://lookyheregreenfield.com/event/figure-drawing-6-1/
CATEGORIES:Drawing
END:VEVENT
BEGIN:VEVENT
DTSTART;TZID=America/New_York:20230518T180000
DTEND;TZID=America/New_York:20230518T200000
DTSTAMP:20260424T073458
CREATED:20230331T191737Z
LAST-MODIFIED:20230331T191737Z
UID:5296-1684432800-1684440000@lookyheregreenfield.com
SUMMARY:Figure Drawing 5/18
DESCRIPTION:Byo materials \neasels provided \nmasks optional \nSession starts 6pm prompt!
URL:https://lookyheregreenfield.com/event/figure-drawing-5-18/
CATEGORIES:Drawing
END:VEVENT
BEGIN:VEVENT
DTSTART;TZID=America/New_York:20230517T180000
DTEND;TZID=America/New_York:20230517T200000
DTSTAMP:20260424T073458
CREATED:20230504T170610Z
LAST-MODIFIED:20230505T141820Z
UID:5521-1684346400-1684353600@lookyheregreenfield.com
SUMMARY:Approaches in Drawing with Julio Neijens
DESCRIPTION:Explore new terrains of drawing through guided meditations\, collaboration and portraiture with “approaches in drawing” all materials provided!
URL:https://lookyheregreenfield.com/event/approaches-in-drawing-with-julio-neijens/
CATEGORIES:Drawing,workshop
ATTACH;FMTTYPE=image/jpeg:https://lookyheregreenfield.com/wp-content/uploads/2023/05/D74AF75B-64A8-4E2B-BDEE-4A4028088671.jpeg
END:VEVENT
BEGIN:VEVENT
DTSTART;TZID=America/New_York:20230504T180000
DTEND;TZID=America/New_York:20230504T200000
DTSTAMP:20260424T073458
CREATED:20230331T191618Z
LAST-MODIFIED:20230331T191618Z
UID:5293-1683223200-1683230400@lookyheregreenfield.com
SUMMARY:Figure Drawing 5/4
DESCRIPTION:Byo materials \neasels provided \nmasks optional \nSession starts 6pm prompt!
URL:https://lookyheregreenfield.com/event/figure-drawing-5-4/
CATEGORIES:Drawing
END:VEVENT
BEGIN:VEVENT
DTSTART;TZID=America/New_York:20230420T180000
DTEND;TZID=America/New_York:20230420T200000
DTSTAMP:20260424T073458
CREATED:20230331T191458Z
LAST-MODIFIED:20230331T191458Z
UID:5290-1682013600-1682020800@lookyheregreenfield.com
SUMMARY:Figure Drawing 4/20
DESCRIPTION:Byo materials \neasels provided \nmasks optional \nSession starts 6pm prompt!
URL:https://lookyheregreenfield.com/event/figure-drawing-4-20/
CATEGORIES:Drawing
END:VEVENT
END:VCALENDAR