BEGIN:VCALENDAR
VERSION:2.0
PRODID:-//Looky Here - ECPv6.15.20//NONSGML v1.0//EN
CALSCALE:GREGORIAN
METHOD:PUBLISH
X-WR-CALNAME:Looky Here
X-ORIGINAL-URL:https://lookyheregreenfield.com
X-WR-CALDESC:Events for Looky Here
REFRESH-INTERVAL;VALUE=DURATION:PT1H
X-Robots-Tag:noindex
X-PUBLISHED-TTL:PT1H
BEGIN:VTIMEZONE
TZID:America/New_York
BEGIN:DAYLIGHT
TZOFFSETFROM:-0500
TZOFFSETTO:-0400
TZNAME:EDT
DTSTART:20230312T070000
END:DAYLIGHT
BEGIN:STANDARD
TZOFFSETFROM:-0400
TZOFFSETTO:-0500
TZNAME:EST
DTSTART:20231105T060000
END:STANDARD
BEGIN:DAYLIGHT
TZOFFSETFROM:-0500
TZOFFSETTO:-0400
TZNAME:EDT
DTSTART:20240310T070000
END:DAYLIGHT
BEGIN:STANDARD
TZOFFSETFROM:-0400
TZOFFSETTO:-0500
TZNAME:EST
DTSTART:20241103T060000
END:STANDARD
BEGIN:DAYLIGHT
TZOFFSETFROM:-0500
TZOFFSETTO:-0400
TZNAME:EDT
DTSTART:20250309T070000
END:DAYLIGHT
BEGIN:STANDARD
TZOFFSETFROM:-0400
TZOFFSETTO:-0500
TZNAME:EST
DTSTART:20251102T060000
END:STANDARD
END:VTIMEZONE
BEGIN:VEVENT
DTSTART;TZID=America/New_York:20240628T170000
DTEND;TZID=America/New_York:20240628T200000
DTSTAMP:20260425T192005
CREATED:20240502T124241Z
LAST-MODIFIED:20240612T174417Z
UID:8397-1719594000-1719604800@lookyheregreenfield.com
SUMMARY:Greenfield Arts Walk: On Our Way by Chelsea Granger with a reading from her book!
DESCRIPTION:On Our Way\, New Work by Chelsea Granger \nI began work for this series by looking at specific local endangered species\, wanting to honor and make visible  my most local neighbors who are experiencing loss of their habitat\, community\, place\, what we all stand to lose within a rapidly changing climate. As I moved deeper into making the series\, the idea of endangerment shapeshifted into more abstract ideas  about what is disappearing or becoming invisible to us and what we find within that loss. I wanted to make beauty for beauty’s sake within the enormous overwhelm of what is on a precipice of disappearing. I wanted to sing a praise song with my work. \nHow can we  live honoring what is dying? How do we lift up what we love\, regardless of whether it will survive or not? In what ways can we celebrate what is fleeting and be with what is here while it is here? \nHow do we sing a song to the butterfly\, praise the sun\, and say thank you to a flower? \nWhere do we as people land in all of that unknown disappearing? \nMy  practice focuses on painting as a celebration\, painting as a prayer. I hope that this work brings light to what we have/what we stand to lose and the potential for us to make rituals of thanks to it all. \n\nChelsea Granger is a multidisciplinary artist. Painting\, drawing\, illustration\, murals\, and tattoos are the foundation of her practice. She recently self-published a zine about death and grief titled So Many Ways to Draw a Ghost. After the death of her mom as well as a dear friend\, she started seeing her art as a way to sing up life\, with the hope that her art can act as a doorway to create conversations about death and grief. Chelsea’s art is of the everyday\, inspired by the overlap of earth/spirit dimensions\, and woods as church. She is interested in painting as medicine\, painting as a portal\, painting as a spell. Her work has been exhibited across the Northeast\, and her murals exist across New England.
URL:https://lookyheregreenfield.com/event/greenfield-arts-walk-on-our-war-by-chelsea-granger/
CATEGORIES:gallery
ATTACH;FMTTYPE=image/jpeg:https://lookyheregreenfield.com/wp-content/uploads/2024/05/5.HauntingLurking-scaled.jpg
END:VEVENT
END:VCALENDAR