BEGIN:VCALENDAR
VERSION:2.0
PRODID:-//Looky Here - ECPv6.15.20//NONSGML v1.0//EN
CALSCALE:GREGORIAN
METHOD:PUBLISH
X-ORIGINAL-URL:https://lookyheregreenfield.com
X-WR-CALDESC:Events for Looky Here
REFRESH-INTERVAL;VALUE=DURATION:PT1H
X-Robots-Tag:noindex
X-PUBLISHED-TTL:PT1H
BEGIN:VTIMEZONE
TZID:America/New_York
BEGIN:DAYLIGHT
TZOFFSETFROM:-0500
TZOFFSETTO:-0400
TZNAME:EDT
DTSTART:20250309T070000
END:DAYLIGHT
BEGIN:STANDARD
TZOFFSETFROM:-0400
TZOFFSETTO:-0500
TZNAME:EST
DTSTART:20251102T060000
END:STANDARD
BEGIN:DAYLIGHT
TZOFFSETFROM:-0500
TZOFFSETTO:-0400
TZNAME:EDT
DTSTART:20260308T070000
END:DAYLIGHT
BEGIN:STANDARD
TZOFFSETFROM:-0400
TZOFFSETTO:-0500
TZNAME:EST
DTSTART:20261101T060000
END:STANDARD
BEGIN:DAYLIGHT
TZOFFSETFROM:-0500
TZOFFSETTO:-0400
TZNAME:EDT
DTSTART:20270314T070000
END:DAYLIGHT
BEGIN:STANDARD
TZOFFSETFROM:-0400
TZOFFSETTO:-0500
TZNAME:EST
DTSTART:20271107T060000
END:STANDARD
END:VTIMEZONE
BEGIN:VEVENT
DTSTART;TZID=America/New_York:20260410T180000
DTEND;TZID=America/New_York:20260410T200000
DTSTAMP:20260424T021741
CREATED:20260305T190759Z
LAST-MODIFIED:20260305T190800Z
UID:15943-1775844000-1775851200@lookyheregreenfield.com
SUMMARY:Looky There: photographs by Trevor Powers (Gallery Reception 6:00-8:00)
DESCRIPTION:Looky There is an exhibition of risograph-printed photographs by Trevor Powers. The images\, all shot on color 35mm film\, are printed as 3-4 color risograph prints. Taken in and around western Massachusetts\, the photographs explore the color\, pattern\, and texture of both organic and manmade objects and scenes\, while also examining the generative process of how analog images are created and transformed into tangible objects. Their final form is a limited-color\, layered risograph print\, far from the original creation: a 35mm color negative with sharp focus and an unlimited range of colors. In both stages\, the artist’s eye and the creative and mechanical process are visible and ingrained in the final object. \nCreated over four printing sessions at Looky Here\, the work in this exhibition also aims to highlight the invaluable creative asset that Looky Here is for the local community – a place where new skills are learned and creative exploration is pushed within a supportive environment centered on self-expression and collaboration. \nAccompanying the series of prints is a handbound artists’ book featuring the riso prints\, a free zine\, and editioned prints for sale.
URL:https://lookyheregreenfield.com/event/looky-there-photographs-by-trevor-powers-gallery-reception-600-800/
CATEGORIES:Events,gallery
ATTACH;FMTTYPE=image/jpeg:https://lookyheregreenfield.com/wp-content/uploads/2026/03/IMG_8189.jpg
END:VEVENT
END:VCALENDAR