BEGIN:VCALENDAR
VERSION:2.0
PRODID:-//Looky Here - ECPv6.15.20//NONSGML v1.0//EN
CALSCALE:GREGORIAN
METHOD:PUBLISH
X-WR-CALNAME:Looky Here
X-ORIGINAL-URL:https://lookyheregreenfield.com
X-WR-CALDESC:Events for Looky Here
REFRESH-INTERVAL;VALUE=DURATION:PT1H
X-Robots-Tag:noindex
X-PUBLISHED-TTL:PT1H
BEGIN:VTIMEZONE
TZID:America/New_York
BEGIN:DAYLIGHT
TZOFFSETFROM:-0500
TZOFFSETTO:-0400
TZNAME:EDT
DTSTART:20220313T070000
END:DAYLIGHT
BEGIN:STANDARD
TZOFFSETFROM:-0400
TZOFFSETTO:-0500
TZNAME:EST
DTSTART:20221106T060000
END:STANDARD
BEGIN:DAYLIGHT
TZOFFSETFROM:-0500
TZOFFSETTO:-0400
TZNAME:EDT
DTSTART:20230312T070000
END:DAYLIGHT
BEGIN:STANDARD
TZOFFSETFROM:-0400
TZOFFSETTO:-0500
TZNAME:EST
DTSTART:20231105T060000
END:STANDARD
BEGIN:DAYLIGHT
TZOFFSETFROM:-0500
TZOFFSETTO:-0400
TZNAME:EDT
DTSTART:20240310T070000
END:DAYLIGHT
BEGIN:STANDARD
TZOFFSETFROM:-0400
TZOFFSETTO:-0500
TZNAME:EST
DTSTART:20241103T060000
END:STANDARD
BEGIN:DAYLIGHT
TZOFFSETFROM:-0500
TZOFFSETTO:-0400
TZNAME:EDT
DTSTART:20250309T070000
END:DAYLIGHT
BEGIN:STANDARD
TZOFFSETFROM:-0400
TZOFFSETTO:-0500
TZNAME:EST
DTSTART:20251102T060000
END:STANDARD
END:VTIMEZONE
BEGIN:VTIMEZONE
TZID:UTC
BEGIN:STANDARD
TZOFFSETFROM:+0000
TZOFFSETTO:+0000
TZNAME:UTC
DTSTART:20210101T000000
END:STANDARD
END:VTIMEZONE
BEGIN:VEVENT
DTSTART;TZID=America/New_York:20241025T170000
DTEND;TZID=America/New_York:20241025T200000
DTSTAMP:20260424T053738
CREATED:20241003T022216Z
LAST-MODIFIED:20241003T024557Z
UID:9596-1729875600-1729886400@lookyheregreenfield.com
SUMMARY:Greenfield Arts Walk: "when you are here" paintings by Clare Churchill Seder.
DESCRIPTION:Join us on FINAL FRIDAY to celebrate “when you are here” paintings by Clare Churchill Seder. \nOctober 25th\, 5:00-8:00pm at 28 Chapman St in Greenfield!
URL:https://lookyheregreenfield.com/event/gallery-opening-for-when-you-are-here-paintings-by-clare-churchill/
CATEGORIES:gallery
ATTACH;FMTTYPE=image/jpeg:https://lookyheregreenfield.com/wp-content/uploads/2024/10/when-you-are-here-2.jpg
END:VEVENT
BEGIN:VEVENT
DTSTART;TZID=America/New_York:20241002T190000
DTEND;TZID=America/New_York:20241002T190000
DTSTAMP:20260424T053738
CREATED:20240922T020158Z
LAST-MODIFIED:20240922T020342Z
UID:9560-1727895600-1727895600@lookyheregreenfield.com
SUMMARY:Gallery Closing for Buoyant Heart "Back and Forthness"
DESCRIPTION:Last chance to see the show and a PLAY organized by Buoyant Heart!
URL:https://lookyheregreenfield.com/event/gallery-closing-for-buoyant-heart-back-and-forthness/
CATEGORIES:gallery
END:VEVENT
BEGIN:VEVENT
DTSTART;TZID=America/New_York:20240830T170000
DTEND;TZID=America/New_York:20240830T200000
DTSTAMP:20260424T053738
CREATED:20240801T180953Z
LAST-MODIFIED:20240801T181440Z
UID:9091-1725037200-1725048000@lookyheregreenfield.com
SUMMARY:Greenfield Gallery Walk: Buoyant Heart Opening Reception
DESCRIPTION:Opening Reception for Buoyant Heart Gallery Show!
URL:https://lookyheregreenfield.com/event/greenfield-gallery-walk-buoyant-heart-opening-reception/
CATEGORIES:gallery
END:VEVENT
BEGIN:VEVENT
DTSTART;TZID=America/New_York:20240726T170000
DTEND;TZID=America/New_York:20240726T200000
DTSTAMP:20260424T053738
CREATED:20240605T184216Z
LAST-MODIFIED:20240605T184644Z
UID:8625-1722013200-1722024000@lookyheregreenfield.com
SUMMARY:Greenfield Arts Walk : "On Our Way" by Chelsea Granger - Closing Reception
DESCRIPTION:On Our Way\, New Work by Chelsea Granger \nI began work for this series by looking at specific local endangered species\, wanting to honor and make visible  my most local neighbors who are experiencing loss of their habitat\, community\, place\, what we all stand to lose within a rapidly changing climate. As I moved deeper into making the series\, the idea of endangerment shapeshifted into more abstract ideas  about what is disappearing or becoming invisible to us and what we find within that loss. I wanted to make beauty for beauty’s sake within the enormous overwhelm of what is on a precipice of disappearing. I wanted to sing a praise song with my work. \nHow can we  live honoring what is dying? How do we lift up what we love\, regardless of whether it will survive or not? In what ways can we celebrate what is fleeting and be with what is here while it is here? \nHow do we sing a song to the butterfly\, praise the sun\, and say thank you to a flower? \nWhere do we as people land in all of that unknown disappearing? \nMy  practice focuses on painting as a celebration\, painting as a prayer. I hope that this work brings light to what we have/what we stand to lose and the potential for us to make rituals of thanks to it all. \n\nChelsea Granger is a multidisciplinary artist. Painting\, drawing\, illustration\, murals\, and tattoos are the foundation of her practice. She recently self-published a zine about death and grief titled So Many Ways to Draw a Ghost. After the death of her mom as well as a dear friend\, she started seeing her art as a way to sing up life\, with the hope that her art can act as a doorway to create conversations about death and grief. Chelsea’s art is of the everyday\, inspired by the overlap of earth/spirit dimensions\, and woods as church. She is interested in painting as medicine\, painting as a portal\, painting as a spell. Her work has been exhibited across the Northeast\, and her murals exist across New England.
URL:https://lookyheregreenfield.com/event/greenfield-arts-walk-on-our-way-by-chelsea-granger-closing-reception/
CATEGORIES:gallery
ATTACH;FMTTYPE=image/jpeg:https://lookyheregreenfield.com/wp-content/uploads/2024/05/5.HauntingLurking-scaled.jpg
END:VEVENT
BEGIN:VEVENT
DTSTART;TZID=America/New_York:20240628T170000
DTEND;TZID=America/New_York:20240628T200000
DTSTAMP:20260424T053738
CREATED:20240502T124241Z
LAST-MODIFIED:20240612T174417Z
UID:8397-1719594000-1719604800@lookyheregreenfield.com
SUMMARY:Greenfield Arts Walk: On Our Way by Chelsea Granger with a reading from her book!
DESCRIPTION:On Our Way\, New Work by Chelsea Granger \nI began work for this series by looking at specific local endangered species\, wanting to honor and make visible  my most local neighbors who are experiencing loss of their habitat\, community\, place\, what we all stand to lose within a rapidly changing climate. As I moved deeper into making the series\, the idea of endangerment shapeshifted into more abstract ideas  about what is disappearing or becoming invisible to us and what we find within that loss. I wanted to make beauty for beauty’s sake within the enormous overwhelm of what is on a precipice of disappearing. I wanted to sing a praise song with my work. \nHow can we  live honoring what is dying? How do we lift up what we love\, regardless of whether it will survive or not? In what ways can we celebrate what is fleeting and be with what is here while it is here? \nHow do we sing a song to the butterfly\, praise the sun\, and say thank you to a flower? \nWhere do we as people land in all of that unknown disappearing? \nMy  practice focuses on painting as a celebration\, painting as a prayer. I hope that this work brings light to what we have/what we stand to lose and the potential for us to make rituals of thanks to it all. \n\nChelsea Granger is a multidisciplinary artist. Painting\, drawing\, illustration\, murals\, and tattoos are the foundation of her practice. She recently self-published a zine about death and grief titled So Many Ways to Draw a Ghost. After the death of her mom as well as a dear friend\, she started seeing her art as a way to sing up life\, with the hope that her art can act as a doorway to create conversations about death and grief. Chelsea’s art is of the everyday\, inspired by the overlap of earth/spirit dimensions\, and woods as church. She is interested in painting as medicine\, painting as a portal\, painting as a spell. Her work has been exhibited across the Northeast\, and her murals exist across New England.
URL:https://lookyheregreenfield.com/event/greenfield-arts-walk-on-our-war-by-chelsea-granger/
CATEGORIES:gallery
ATTACH;FMTTYPE=image/jpeg:https://lookyheregreenfield.com/wp-content/uploads/2024/05/5.HauntingLurking-scaled.jpg
END:VEVENT
BEGIN:VEVENT
DTSTART;TZID=America/New_York:20240531T170000
DTEND;TZID=America/New_York:20240531T200000
DTSTAMP:20260424T053738
CREATED:20240321T183704Z
LAST-MODIFIED:20240405T171010Z
UID:7989-1717174800-1717185600@lookyheregreenfield.com
SUMMARY:Final Friday: Closing Reception for Emily Gaimari's "Inside\, Outside"
DESCRIPTION:Last chance to see Emily Gaimari’s show\, “Inside\, Outside” during Greenfield’s Gallery Walk on Final Friday from 5:00-8:00!
URL:https://lookyheregreenfield.com/event/final-friday-closing-reception-for-emily-gaimaris-inside-outside/
CATEGORIES:gallery
ATTACH;FMTTYPE=image/jpeg:https://lookyheregreenfield.com/wp-content/uploads/2024/03/Emily-Gaimari.jpg
END:VEVENT
BEGIN:VEVENT
DTSTART;TZID=America/New_York:20240426T170000
DTEND;TZID=America/New_York:20240426T200000
DTSTAMP:20260424T053738
CREATED:20240404T161240Z
LAST-MODIFIED:20240404T172727Z
UID:8174-1714150800-1714161600@lookyheregreenfield.com
SUMMARY:Final Friday: Opening Reception for Emily Gaimari's\, "Inside\, Outside"
DESCRIPTION:This show is NOT TO BE MISSED! \nJoin us from 5:00-8:00 to celebrate Emily Gaimari’s gorgeous paintings during the Greenfield Gallery Walk on April’s FINAL FRIDAY! \nSince covid I know most of our lives were inside\, inside\, but during covid for myself I had moved from Massachusetts to Vermont. I think mindlessly passing by new visuals of barns\, from the linework of the wood paneling to the quilted fields that go on and on have inspired my paintings immensely. The angles and the lines have challenged my technique in a new way. I am also inspired by the pottery that surrounds me\, created by my fiance. I needed to add some other aspects to my work and wanted to combine my barns with what I see inside\, day to day. With bold color and shape I have embraced what I see daily in a playful\, child-like way. \nPracticing my patience with fine line details\, and make believe shadows add a story I want viewers to come up with. My work doesn’t always make sense\, and I think that’s where it becomes playful for myself. Twisting reality in a sense.\n  \n 
URL:https://lookyheregreenfield.com/event/final-friday-opening-reception-for-emily-gaimaris-inside-outside/
CATEGORIES:gallery
ATTACH;FMTTYPE=image/jpeg:https://lookyheregreenfield.com/wp-content/uploads/2024/03/Emily-Gaimari.jpg
END:VEVENT
BEGIN:VEVENT
DTSTART;TZID=America/New_York:20240329T170000
DTEND;TZID=America/New_York:20240329T200000
DTSTAMP:20260424T053738
CREATED:20240301T235227Z
LAST-MODIFIED:20240301T235228Z
UID:7787-1711731600-1711742400@lookyheregreenfield.com
SUMMARY:Final Friday Closing Reception for Maria Sparrow: Between You and Me
DESCRIPTION:Celebrate with Maria Sparrow!\nLast chance to see her beautiful portraits at Looky Here. \n5:00-8:00 pm
URL:https://lookyheregreenfield.com/event/final-friday-closing-reception-for-maria-sparrow-between-you-and-me/
CATEGORIES:gallery
ATTACH;FMTTYPE=image/jpeg:https://lookyheregreenfield.com/wp-content/uploads/2024/02/5AE45A4F-C12A-4632-BE7C-99F6951C84C7.jpeg
END:VEVENT
BEGIN:VEVENT
DTSTART;TZID=America/New_York:20240223T170000
DTEND;TZID=America/New_York:20240223T200000
DTSTAMP:20260424T053738
CREATED:20240202T192058Z
LAST-MODIFIED:20240202T192058Z
UID:7437-1708707600-1708718400@lookyheregreenfield.com
SUMMARY:Greenfield Gallery Walk: Portraits by María Sparrow
DESCRIPTION:Portraits by María Sparrow \nDrawing from the work of Alice Neel and Frida Kahlo in particular\, these explorations of portraiture in oil investigate acts of witnessing and representation. Neel and Kahlo’s work resonates for their use of observation\, expressiveness\, and sensitivity to color. In this ongoing portrait series\, I am similarly more interested in capturing a person’s presence than in realism. Temperature\, light\, and gesture are all concerns here. Also: the temporary\, the fleeting\, the ephemeral.  \n  \nMaría Sparrow lives  in Greenfield\, MA.  \nMaría Sparrow | paintings & works (mariatsparrow.wixsite.com) \nmaria.t.sparrow@gmail.com \n 
URL:https://lookyheregreenfield.com/event/greenfield-gallery-walk-portraits-by-maria-sparrow/
CATEGORIES:gallery
ATTACH;FMTTYPE=image/jpeg:https://lookyheregreenfield.com/wp-content/uploads/2024/02/5AE45A4F-C12A-4632-BE7C-99F6951C84C7.jpeg
END:VEVENT
BEGIN:VEVENT
DTSTART;TZID=America/New_York:20240126T170000
DTEND;TZID=America/New_York:20240126T200000
DTSTAMP:20260424T053738
CREATED:20240106T160217Z
LAST-MODIFIED:20240106T160217Z
UID:7219-1706288400-1706299200@lookyheregreenfield.com
SUMMARY:FINAL FRIDAY closing of QUILT SHOW
DESCRIPTION:Join us in celebrating the artists Emily Carris and Rae Heller in the closing of their quilt show during the Greenfield Arts Walk.
URL:https://lookyheregreenfield.com/event/final-friday-closing-of-quilt-show/
CATEGORIES:gallery
ATTACH;FMTTYPE=image/jpeg:https://lookyheregreenfield.com/wp-content/uploads/2024/01/660AAFF0-FC51-4A8E-8EB5-0BB330AEFF04.jpeg
END:VEVENT
BEGIN:VEVENT
DTSTART;TZID=America/New_York:20231229T170000
DTEND;TZID=America/New_York:20231229T200000
DTSTAMP:20260424T053738
CREATED:20231127T195429Z
LAST-MODIFIED:20231127T200155Z
UID:6916-1703869200-1703880000@lookyheregreenfield.com
SUMMARY:Gallery Walk: Opening for QUILT SHOW
DESCRIPTION:
URL:https://lookyheregreenfield.com/event/gallery-walk-opening-for-quilt-show/
CATEGORIES:gallery
END:VEVENT
BEGIN:VEVENT
DTSTART;TZID=America/New_York:20230825T170000
DTEND;TZID=America/New_York:20230825T200000
DTSTAMP:20260424T053738
CREATED:20230809T222321Z
LAST-MODIFIED:20230809T222321Z
UID:6184-1692982800-1692993600@lookyheregreenfield.com
SUMMARY:Greenfield Gallery Walk: Reception for Olivia Hamilton
DESCRIPTION:
URL:https://lookyheregreenfield.com/event/greenfield-gallery-walk-reception-for-olivia-hamilton/
CATEGORIES:gallery
ATTACH;FMTTYPE=image/jpeg:https://lookyheregreenfield.com/wp-content/uploads/2023/08/IMG-1761-scaled.jpg
END:VEVENT
BEGIN:VEVENT
DTSTART;TZID=America/New_York:20230728T170000
DTEND;TZID=America/New_York:20230728T200000
DTSTAMP:20260424T053738
CREATED:20230726T185844Z
LAST-MODIFIED:20230726T185844Z
UID:6029-1690563600-1690574400@lookyheregreenfield.com
SUMMARY:Closing for Julia Shirar's Portrait Residency
DESCRIPTION:Join us for Final Friday in Greenfield with the closing of Julia Shirar’s Portrait Residency.
URL:https://lookyheregreenfield.com/event/closing-for-julia-shirars-portrait-residency/
LOCATION:Looky Here\, 28 chapman street\, greenfield\, MA\, 01301\, United States
CATEGORIES:gallery
ATTACH;FMTTYPE=image/jpeg:https://lookyheregreenfield.com/wp-content/uploads/2023/05/GrandmasChair_72_02_forWeb.jpg
ORGANIZER;CN="Looky Here":MAILTO:lookyheregreenfield@gmail.com
END:VEVENT
BEGIN:VEVENT
DTSTART;TZID=America/New_York:20230727T120000
DTEND;TZID=America/New_York:20230727T170000
DTSTAMP:20260424T053738
CREATED:20230504T210306Z
LAST-MODIFIED:20230504T210346Z
UID:5644-1690459200-1690477200@lookyheregreenfield.com
SUMMARY:Julia Shirar Portrait Residency
DESCRIPTION:“From June 1st through July 28th 2023\, from 12pm to 6pm on Thursdays\, I’m inviting the people  in Greenfield to sign up or stop by Looky Here to be painted. I’ll paint from life\,whoever is there\, in the time allotted\, what I can get down on the page or canvas. The results will be a portrait painted from life\, a notation of an interaction in a given time\, hung on the wall as they are completed. The portraits can be of individuals or groups and very much depend on the moment at hand and what is happening in the space. Please spread the word to friends and family to encourage a wide range of participants and not just those privy to the Looky Here calendar. All participants are invited to a closing party on July 28th that will correspond with Greenfield’s first Friday gallery walk\, with food and drink and where the subjects of the portraits can meet and talk or just mill about. When the exhibition closes\, the portraits will be documented and reproductions given to the participants.” – Julia Shirar \nemail julia@juliashirar.com for a portrait appointment \n 
URL:https://lookyheregreenfield.com/event/julia-shirar-portrait-residency-7/
CATEGORIES:gallery
ATTACH;FMTTYPE=image/jpeg:https://lookyheregreenfield.com/wp-content/uploads/2023/05/GrandmasChair_72_02_forWeb.jpg
END:VEVENT
BEGIN:VEVENT
DTSTART;TZID=America/New_York:20230713T120000
DTEND;TZID=America/New_York:20230713T170000
DTSTAMP:20260424T053738
CREATED:20230504T210142Z
LAST-MODIFIED:20230504T210235Z
UID:5642-1689249600-1689267600@lookyheregreenfield.com
SUMMARY:Julia Shirar Portrait Residency
DESCRIPTION:“From June 1st through July 28th 2023\, from 12pm to 6pm on Thursdays\, I’m inviting the people  in Greenfield to sign up or stop by Looky Here to be painted. I’ll paint from life\,whoever is there\, in the time allotted\, what I can get down on the page or canvas. The results will be a portrait painted from life\, a notation of an interaction in a given time\, hung on the wall as they are completed. The portraits can be of individuals or groups and very much depend on the moment at hand and what is happening in the space. Please spread the word to friends and family to encourage a wide range of participants and not just those privy to the Looky Here calendar. All participants are invited to a closing party on July 28th that will correspond with Greenfield’s first Friday gallery walk\, with food and drink and where the subjects of the portraits can meet and talk or just mill about. When the exhibition closes\, the portraits will be documented and reproductions given to the participants.” – Julia Shirar \nemail julia@juliashirar.com for a portrait appointment \n 
URL:https://lookyheregreenfield.com/event/julia-shirar-portrait-residency-6/
CATEGORIES:gallery
ATTACH;FMTTYPE=image/jpeg:https://lookyheregreenfield.com/wp-content/uploads/2023/05/GrandmasChair_72_02_forWeb.jpg
END:VEVENT
BEGIN:VEVENT
DTSTART;TZID=America/New_York:20230630T170000
DTEND;TZID=America/New_York:20230630T200000
DTSTAMP:20260424T053738
CREATED:20230504T204551Z
LAST-MODIFIED:20230504T204628Z
UID:5621-1688144400-1688155200@lookyheregreenfield.com
SUMMARY:Gallery Walk
DESCRIPTION:
URL:https://lookyheregreenfield.com/event/gallery-walk-2/
CATEGORIES:gallery
END:VEVENT
BEGIN:VEVENT
DTSTART;TZID=America/New_York:20230622T120000
DTEND;TZID=America/New_York:20230622T170000
DTSTAMP:20260424T053738
CREATED:20230504T210013Z
LAST-MODIFIED:20230504T210047Z
UID:5638-1687435200-1687453200@lookyheregreenfield.com
SUMMARY:Julia Shirar Portrait Residency
DESCRIPTION:“From June 1st through July 28th 2023\, from 12pm to 6pm on Thursdays\, I’m inviting the people  in Greenfield to sign up or stop by Looky Here to be painted. I’ll paint from life\,whoever is there\, in the time allotted\, what I can get down on the page or canvas. The results will be a portrait painted from life\, a notation of an interaction in a given time\, hung on the wall as they are completed. The portraits can be of individuals or groups and very much depend on the moment at hand and what is happening in the space. Please spread the word to friends and family to encourage a wide range of participants and not just those privy to the Looky Here calendar. All participants are invited to a closing party on July 28th that will correspond with Greenfield’s first Friday gallery walk\, with food and drink and where the subjects of the portraits can meet and talk or just mill about. When the exhibition closes\, the portraits will be documented and reproductions given to the participants.” – Julia Shirar \nemail julia@juliashirar.com for a portrait appointment \n 
URL:https://lookyheregreenfield.com/event/julia-shirar-portrait-residency-4/
CATEGORIES:gallery
END:VEVENT
BEGIN:VEVENT
DTSTART;TZID=America/New_York:20230615T120000
DTEND;TZID=America/New_York:20230615T170000
DTSTAMP:20260424T053738
CREATED:20230504T205928Z
LAST-MODIFIED:20230504T210001Z
UID:5636-1686830400-1686848400@lookyheregreenfield.com
SUMMARY:Julia Shirar Portrait Residency
DESCRIPTION:“From June 1st through July 28th 2023\, from 12pm to 6pm on Thursdays\, I’m inviting the people  in Greenfield to sign up or stop by Looky Here to be painted. I’ll paint from life\,whoever is there\, in the time allotted\, what I can get down on the page or canvas. The results will be a portrait painted from life\, a notation of an interaction in a given time\, hung on the wall as they are completed. The portraits can be of individuals or groups and very much depend on the moment at hand and what is happening in the space. Please spread the word to friends and family to encourage a wide range of participants and not just those privy to the Looky Here calendar. All participants are invited to a closing party on July 28th that will correspond with Greenfield’s first Friday gallery walk\, with food and drink and where the subjects of the portraits can meet and talk or just mill about. When the exhibition closes\, the portraits will be documented and reproductions given to the participants.” – Julia Shirar \nemail julia@juliashirar.com for a portrait appointment \n 
URL:https://lookyheregreenfield.com/event/julia-shirar-portrait-residency-3/
CATEGORIES:gallery
END:VEVENT
BEGIN:VEVENT
DTSTART;TZID=America/New_York:20230608T120000
DTEND;TZID=America/New_York:20230608T170000
DTSTAMP:20260424T053738
CREATED:20230504T205832Z
LAST-MODIFIED:20230504T205919Z
UID:5634-1686225600-1686243600@lookyheregreenfield.com
SUMMARY:Julia Shirar Portrait Residency
DESCRIPTION:“From June 1st through July 28th 2023\, from 12pm to 6pm on Thursdays\, I’m inviting the people  in Greenfield to sign up or stop by Looky Here to be painted. I’ll paint from life\,whoever is there\, in the time allotted\, what I can get down on the page or canvas. The results will be a portrait painted from life\, a notation of an interaction in a given time\, hung on the wall as they are completed. The portraits can be of individuals or groups and very much depend on the moment at hand and what is happening in the space. Please spread the word to friends and family to encourage a wide range of participants and not just those privy to the Looky Here calendar. All participants are invited to a closing party on July 28th that will correspond with Greenfield’s first Friday gallery walk\, with food and drink and where the subjects of the portraits can meet and talk or just mill about. When the exhibition closes\, the portraits will be documented and reproductions given to the participants.” – Julia Shirar \nemail julia@juliashirar.com for a portrait appointment \n 
URL:https://lookyheregreenfield.com/event/julia-shirar-portrait-residency-2/
CATEGORIES:gallery
ATTACH;FMTTYPE=image/jpeg:https://lookyheregreenfield.com/wp-content/uploads/2023/05/GrandmasChair_72_02_forWeb.jpg
END:VEVENT
BEGIN:VEVENT
DTSTART;TZID=America/New_York:20230601T120000
DTEND;TZID=America/New_York:20230601T170000
DTSTAMP:20260424T053738
CREATED:20230504T205543Z
LAST-MODIFIED:20230504T205802Z
UID:5631-1685620800-1685638800@lookyheregreenfield.com
SUMMARY:Julia Shirar Portrait Residency
DESCRIPTION:“From June 1st through July 28th 2023\, from 12pm to 6pm on Thursdays\, I’m inviting the people  in Greenfield to sign up or stop by Looky Here to be painted. I’ll paint from life\,whoever is there\, in the time allotted\, what I can get down on the page or canvas. The results will be a portrait painted from life\, a notation of an interaction in a given time\, hung on the wall as they are completed. The portraits can be of individuals or groups and very much depend on the moment at hand and what is happening in the space. Please spread the word to friends and family to encourage a wide range of participants and not just those privy to the Looky Here calendar. All participants are invited to a closing party on July 28th that will correspond with Greenfield’s first Friday gallery walk\, with food and drink and where the subjects of the portraits can meet and talk or just mill about. When the exhibition closes\, the portraits will be documented and reproductions given to the participants.” – Julia Shirar \nemail julia@juliashirar.com for a portrait appointment \n 
URL:https://lookyheregreenfield.com/event/julia-shirar-portrait-residency/
CATEGORIES:gallery
ATTACH;FMTTYPE=image/jpeg:https://lookyheregreenfield.com/wp-content/uploads/2023/05/GrandmasChair_72_02_forWeb.jpg
END:VEVENT
BEGIN:VEVENT
DTSTART;TZID=America/New_York:20230526T180000
DTEND;TZID=America/New_York:20230526T200000
DTSTAMP:20260424T053738
CREATED:20230503T192533Z
LAST-MODIFIED:20230503T192621Z
UID:5503-1685124000-1685131200@lookyheregreenfield.com
SUMMARY:Gallery Walk
DESCRIPTION:
URL:https://lookyheregreenfield.com/event/gallery-walk/
CATEGORIES:gallery
ATTACH;FMTTYPE=image/jpeg:https://lookyheregreenfield.com/wp-content/uploads/2023/05/0F47DA76-5F3D-4F9D-9D1A-82090CBD3226-scaled.jpeg
END:VEVENT
BEGIN:VEVENT
DTSTART;TZID=America/New_York:20230224T173000
DTEND;TZID=America/New_York:20230224T203000
DTSTAMP:20260424T053738
CREATED:20230102T213551Z
LAST-MODIFIED:20230102T215347Z
UID:4647-1677259800-1677270600@lookyheregreenfield.com
SUMMARY:Final Friday Art Walk: Closing of "Admin Reveal"
DESCRIPTION:
URL:https://lookyheregreenfield.com/event/final-friday-art-walk-closing-of-admin-reveal/
CATEGORIES:gallery
ATTACH;FMTTYPE=image/jpeg:https://lookyheregreenfield.com/wp-content/uploads/2023/01/IMG_2779-scaled.jpeg
END:VEVENT
BEGIN:VEVENT
DTSTART;TZID=America/New_York:20230127T173000
DTEND;TZID=America/New_York:20230127T203000
DTSTAMP:20260424T053738
CREATED:20230102T212948Z
LAST-MODIFIED:20230102T212948Z
UID:4638-1674840600-1674851400@lookyheregreenfield.com
SUMMARY:Final Friday Art Walk- Admin Reveal: Works by Hannah Brookman
DESCRIPTION:Opening of Gallery Show!
URL:https://lookyheregreenfield.com/event/final-friday-art-walk-admin-reveal-works-by-hannah-brookman/
CATEGORIES:gallery
ATTACH;FMTTYPE=image/jpeg:https://lookyheregreenfield.com/wp-content/uploads/2023/01/IMG_2779-scaled.jpeg
END:VEVENT
BEGIN:VEVENT
DTSTART;TZID=UTC:20221028T173000
DTEND;TZID=UTC:20221028T200000
DTSTAMP:20260424T053738
CREATED:20220921T214518Z
LAST-MODIFIED:20220921T214518Z
UID:4054-1666978200-1666987200@lookyheregreenfield.com
SUMMARY:FINAL FRIDAY: Divination Night
DESCRIPTION:
URL:https://lookyheregreenfield.com/event/final-friday-divination-night/
LOCATION:Looky Here\, 28 chapman street\, greenfield\, MA\, 01301\, United States
CATEGORIES:gallery
END:VEVENT
BEGIN:VEVENT
DTSTART;TZID=UTC:20220930T173000
DTEND;TZID=UTC:20220930T193000
DTSTAMP:20260424T053738
CREATED:20220818T014528Z
LAST-MODIFIED:20220818T014528Z
UID:3983-1664559000-1664566200@lookyheregreenfield.com
SUMMARY:Greenfield Art Walk
DESCRIPTION:
URL:https://lookyheregreenfield.com/event/greenfield-art-walk-2/
CATEGORIES:gallery
END:VEVENT
BEGIN:VEVENT
DTSTART;TZID=UTC:20220929T170000
DTEND;TZID=UTC:20220929T200000
DTSTAMP:20260424T053738
CREATED:20220818T014444Z
LAST-MODIFIED:20220818T014444Z
UID:3981-1664470800-1664481600@lookyheregreenfield.com
SUMMARY:Docent Night
DESCRIPTION:
URL:https://lookyheregreenfield.com/event/docent-night-2/
CATEGORIES:gallery
END:VEVENT
BEGIN:VEVENT
DTSTART;TZID=UTC:20220922T173000
DTEND;TZID=UTC:20220922T193000
DTSTAMP:20260424T053739
CREATED:20220818T014229Z
LAST-MODIFIED:20220818T014229Z
UID:3977-1663867800-1663875000@lookyheregreenfield.com
SUMMARY:Docent Night
DESCRIPTION:
URL:https://lookyheregreenfield.com/event/docent-night/
CATEGORIES:gallery
END:VEVENT
BEGIN:VEVENT
DTSTART;TZID=UTC:20220901T173000
DTEND;TZID=UTC:20220901T200000
DTSTAMP:20260424T053739
CREATED:20220818T013830Z
LAST-MODIFIED:20220818T013830Z
UID:3971-1662053400-1662062400@lookyheregreenfield.com
SUMMARY:Gallery Opening
DESCRIPTION:
URL:https://lookyheregreenfield.com/event/gallery-opening/
CATEGORIES:gallery
END:VEVENT
END:VCALENDAR