BEGIN:VCALENDAR
VERSION:2.0
PRODID:-//Looky Here - ECPv6.15.20//NONSGML v1.0//EN
CALSCALE:GREGORIAN
METHOD:PUBLISH
X-WR-CALNAME:Looky Here
X-ORIGINAL-URL:https://lookyheregreenfield.com
X-WR-CALDESC:Events for Looky Here
REFRESH-INTERVAL;VALUE=DURATION:PT1H
X-Robots-Tag:noindex
X-PUBLISHED-TTL:PT1H
BEGIN:VTIMEZONE
TZID:UTC
BEGIN:STANDARD
TZOFFSETFROM:+0000
TZOFFSETTO:+0000
TZNAME:UTC
DTSTART:20210101T000000
END:STANDARD
END:VTIMEZONE
BEGIN:VEVENT
DTSTART;TZID=UTC:20220930T173000
DTEND;TZID=UTC:20220930T193000
DTSTAMP:20260424T090041
CREATED:20220818T014528Z
LAST-MODIFIED:20220818T014528Z
UID:3983-1664559000-1664566200@lookyheregreenfield.com
SUMMARY:Greenfield Art Walk
DESCRIPTION:
URL:https://lookyheregreenfield.com/event/greenfield-art-walk-2/
CATEGORIES:gallery
END:VEVENT
BEGIN:VEVENT
DTSTART;TZID=UTC:20220929T170000
DTEND;TZID=UTC:20220929T200000
DTSTAMP:20260424T090041
CREATED:20220818T014444Z
LAST-MODIFIED:20220818T014444Z
UID:3981-1664470800-1664481600@lookyheregreenfield.com
SUMMARY:Docent Night
DESCRIPTION:
URL:https://lookyheregreenfield.com/event/docent-night-2/
CATEGORIES:gallery
END:VEVENT
BEGIN:VEVENT
DTSTART;TZID=UTC:20220922T173000
DTEND;TZID=UTC:20220922T193000
DTSTAMP:20260424T090041
CREATED:20220818T014229Z
LAST-MODIFIED:20220818T014229Z
UID:3977-1663867800-1663875000@lookyheregreenfield.com
SUMMARY:Docent Night
DESCRIPTION:
URL:https://lookyheregreenfield.com/event/docent-night/
CATEGORIES:gallery
END:VEVENT
BEGIN:VEVENT
DTSTART;TZID=UTC:20220901T173000
DTEND;TZID=UTC:20220901T200000
DTSTAMP:20260424T090041
CREATED:20220818T013830Z
LAST-MODIFIED:20220818T013830Z
UID:3971-1662053400-1662062400@lookyheregreenfield.com
SUMMARY:Gallery Opening
DESCRIPTION:
URL:https://lookyheregreenfield.com/event/gallery-opening/
CATEGORIES:gallery
END:VEVENT
END:VCALENDAR