BEGIN:VCALENDAR
VERSION:2.0
PRODID:-//Looky Here - ECPv6.15.20//NONSGML v1.0//EN
CALSCALE:GREGORIAN
METHOD:PUBLISH
X-ORIGINAL-URL:https://lookyheregreenfield.com
X-WR-CALDESC:Events for Looky Here
REFRESH-INTERVAL;VALUE=DURATION:PT1H
X-Robots-Tag:noindex
X-PUBLISHED-TTL:PT1H
BEGIN:VTIMEZONE
TZID:UTC
BEGIN:STANDARD
TZOFFSETFROM:+0000
TZOFFSETTO:+0000
TZNAME:UTC
DTSTART:20210101T000000
END:STANDARD
END:VTIMEZONE
BEGIN:VEVENT
DTSTART;TZID=UTC:20220617T180000
DTEND;TZID=UTC:20220617T200000
DTSTAMP:20260424T134840
CREATED:20220413T204045Z
LAST-MODIFIED:20220413T204045Z
UID:3502-1655488800-1655496000@lookyheregreenfield.com
SUMMARY:Drop In Handbuilding at Hope Street Clay 6/17/22
DESCRIPTION:A 2-hour open studio session for hand building with clay. The studio will provide clay\, tools\, glazes and firing. The sessions will not be instructed\, however\, assistance will be available. Beginners welcome! Hope Street Clay is located on the 1st floor of the Web building\, at 76 Hope Street in Greenfield.
URL:https://lookyheregreenfield.com/event/drop-in-handbuilding-at-hope-street-clay-6-17-22/
LOCATION:Hope Street Clay\, 76 Hope Street\, Greenfield\, MA\, 01301\, United States
CATEGORIES:Hope Street Clay
ORGANIZER;CN="Looky Here":MAILTO:lookyheregreenfield@gmail.com
END:VEVENT
BEGIN:VEVENT
DTSTART;TZID=UTC:20220610T180000
DTEND;TZID=UTC:20220610T200000
DTSTAMP:20260424T134840
CREATED:20220413T203836Z
LAST-MODIFIED:20220413T203836Z
UID:3498-1654884000-1654891200@lookyheregreenfield.com
SUMMARY:Drop In Handbuilding at Hope Street Clay 6/10/22
DESCRIPTION:A 2-hour open studio session for hand building with clay. The studio will provide clay\, tools\, glazes and firing. The sessions will not be instructed\, however\, assistance will be available. Beginners welcome! Hope Street Clay is located on the 1st floor of the Web building\, at 76 Hope Street in Greenfield.
URL:https://lookyheregreenfield.com/event/drop-in-handbuilding-at-hope-street-clay-6-10-22/
LOCATION:Hope Street Clay\, 76 Hope Street\, Greenfield\, MA\, 01301\, United States
CATEGORIES:Hope Street Clay
ORGANIZER;CN="Looky Here":MAILTO:lookyheregreenfield@gmail.com
END:VEVENT
BEGIN:VEVENT
DTSTART;TZID=UTC:20220603T180000
DTEND;TZID=UTC:20220603T200000
DTSTAMP:20260424T134840
CREATED:20220413T203723Z
LAST-MODIFIED:20220413T203723Z
UID:3495-1654279200-1654286400@lookyheregreenfield.com
SUMMARY:Drop In Handbuilding at Hope Street Clay 6/3/22
DESCRIPTION:A 2-hour open studio session for hand building with clay. The studio will provide clay\, tools\, glazes and firing. The sessions will not be instructed\, however\, assistance will be available. Beginners welcome! Hope Street Clay is located on the 1st floor of the Web building\, at 76 Hope Street in Greenfield.
URL:https://lookyheregreenfield.com/event/drop-in-handbuilding-at-hope-street-clay-6-3-22/
LOCATION:Hope Street Clay\, 76 Hope Street\, Greenfield\, MA\, 01301\, United States
CATEGORIES:Hope Street Clay
ORGANIZER;CN="Looky Here":MAILTO:lookyheregreenfield@gmail.com
END:VEVENT
BEGIN:VEVENT
DTSTART;TZID=UTC:20220527T180000
DTEND;TZID=UTC:20220527T200000
DTSTAMP:20260424T134840
CREATED:20220413T203548Z
LAST-MODIFIED:20220413T203548Z
UID:3492-1653674400-1653681600@lookyheregreenfield.com
SUMMARY:Drop In Handbuilding at Hope Street Clay 5/27/22
DESCRIPTION:A 2-hour open studio session for hand building with clay. The studio will provide clay\, tools\, glazes and firing. The sessions will not be instructed\, however\, assistance will be available. Beginners welcome! Hope Street Clay is located on the 1st floor of the Web building\, at 76 Hope Street in Greenfield.
URL:https://lookyheregreenfield.com/event/drop-in-handbuilding-at-hope-street-clay-5-27-22/
LOCATION:Hope Street Clay\, 76 Hope Street\, Greenfield\, MA\, 01301\, United States
CATEGORIES:Hope Street Clay
ORGANIZER;CN="Looky Here":MAILTO:lookyheregreenfield@gmail.com
END:VEVENT
BEGIN:VEVENT
DTSTART;TZID=UTC:20220520T180000
DTEND;TZID=UTC:20220520T200000
DTSTAMP:20260424T134840
CREATED:20220413T203419Z
LAST-MODIFIED:20220413T204401Z
UID:3489-1653069600-1653076800@lookyheregreenfield.com
SUMMARY:Drop In Handbuilding at Hope Street Clay 5/20/22
DESCRIPTION:A 2-hour open studio session for hand building with clay. The studio will provide clay\, tools\, glazes and firing. The sessions will not be instructed\, however\, assistance will be available. Beginners welcome! Hope Street Clay is located on the 1st floor of the Web building\, at 76 Hope Street in Greenfield.
URL:https://lookyheregreenfield.com/event/drop-in-handbuilding-at-hope-street-clay-5-20-22/
LOCATION:Hope Street Clay\, 76 Hope Street\, Greenfield\, MA\, 01301\, United States
CATEGORIES:Hope Street Clay
ORGANIZER;CN="Looky Here":MAILTO:lookyheregreenfield@gmail.com
END:VEVENT
BEGIN:VEVENT
DTSTART;TZID=UTC:20220513T180000
DTEND;TZID=UTC:20220513T200000
DTSTAMP:20260424T134840
CREATED:20220413T203253Z
LAST-MODIFIED:20220413T203253Z
UID:3486-1652464800-1652472000@lookyheregreenfield.com
SUMMARY:Drop In Handbuilding at Hope Street Clay 5/13/22
DESCRIPTION:A 2-hour open studio session for hand building with clay. The studio will provide clay\, tools\, glazes and firing. The sessions will not be instructed\, however\, assistance will be available. Beginners welcome! Hope Street Clay is located on the 1st floor of the Web building\, at 76 Hope Street in Greenfield.
URL:https://lookyheregreenfield.com/event/drop-in-handbuilding-at-hope-street-clay-5-13-22/
LOCATION:Hope Street Clay\, 76 Hope Street\, Greenfield\, MA\, 01301\, United States
CATEGORIES:Hope Street Clay
ORGANIZER;CN="Looky Here":MAILTO:lookyheregreenfield@gmail.com
END:VEVENT
BEGIN:VEVENT
DTSTART;TZID=UTC:20220506T180000
DTEND;TZID=UTC:20220506T200000
DTSTAMP:20260424T134840
CREATED:20220413T203125Z
LAST-MODIFIED:20220413T203125Z
UID:3483-1651860000-1651867200@lookyheregreenfield.com
SUMMARY:Drop In Handbuilding at Hope Street Clay 5/6/22
DESCRIPTION:A 2-hour open studio session for hand building with clay. The studio will provide clay\, tools\, glazes and firing. The sessions will not be instructed\, however\, assistance will be available. Beginners welcome! Hope Street Clay is located on the 1st floor of the Web building\, at 76 Hope Street in Greenfield
URL:https://lookyheregreenfield.com/event/drop-in-handbuilding-at-hope-street-clay-5-6-22/
LOCATION:Hope Street Clay\, 76 Hope Street\, Greenfield\, MA\, 01301\, United States
CATEGORIES:Hope Street Clay
ORGANIZER;CN="Looky Here":MAILTO:lookyheregreenfield@gmail.com
END:VEVENT
BEGIN:VEVENT
DTSTART;TZID=UTC:20220429T180000
DTEND;TZID=UTC:20220429T200000
DTSTAMP:20260424T134840
CREATED:20220413T202941Z
LAST-MODIFIED:20220413T202941Z
UID:3480-1651255200-1651262400@lookyheregreenfield.com
SUMMARY:Drop In Handbuilding at Hope Street Clay 4/29/22
DESCRIPTION:A 2-hour open studio session for hand building with clay. The studio will provide clay\, tools\, glazes and firing. The sessions will not be instructed\, however\, assistance will be available. Beginners welcome! Hope Street Clay is located on the 1st floor of the Web building\, at 76 Hope Street in Greenfield.
URL:https://lookyheregreenfield.com/event/drop-in-handbuilding-at-hope-street-clay-4-29-22/
LOCATION:Hope Street Clay\, 76 Hope Street\, Greenfield\, MA\, 01301\, United States
CATEGORIES:Hope Street Clay
ORGANIZER;CN="Looky Here":MAILTO:lookyheregreenfield@gmail.com
END:VEVENT
BEGIN:VEVENT
DTSTART;TZID=UTC:20220422T180000
DTEND;TZID=UTC:20220422T200000
DTSTAMP:20260424T134840
CREATED:20220413T202726Z
LAST-MODIFIED:20220413T202726Z
UID:3477-1650650400-1650657600@lookyheregreenfield.com
SUMMARY:Drop In Handbuilding at Hope Street Clay 4/22/22
DESCRIPTION:A 2-hour open studio session for hand building with clay. The studio will provide clay\, tools\, glazes and firing. The sessions will not be instructed\, however\, assistance will be available. Beginners welcome! Hope Street Clay is located on the 1st floor of the Web building\, at 76 Hope Street in Greenfield.
URL:https://lookyheregreenfield.com/event/drop-in-handbuilding-at-hope-street-clay-4-22-22/
LOCATION:Hope Street Clay\, 76 Hope Street\, Greenfield\, MA\, 01301\, United States
CATEGORIES:Hope Street Clay
ORGANIZER;CN="Looky Here":MAILTO:lookyheregreenfield@gmail.com
END:VEVENT
END:VCALENDAR