BEGIN:VCALENDAR
VERSION:2.0
PRODID:-//Looky Here - ECPv6.15.20//NONSGML v1.0//EN
CALSCALE:GREGORIAN
METHOD:PUBLISH
X-WR-CALNAME:Looky Here
X-ORIGINAL-URL:https://lookyheregreenfield.com
X-WR-CALDESC:Events for Looky Here
REFRESH-INTERVAL;VALUE=DURATION:PT1H
X-Robots-Tag:noindex
X-PUBLISHED-TTL:PT1H
BEGIN:VTIMEZONE
TZID:America/New_York
BEGIN:DAYLIGHT
TZOFFSETFROM:-0500
TZOFFSETTO:-0400
TZNAME:EDT
DTSTART:20250309T070000
END:DAYLIGHT
BEGIN:STANDARD
TZOFFSETFROM:-0400
TZOFFSETTO:-0500
TZNAME:EST
DTSTART:20251102T060000
END:STANDARD
BEGIN:DAYLIGHT
TZOFFSETFROM:-0500
TZOFFSETTO:-0400
TZNAME:EDT
DTSTART:20260308T070000
END:DAYLIGHT
BEGIN:STANDARD
TZOFFSETFROM:-0400
TZOFFSETTO:-0500
TZNAME:EST
DTSTART:20261101T060000
END:STANDARD
BEGIN:DAYLIGHT
TZOFFSETFROM:-0500
TZOFFSETTO:-0400
TZNAME:EDT
DTSTART:20270314T070000
END:DAYLIGHT
BEGIN:STANDARD
TZOFFSETFROM:-0400
TZOFFSETTO:-0500
TZNAME:EST
DTSTART:20271107T060000
END:STANDARD
END:VTIMEZONE
BEGIN:VEVENT
DTSTART;TZID=America/New_York:20260428T154500
DTEND;TZID=America/New_York:20260428T164500
DTSTAMP:20260423T154317
CREATED:20260408T180031Z
LAST-MODIFIED:20260409T172209Z
UID:16329-1777391100-1777394700@lookyheregreenfield.com
SUMMARY:Art with Annaleah kids ages 5-10 (4/28-5/26) 3:45-4:45 pm\, $150)
DESCRIPTION:In art with Annaleah we will explore a variety of mediums such as drawing\, painting\, printmaking\, and sculpture. Come ready to get messy\, try new things\, and expand your artistic toolkit!
URL:https://lookyheregreenfield.com/event/art-with-annaleah-kids-ages-5-9-drop-in-4-28-345-445-pm-30/
CATEGORIES:kids,workshop
ATTACH;FMTTYPE=image/jpeg:https://lookyheregreenfield.com/wp-content/uploads/2026/03/image0-2026-03-05T161006.021.jpeg
END:VEVENT
END:VCALENDAR