BEGIN:VCALENDAR
VERSION:2.0
PRODID:-//Looky Here - ECPv6.15.20//NONSGML v1.0//EN
CALSCALE:GREGORIAN
METHOD:PUBLISH
X-WR-CALNAME:Looky Here
X-ORIGINAL-URL:https://lookyheregreenfield.com
X-WR-CALDESC:Events for Looky Here
REFRESH-INTERVAL;VALUE=DURATION:PT1H
X-Robots-Tag:noindex
X-PUBLISHED-TTL:PT1H
BEGIN:VTIMEZONE
TZID:America/New_York
BEGIN:DAYLIGHT
TZOFFSETFROM:-0500
TZOFFSETTO:-0400
TZNAME:EDT
DTSTART:20220313T070000
END:DAYLIGHT
BEGIN:STANDARD
TZOFFSETFROM:-0400
TZOFFSETTO:-0500
TZNAME:EST
DTSTART:20221106T060000
END:STANDARD
BEGIN:DAYLIGHT
TZOFFSETFROM:-0500
TZOFFSETTO:-0400
TZNAME:EDT
DTSTART:20230312T070000
END:DAYLIGHT
BEGIN:STANDARD
TZOFFSETFROM:-0400
TZOFFSETTO:-0500
TZNAME:EST
DTSTART:20231105T060000
END:STANDARD
BEGIN:DAYLIGHT
TZOFFSETFROM:-0500
TZOFFSETTO:-0400
TZNAME:EDT
DTSTART:20240310T070000
END:DAYLIGHT
BEGIN:STANDARD
TZOFFSETFROM:-0400
TZOFFSETTO:-0500
TZNAME:EST
DTSTART:20241103T060000
END:STANDARD
BEGIN:DAYLIGHT
TZOFFSETFROM:-0500
TZOFFSETTO:-0400
TZNAME:EDT
DTSTART:20250309T070000
END:DAYLIGHT
BEGIN:STANDARD
TZOFFSETFROM:-0400
TZOFFSETTO:-0500
TZNAME:EST
DTSTART:20251102T060000
END:STANDARD
BEGIN:DAYLIGHT
TZOFFSETFROM:-0500
TZOFFSETTO:-0400
TZNAME:EDT
DTSTART:20260308T070000
END:DAYLIGHT
BEGIN:STANDARD
TZOFFSETFROM:-0400
TZOFFSETTO:-0500
TZNAME:EST
DTSTART:20261101T060000
END:STANDARD
BEGIN:DAYLIGHT
TZOFFSETFROM:-0500
TZOFFSETTO:-0400
TZNAME:EDT
DTSTART:20270314T070000
END:DAYLIGHT
BEGIN:STANDARD
TZOFFSETFROM:-0400
TZOFFSETTO:-0500
TZNAME:EST
DTSTART:20271107T060000
END:STANDARD
END:VTIMEZONE
BEGIN:VEVENT
DTSTART;TZID=America/New_York:20260414T154500
DTEND;TZID=America/New_York:20260414T164500
DTSTAMP:20260424T110032
CREATED:20260408T175214Z
LAST-MODIFIED:20260409T172642Z
UID:16326-1776181500-1776185100@lookyheregreenfield.com
SUMMARY:Art with Annaleah kids ages 5-10 (4/14-5/26 no class 4/21\, 3:45-4:45 pm\, $180)
DESCRIPTION:In art with Annaleah we will explore a variety of mediums such as drawing\, painting\, printmaking\, and sculpture. Come ready to get messy\, try new things\, and expand your artistic toolkit!
URL:https://lookyheregreenfield.com/event/art-with-annaleah-kids-ages-5-9-drop-in-4-14-345-445-pm-30/
CATEGORIES:kids,workshop
ATTACH;FMTTYPE=image/jpeg:https://lookyheregreenfield.com/wp-content/uploads/2026/03/image0-2026-03-05T161006.021.jpeg
END:VEVENT
BEGIN:VEVENT
DTSTART;TZID=America/New_York:20260407T154500
DTEND;TZID=America/New_York:20260407T164500
DTSTAMP:20260424T110032
CREATED:20260304T193722Z
LAST-MODIFIED:20260408T174449Z
UID:15880-1775576700-1775580300@lookyheregreenfield.com
SUMMARY:Art with Annaleah kids ages 5-9 (7 weeks\, 4/7-5/26\, 3:45-4:45 pm\, $210)
DESCRIPTION:In art with Annaleah we will explore a variety of mediums such as drawing\, painting\, printmaking\, and sculpture. Come ready to get messy\, try new things\, and expand your artistic toolkit! \n7 weeks\, ages 5-9 \n$210\nno class 4/21
URL:https://lookyheregreenfield.com/event/art-with-annaleigh-kids-ages-5-9-7-weeks-4-7-5-26-345-445p-m-210/
CATEGORIES:kids,workshop
ATTACH;FMTTYPE=image/jpeg:https://lookyheregreenfield.com/wp-content/uploads/2026/03/image0-2026-03-05T161006.021.jpeg
END:VEVENT
BEGIN:VEVENT
DTSTART;TZID=America/New_York:20250810T120000
DTEND;TZID=America/New_York:20250810T150000
DTSTAMP:20260424T110032
CREATED:20250530T200720Z
LAST-MODIFIED:20250530T200722Z
UID:12029-1754827200-1754838000@lookyheregreenfield.com
SUMMARY:Fairy House Building (8/10 free!)
DESCRIPTION:Come join in the preparation for this year’s Fairy House Day on Avenue A in Turners Falls taking place Saturday August 16th at Peskeompskut Park!\nOn the weekends leading up to the big event\, we will have drop-in fairy house building at Looky Here. Feel free to bring your own moss\, leaves\, sticks\, rocks\, seashells\, pinecones\, ect.!!
URL:https://lookyheregreenfield.com/event/fairy-house-building-8-10-free/
CATEGORIES:kids,lovelights,workshop
ATTACH;FMTTYPE=image/jpeg:https://lookyheregreenfield.com/wp-content/uploads/2025/05/Screen-Shot-2025-05-30-at-3.57.06-PM.jpg
END:VEVENT
BEGIN:VEVENT
DTSTART;TZID=America/New_York:20230902T130000
DTEND;TZID=America/New_York:20230902T160000
DTSTAMP:20260424T110032
CREATED:20230720T143844Z
LAST-MODIFIED:20230809T171645Z
UID:5987-1693659600-1693670400@lookyheregreenfield.com
SUMMARY:The Lovelights Present: A Mermaid Wedding! Fairy House Day on Avenue A
DESCRIPTION:Seaweed Monsters\, Niaids\, Dryads\, Pirates and Fairy Queens of All Ages are invited to the Magical\, Mystical Wedding of Merfolk to take place at Peskeumskut Park on Saturday\, September 2nd from 1-4pm.\n\nAttendants are encouraged to dress “Magical Formal” for this special occasion. Wings\, tails\, horns\, beaks and antenna are all welcome. Expect wedding cake\, a photo booth\, a butterfly release\, fairy house making supplies and live original music by the talented Wednesday Knudsen \, Kryssi B and Madden Aleia! All are invited to participate in the annual “Prettiest Picnic Contest” with prizes! And all will be entered in a drawing to win the Ultimate Lovelights Boxset! Plus a Cameo in our next episode!\n\nThe Lovelights is a comic series\, a performance group and a Children’s T.V. show produced by Montague Community Television and Looky Here. This will be the 4th annual Fairy House day to take place!\nParticipation in Fairy House day is free and welcome to all! Fairy house day is supported by Riverculture and the Massachussetts Cultural Council. If you love Fairy House Day\, please consider making a donation to Looky Here with the note “Lovelights” to contribute to next year’s event! Donations can be made via Paypal to Lookyheregreenfield.com\, Venmo @L00ky_here or a check made out to Looky Here can be mailed to our storefront at 28 Chapman street in Greenfield MA 01301.\nCheers to the happy couple!!\n\nEN EL ESPAÑOL…\nMonstruos de algas\, náyades\, dríadas\, piratas y reinas de hadas de todos los edades están invitados a la boda mágica y mística de sirenes que tendrá lugar en el Parque de Peskeompskut el sábado 2 de septiembre de las 13:00 hasta las 16:00.\n\nSe animan a los asistentes a vestirse formal y mágico para esta ocasión especial. Las alas\, colas\, antenas\, y los picos\, y cuernos son bienvenidos. ¡Espera un pastel de bodas\, una cabina de fotos\, un lanzamiento de mariposas\, los materiales para hacer una casa de hadas\, y música original en vivo de las talentosas Wednesday Knudsen\, Kryssi B y Madden Aleia! ¡Todos están invitados a participar en el “Concurso anual del picnic más bonito” con premios! ¡Y todos entrarán en un sorteo para ganar el Ulimate Lovelights Boxset! ¡Además de un cameo en nuestro próximo episodio! \n\nThe Lovelights es una serie cómica\, un grupo de actuación y un programa de television para niños producido por Montague Community Television y Looky Here. ¡Este será el cuarto Fairy House Day que tendrá lugar! ¡La participación en el Fairy House Day es gratuita y bienvenida a todos.\n\nEl Fairy House Day cuenta con el apoyo de Riverculture y el Massachusetts Cultural Council. Si te encanta el Fairy House Day\, considera hacer una donación a Looky Here con la nota “Lovelights” para contribuir al evento del próximo año. Las donaciones se pueden hacer a través de Paypal a Lookyheregreenfield.com\, Venmo @L00ky_here o se puede enviar un cheque a nombre de Looky Here a nuestra tienda en 28 Chapman street en Greenfield MA 01301. ¡¡Saludos a la feliz pareja!!
URL:https://lookyheregreenfield.com/event/the-lovelights-present-a-mermaid-wedding-fairy-house-day-on-avenue-a/
CATEGORIES:kids,lovelights
ATTACH;FMTTYPE=image/jpeg:https://lookyheregreenfield.com/wp-content/uploads/2023/07/IMG_1326-e1691599195374.jpg
END:VEVENT
BEGIN:VEVENT
DTSTART;TZID=America/New_York:20230825T103000
DTEND;TZID=America/New_York:20230825T233000
DTSTAMP:20260424T110032
CREATED:20230504T183407Z
LAST-MODIFIED:20230504T183434Z
UID:5569-1692959400-1693006200@lookyheregreenfield.com
SUMMARY:Lil ones at Looky
DESCRIPTION:10-15 donation
URL:https://lookyheregreenfield.com/event/lil-ones-at-looky-18/
CATEGORIES:kids
END:VEVENT
BEGIN:VEVENT
DTSTART;TZID=America/New_York:20230818T103000
DTEND;TZID=America/New_York:20230818T113000
DTSTAMP:20260424T110032
CREATED:20230504T183332Z
LAST-MODIFIED:20230504T183358Z
UID:5567-1692354600-1692358200@lookyheregreenfield.com
SUMMARY:Lil ones at Looky
DESCRIPTION:10-15 donation
URL:https://lookyheregreenfield.com/event/lil-ones-at-looky-17/
CATEGORIES:kids
END:VEVENT
BEGIN:VEVENT
DTSTART;TZID=America/New_York:20230811T103000
DTEND;TZID=America/New_York:20230811T233000
DTSTAMP:20260424T110032
CREATED:20230504T183254Z
LAST-MODIFIED:20230504T183324Z
UID:5565-1691749800-1691796600@lookyheregreenfield.com
SUMMARY:Lil ones at Looky
DESCRIPTION:10-15 donation
URL:https://lookyheregreenfield.com/event/lil-ones-at-looky-16/
CATEGORIES:kids
END:VEVENT
BEGIN:VEVENT
DTSTART;TZID=America/New_York:20230804T103000
DTEND;TZID=America/New_York:20230804T113000
DTSTAMP:20260424T110032
CREATED:20230504T183218Z
LAST-MODIFIED:20230504T183245Z
UID:5563-1691145000-1691148600@lookyheregreenfield.com
SUMMARY:Lil ones at Looky
DESCRIPTION:10-15 donation
URL:https://lookyheregreenfield.com/event/lil-ones-at-looky-15/
CATEGORIES:kids
END:VEVENT
BEGIN:VEVENT
DTSTART;TZID=America/New_York:20230728T103000
DTEND;TZID=America/New_York:20230728T233000
DTSTAMP:20260424T110032
CREATED:20230504T183134Z
LAST-MODIFIED:20230504T183202Z
UID:5561-1690540200-1690587000@lookyheregreenfield.com
SUMMARY:Lil ones at Looky
DESCRIPTION:10-15 donation
URL:https://lookyheregreenfield.com/event/lil-ones-at-looky-14/
CATEGORIES:kids
END:VEVENT
BEGIN:VEVENT
DTSTART;TZID=America/New_York:20230721T103000
DTEND;TZID=America/New_York:20230721T113000
DTSTAMP:20260424T110032
CREATED:20230504T183103Z
LAST-MODIFIED:20230504T183127Z
UID:5559-1689935400-1689939000@lookyheregreenfield.com
SUMMARY:Lil ones at Looky
DESCRIPTION:10-15 donation
URL:https://lookyheregreenfield.com/event/lil-ones-at-looky-13/
CATEGORIES:kids
END:VEVENT
BEGIN:VEVENT
DTSTART;TZID=America/New_York:20230714T103000
DTEND;TZID=America/New_York:20230714T113000
DTSTAMP:20260424T110032
CREATED:20230504T183029Z
LAST-MODIFIED:20230504T183057Z
UID:5557-1689330600-1689334200@lookyheregreenfield.com
SUMMARY:Lil ones at Looky
DESCRIPTION:10-15 donation
URL:https://lookyheregreenfield.com/event/lil-ones-at-looky-12/
CATEGORIES:kids
END:VEVENT
BEGIN:VEVENT
DTSTART;TZID=America/New_York:20230712T140000
DTEND;TZID=America/New_York:20230712T160000
DTSTAMP:20260424T110032
CREATED:20230505T143629Z
LAST-MODIFIED:20230505T143720Z
UID:5663-1689170400-1689177600@lookyheregreenfield.com
SUMMARY:Drawing into Painting for Teens
DESCRIPTION:Tickets and info in week 1!
URL:https://lookyheregreenfield.com/event/drawing-into-painting-for-teens-2/
CATEGORIES:kids,workshop
ATTACH;FMTTYPE=image/jpeg:https://lookyheregreenfield.com/wp-content/uploads/2023/05/7514D71F-CB31-44B1-A198-4ABFA0377197.jpeg
END:VEVENT
BEGIN:VEVENT
DTSTART;TZID=America/New_York:20230707T103000
DTEND;TZID=America/New_York:20230707T113000
DTSTAMP:20260424T110032
CREATED:20230504T182941Z
LAST-MODIFIED:20230504T183020Z
UID:5555-1688725800-1688729400@lookyheregreenfield.com
SUMMARY:Lil ones at Looky
DESCRIPTION:10-15 donation
URL:https://lookyheregreenfield.com/event/lil-ones-at-looky-11/
CATEGORIES:kids
END:VEVENT
BEGIN:VEVENT
DTSTART;TZID=America/New_York:20230705T140000
DTEND;TZID=America/New_York:20230705T160000
DTSTAMP:20260424T110032
CREATED:20230505T142231Z
LAST-MODIFIED:20230630T204224Z
UID:5659-1688565600-1688572800@lookyheregreenfield.com
SUMMARY:Drawing into Painting for Teens
DESCRIPTION:In this 4 class series\, teens will learn the basics of drawing from observation with a variety of materials and mediums including pencil\, charcoal and paint. The course will run Wednesdays through July 2-4pm at Looky Here. The class is limited to students ages 14-17. \nAbout the instructor: Loren Burke is an artist from New England. Loren spent the last decade as a member of the art collective Flaming Dragons of Middle Earth.
URL:https://lookyheregreenfield.com/event/drawing-into-painting-for-teens/
CATEGORIES:kids,workshop
ATTACH;FMTTYPE=image/jpeg:https://lookyheregreenfield.com/wp-content/uploads/2023/05/7514D71F-CB31-44B1-A198-4ABFA0377197.jpeg
END:VEVENT
BEGIN:VEVENT
DTSTART;TZID=America/New_York:20230630T103000
DTEND;TZID=America/New_York:20230630T113000
DTSTAMP:20260424T110032
CREATED:20230504T182854Z
LAST-MODIFIED:20230504T182928Z
UID:5553-1688121000-1688124600@lookyheregreenfield.com
SUMMARY:Lil ones at Looky
DESCRIPTION:10-15 donation
URL:https://lookyheregreenfield.com/event/lil-ones-at-looky-10/
CATEGORIES:kids
END:VEVENT
BEGIN:VEVENT
DTSTART;TZID=America/New_York:20230623T103000
DTEND;TZID=America/New_York:20230623T113000
DTSTAMP:20260424T110032
CREATED:20230504T182806Z
LAST-MODIFIED:20230504T182836Z
UID:5551-1687516200-1687519800@lookyheregreenfield.com
SUMMARY:Lil ones at Looky
DESCRIPTION:10-15 donation
URL:https://lookyheregreenfield.com/event/lil-ones-at-looky-9/
CATEGORIES:kids
END:VEVENT
BEGIN:VEVENT
DTSTART;TZID=America/New_York:20230616T103000
DTEND;TZID=America/New_York:20230616T113000
DTSTAMP:20260424T110032
CREATED:20230504T182729Z
LAST-MODIFIED:20230504T182753Z
UID:5549-1686911400-1686915000@lookyheregreenfield.com
SUMMARY:Lil ones at Looky
DESCRIPTION:10-15 donation
URL:https://lookyheregreenfield.com/event/lil-ones-at-looky-8/
CATEGORIES:kids
END:VEVENT
BEGIN:VEVENT
DTSTART;TZID=America/New_York:20230609T103000
DTEND;TZID=America/New_York:20230609T233000
DTSTAMP:20260424T110032
CREATED:20230504T182653Z
LAST-MODIFIED:20230504T182720Z
UID:5547-1686306600-1686353400@lookyheregreenfield.com
SUMMARY:Lil ones at Looky
DESCRIPTION:10-15 donation
URL:https://lookyheregreenfield.com/event/lil-ones-at-looky-7/
CATEGORIES:kids
END:VEVENT
BEGIN:VEVENT
DTSTART;TZID=America/New_York:20230602T103000
DTEND;TZID=America/New_York:20230602T230000
DTSTAMP:20260424T110032
CREATED:20230504T182601Z
LAST-MODIFIED:20230504T182643Z
UID:5545-1685701800-1685746800@lookyheregreenfield.com
SUMMARY:Lil ones at Looky
DESCRIPTION:10-15 donation
URL:https://lookyheregreenfield.com/event/lil-ones-at-looky-6/
CATEGORIES:kids
END:VEVENT
BEGIN:VEVENT
DTSTART;TZID=America/New_York:20230526T153000
DTEND;TZID=America/New_York:20230526T163000
DTSTAMP:20260424T110032
CREATED:20230503T192313Z
LAST-MODIFIED:20230503T192526Z
UID:5500-1685115000-1685118600@lookyheregreenfield.com
SUMMARY:Kids craft club 5/26
DESCRIPTION:Flower pressing!
URL:https://lookyheregreenfield.com/event/kids-craft-club-5-26/
CATEGORIES:kids,workshop
ATTACH;FMTTYPE=image/jpeg:https://lookyheregreenfield.com/wp-content/uploads/2023/04/kids-craftNEW.jpg
END:VEVENT
BEGIN:VEVENT
DTSTART;TZID=America/New_York:20230512T153000
DTEND;TZID=America/New_York:20230512T163000
DTSTAMP:20260424T110032
CREATED:20230503T192056Z
LAST-MODIFIED:20230503T192305Z
UID:5497-1683905400-1683909000@lookyheregreenfield.com
SUMMARY:Kids craft club
DESCRIPTION:Cardboard dream house !
URL:https://lookyheregreenfield.com/event/kids-craft-club-2/
CATEGORIES:kids,workshop
ATTACH;FMTTYPE=image/jpeg:https://lookyheregreenfield.com/wp-content/uploads/2023/04/kids-craftNEW.jpg
END:VEVENT
BEGIN:VEVENT
DTSTART;TZID=America/New_York:20230428T153000
DTEND;TZID=America/New_York:20230428T163000
DTSTAMP:20260424T110032
CREATED:20230427T182032Z
LAST-MODIFIED:20230427T190859Z
UID:5432-1682695800-1682699400@lookyheregreenfield.com
SUMMARY:KIDS CRAFT CLUB! 4/28
DESCRIPTION:SHADOW DRAWING
URL:https://lookyheregreenfield.com/event/kids-craft-club-4-28/
CATEGORIES:kids
ATTACH;FMTTYPE=image/jpeg:https://lookyheregreenfield.com/wp-content/uploads/2023/04/kids-craftNEW.jpg
END:VEVENT
BEGIN:VEVENT
DTSTART;TZID=America/New_York:20230414T080000
DTEND;TZID=America/New_York:20230414T170000
DTSTAMP:20260424T110032
CREATED:20230331T204836Z
LAST-MODIFIED:20230404T195319Z
UID:5321-1681459200-1681491600@lookyheregreenfield.com
SUMMARY:Kids Craft Club 4/14
DESCRIPTION:
URL:https://lookyheregreenfield.com/event/kids-craft-club-4-14/
CATEGORIES:kids,workshop
ATTACH;FMTTYPE=image/jpeg:https://lookyheregreenfield.com/wp-content/uploads/2022/10/kids-craftNEW.jpg
END:VEVENT
BEGIN:VEVENT
DTSTART;TZID=America/New_York:20230331T153000
DTEND;TZID=America/New_York:20230331T163000
DTSTAMP:20260424T110032
CREATED:20230102T215216Z
LAST-MODIFIED:20230102T215216Z
UID:4657-1680276600-1680280200@lookyheregreenfield.com
SUMMARY:Kids Craft Club 3/31/23
DESCRIPTION:Paint a portrait!
URL:https://lookyheregreenfield.com/event/kids-craft-club-3-31-23/
CATEGORIES:kids,workshop
ATTACH;FMTTYPE=image/jpeg:https://lookyheregreenfield.com/wp-content/uploads/2022/10/kids-craftNEW.jpg
END:VEVENT
BEGIN:VEVENT
DTSTART;TZID=America/New_York:20230317T153000
DTEND;TZID=America/New_York:20230317T163000
DTSTAMP:20260424T110032
CREATED:20230102T215012Z
LAST-MODIFIED:20230102T215012Z
UID:4654-1679067000-1679070600@lookyheregreenfield.com
SUMMARY:Kids Craft Club 3/17/23
DESCRIPTION:popsicle stick houses!
URL:https://lookyheregreenfield.com/event/kids-craft-club-3-17-23/
CATEGORIES:kids,workshop
ATTACH;FMTTYPE=image/jpeg:https://lookyheregreenfield.com/wp-content/uploads/2022/10/kids-craftNEW.jpg
END:VEVENT
BEGIN:VEVENT
DTSTART;TZID=America/New_York:20230303T153000
DTEND;TZID=America/New_York:20230303T163000
DTSTAMP:20260424T110032
CREATED:20230102T214258Z
LAST-MODIFIED:20230102T214258Z
UID:4649-1677857400-1677861000@lookyheregreenfield.com
SUMMARY:Kids Craft Club 3/3/23
DESCRIPTION:Embroidery!
URL:https://lookyheregreenfield.com/event/kids-craft-club-3-3-23/
CATEGORIES:kids,workshop
ATTACH;FMTTYPE=image/jpeg:https://lookyheregreenfield.com/wp-content/uploads/2022/10/kids-craftNEW.jpg
END:VEVENT
BEGIN:VEVENT
DTSTART;TZID=America/New_York:20230217T153000
DTEND;TZID=America/New_York:20230217T163000
DTSTAMP:20260424T110032
CREATED:20230102T213453Z
LAST-MODIFIED:20230214T163901Z
UID:4644-1676647800-1676651400@lookyheregreenfield.com
SUMMARY:Kids Craft Club 2/17/23
DESCRIPTION:Needle Felting!
URL:https://lookyheregreenfield.com/event/kids-craft-club-2-17-23/
CATEGORIES:kids,workshop
ATTACH;FMTTYPE=image/jpeg:https://lookyheregreenfield.com/wp-content/uploads/2022/10/kids-craftNEW.jpg
END:VEVENT
BEGIN:VEVENT
DTSTART;TZID=America/New_York:20230203T153000
DTEND;TZID=America/New_York:20230203T163000
DTSTAMP:20260424T110032
CREATED:20230102T213233Z
LAST-MODIFIED:20230102T213233Z
UID:4641-1675438200-1675441800@lookyheregreenfield.com
SUMMARY:Kids Craft Club 2/3/23
DESCRIPTION:Make a Painting! \nPractice with Still Life
URL:https://lookyheregreenfield.com/event/kids-craft-club-2-3-23/
CATEGORIES:kids,workshop
ATTACH;FMTTYPE=image/jpeg:https://lookyheregreenfield.com/wp-content/uploads/2022/10/kids-craftNEW.jpg
END:VEVENT
BEGIN:VEVENT
DTSTART;TZID=America/New_York:20230120T153000
DTEND;TZID=America/New_York:20230120T163000
DTSTAMP:20260424T110032
CREATED:20230102T212455Z
LAST-MODIFIED:20230102T212455Z
UID:4634-1674228600-1674232200@lookyheregreenfield.com
SUMMARY:Kids Craft Club 1/20/23
DESCRIPTION:Draw a picture! \nPractice with still life
URL:https://lookyheregreenfield.com/event/kids-craft-club-1-20-23/
CATEGORIES:kids,workshop
END:VEVENT
BEGIN:VEVENT
DTSTART;TZID=America/New_York:20230106T153000
DTEND;TZID=America/New_York:20230106T163000
DTSTAMP:20260424T110032
CREATED:20221229T230421Z
LAST-MODIFIED:20230102T212124Z
UID:4612-1673019000-1673022600@lookyheregreenfield.com
SUMMARY:Kids Craft Club
DESCRIPTION:We will be carving and printing with potato stamps!!
URL:https://lookyheregreenfield.com/event/kids-craft-club/
CATEGORIES:kids,workshop
ATTACH;FMTTYPE=image/jpeg:https://lookyheregreenfield.com/wp-content/uploads/2022/10/kids-craftNEW.jpg
END:VEVENT
END:VCALENDAR