BEGIN:VCALENDAR
VERSION:2.0
PRODID:-//Looky Here - ECPv6.15.20//NONSGML v1.0//EN
CALSCALE:GREGORIAN
METHOD:PUBLISH
X-WR-CALNAME:Looky Here
X-ORIGINAL-URL:https://lookyheregreenfield.com
X-WR-CALDESC:Events for Looky Here
REFRESH-INTERVAL;VALUE=DURATION:PT1H
X-Robots-Tag:noindex
X-PUBLISHED-TTL:PT1H
BEGIN:VTIMEZONE
TZID:America/New_York
BEGIN:DAYLIGHT
TZOFFSETFROM:-0500
TZOFFSETTO:-0400
TZNAME:EDT
DTSTART:20220313T070000
END:DAYLIGHT
BEGIN:STANDARD
TZOFFSETFROM:-0400
TZOFFSETTO:-0500
TZNAME:EST
DTSTART:20221106T060000
END:STANDARD
BEGIN:DAYLIGHT
TZOFFSETFROM:-0500
TZOFFSETTO:-0400
TZNAME:EDT
DTSTART:20230312T070000
END:DAYLIGHT
BEGIN:STANDARD
TZOFFSETFROM:-0400
TZOFFSETTO:-0500
TZNAME:EST
DTSTART:20231105T060000
END:STANDARD
BEGIN:DAYLIGHT
TZOFFSETFROM:-0500
TZOFFSETTO:-0400
TZNAME:EDT
DTSTART:20240310T070000
END:DAYLIGHT
BEGIN:STANDARD
TZOFFSETFROM:-0400
TZOFFSETTO:-0500
TZNAME:EST
DTSTART:20241103T060000
END:STANDARD
BEGIN:DAYLIGHT
TZOFFSETFROM:-0500
TZOFFSETTO:-0400
TZNAME:EDT
DTSTART:20250309T070000
END:DAYLIGHT
BEGIN:STANDARD
TZOFFSETFROM:-0400
TZOFFSETTO:-0500
TZNAME:EST
DTSTART:20251102T060000
END:STANDARD
BEGIN:DAYLIGHT
TZOFFSETFROM:-0500
TZOFFSETTO:-0400
TZNAME:EDT
DTSTART:20260308T070000
END:DAYLIGHT
BEGIN:STANDARD
TZOFFSETFROM:-0400
TZOFFSETTO:-0500
TZNAME:EST
DTSTART:20261101T060000
END:STANDARD
END:VTIMEZONE
BEGIN:VEVENT
DTSTART;TZID=America/New_York:20250810T120000
DTEND;TZID=America/New_York:20250810T150000
DTSTAMP:20260424T053804
CREATED:20250530T200720Z
LAST-MODIFIED:20250530T200722Z
UID:12029-1754827200-1754838000@lookyheregreenfield.com
SUMMARY:Fairy House Building (8/10 free!)
DESCRIPTION:Come join in the preparation for this year’s Fairy House Day on Avenue A in Turners Falls taking place Saturday August 16th at Peskeompskut Park!\nOn the weekends leading up to the big event\, we will have drop-in fairy house building at Looky Here. Feel free to bring your own moss\, leaves\, sticks\, rocks\, seashells\, pinecones\, ect.!!
URL:https://lookyheregreenfield.com/event/fairy-house-building-8-10-free/
CATEGORIES:kids,lovelights,workshop
ATTACH;FMTTYPE=image/jpeg:https://lookyheregreenfield.com/wp-content/uploads/2025/05/Screen-Shot-2025-05-30-at-3.57.06-PM.jpg
END:VEVENT
BEGIN:VEVENT
DTSTART;TZID=America/New_York:20250803T120000
DTEND;TZID=America/New_York:20250803T150000
DTSTAMP:20260424T053804
CREATED:20250530T200603Z
LAST-MODIFIED:20250530T200604Z
UID:12026-1754222400-1754233200@lookyheregreenfield.com
SUMMARY:Fairy House Building (8/3 free!)
DESCRIPTION:Come join in the preparation for this year’s Fairy House Day on Avenue A in Turners Falls taking place Saturday August 16th at Peskeompskut Park!\nOn the weekends leading up to the big event\, we will have drop-in fairy house building at Looky Here. Feel free to bring your own moss\, leaves\, sticks\, rocks\, seashells\, pinecones\, ect.!!
URL:https://lookyheregreenfield.com/event/fairy-house-building-8-3-free/
CATEGORIES:lovelights,workshop
ATTACH;FMTTYPE=image/jpeg:https://lookyheregreenfield.com/wp-content/uploads/2025/05/Screen-Shot-2025-05-30-at-3.57.06-PM.jpg
END:VEVENT
BEGIN:VEVENT
DTSTART;TZID=America/New_York:20250727T120000
DTEND;TZID=America/New_York:20250727T150000
DTSTAMP:20260424T053804
CREATED:20250530T200425Z
LAST-MODIFIED:20250530T200426Z
UID:12024-1753617600-1753628400@lookyheregreenfield.com
SUMMARY:Fairy House Building (7/27 free!)
DESCRIPTION:Come join in the preparation for this year’s Fairy House Day on Avenue A in Turners Falls taking place Saturday August 16th at Peskeompskut Park!\nOn the weekends leading up to the big event\, we will have drop-in fairy house building at Looky Here. Feel free to bring your own moss\, leaves\, sticks\, rocks\, seashells\, pine cones\, ect.!!
URL:https://lookyheregreenfield.com/event/fairy-house-building-7-27-free/
CATEGORIES:lovelights,workshop
ATTACH;FMTTYPE=image/jpeg:https://lookyheregreenfield.com/wp-content/uploads/2025/05/Screen-Shot-2025-05-30-at-3.57.06-PM.jpg
END:VEVENT
BEGIN:VEVENT
DTSTART;TZID=America/New_York:20250720T120000
DTEND;TZID=America/New_York:20250720T150000
DTSTAMP:20260424T053804
CREATED:20250530T200121Z
LAST-MODIFIED:20250530T200123Z
UID:12021-1753012800-1753023600@lookyheregreenfield.com
SUMMARY:Fairy House Building (7/20 free!)
DESCRIPTION:Come join in the preparation for this year’s Fairy House Day on Avenue A in Turners Falls taking place Saturday August 16th at Peskeompskut Park!\nOn the weekends leading up to the big event\, we will have drop-in fairy house building at Looky Here. Feel free to bring your own moss\, leaves\, sticks\, rocks\, seashells\, pinecones\, ect.!!
URL:https://lookyheregreenfield.com/event/fairy-house-building-7-20-free/
CATEGORIES:lovelights,workshop
ATTACH;FMTTYPE=image/jpeg:https://lookyheregreenfield.com/wp-content/uploads/2025/05/Screen-Shot-2025-05-30-at-3.57.06-PM.jpg
END:VEVENT
BEGIN:VEVENT
DTSTART;TZID=America/New_York:20230902T130000
DTEND;TZID=America/New_York:20230902T160000
DTSTAMP:20260424T053804
CREATED:20230720T143844Z
LAST-MODIFIED:20230809T171645Z
UID:5987-1693659600-1693670400@lookyheregreenfield.com
SUMMARY:The Lovelights Present: A Mermaid Wedding! Fairy House Day on Avenue A
DESCRIPTION:Seaweed Monsters\, Niaids\, Dryads\, Pirates and Fairy Queens of All Ages are invited to the Magical\, Mystical Wedding of Merfolk to take place at Peskeumskut Park on Saturday\, September 2nd from 1-4pm.\n\nAttendants are encouraged to dress “Magical Formal” for this special occasion. Wings\, tails\, horns\, beaks and antenna are all welcome. Expect wedding cake\, a photo booth\, a butterfly release\, fairy house making supplies and live original music by the talented Wednesday Knudsen \, Kryssi B and Madden Aleia! All are invited to participate in the annual “Prettiest Picnic Contest” with prizes! And all will be entered in a drawing to win the Ultimate Lovelights Boxset! Plus a Cameo in our next episode!\n\nThe Lovelights is a comic series\, a performance group and a Children’s T.V. show produced by Montague Community Television and Looky Here. This will be the 4th annual Fairy House day to take place!\nParticipation in Fairy House day is free and welcome to all! Fairy house day is supported by Riverculture and the Massachussetts Cultural Council. If you love Fairy House Day\, please consider making a donation to Looky Here with the note “Lovelights” to contribute to next year’s event! Donations can be made via Paypal to Lookyheregreenfield.com\, Venmo @L00ky_here or a check made out to Looky Here can be mailed to our storefront at 28 Chapman street in Greenfield MA 01301.\nCheers to the happy couple!!\n\nEN EL ESPAÑOL…\nMonstruos de algas\, náyades\, dríadas\, piratas y reinas de hadas de todos los edades están invitados a la boda mágica y mística de sirenes que tendrá lugar en el Parque de Peskeompskut el sábado 2 de septiembre de las 13:00 hasta las 16:00.\n\nSe animan a los asistentes a vestirse formal y mágico para esta ocasión especial. Las alas\, colas\, antenas\, y los picos\, y cuernos son bienvenidos. ¡Espera un pastel de bodas\, una cabina de fotos\, un lanzamiento de mariposas\, los materiales para hacer una casa de hadas\, y música original en vivo de las talentosas Wednesday Knudsen\, Kryssi B y Madden Aleia! ¡Todos están invitados a participar en el “Concurso anual del picnic más bonito” con premios! ¡Y todos entrarán en un sorteo para ganar el Ulimate Lovelights Boxset! ¡Además de un cameo en nuestro próximo episodio! \n\nThe Lovelights es una serie cómica\, un grupo de actuación y un programa de television para niños producido por Montague Community Television y Looky Here. ¡Este será el cuarto Fairy House Day que tendrá lugar! ¡La participación en el Fairy House Day es gratuita y bienvenida a todos.\n\nEl Fairy House Day cuenta con el apoyo de Riverculture y el Massachusetts Cultural Council. Si te encanta el Fairy House Day\, considera hacer una donación a Looky Here con la nota “Lovelights” para contribuir al evento del próximo año. Las donaciones se pueden hacer a través de Paypal a Lookyheregreenfield.com\, Venmo @L00ky_here o se puede enviar un cheque a nombre de Looky Here a nuestra tienda en 28 Chapman street en Greenfield MA 01301. ¡¡Saludos a la feliz pareja!!
URL:https://lookyheregreenfield.com/event/the-lovelights-present-a-mermaid-wedding-fairy-house-day-on-avenue-a/
CATEGORIES:kids,lovelights
ATTACH;FMTTYPE=image/jpeg:https://lookyheregreenfield.com/wp-content/uploads/2023/07/IMG_1326-e1691599195374.jpg
END:VEVENT
BEGIN:VEVENT
DTSTART;TZID=America/New_York:20230803T200000
DTEND;TZID=America/New_York:20230803T200000
DTSTAMP:20260424T053804
CREATED:20230720T142958Z
LAST-MODIFIED:20230720T142958Z
UID:5983-1691092800-1691092800@lookyheregreenfield.com
SUMMARY:Mermaid Bachelorette Party at 10Forward! : Fundraiser for Fairy House Day
DESCRIPTION:The Mermaids are getting hitched at Peskeomskut Park on Fairy House Day\, September 2\, 2023 and we need to make sure it is a night to remember ! Fairy House day is a free anual family friendly fairy festival in Tuners Falls\, presented by The Lovelights. This Fairy House Day fundraiser is for the adults and will be held at 10Forward on Thursday August 3 at 8pm! We will have raffles\, games\, dancing\, prizes and bubbles! Costumes are strongly encouraged and prizes will be awarded to the best dressed. Dress code: Magical Club Wear \n 
URL:https://lookyheregreenfield.com/event/mermaid-bachelorette-party-at-10forward-fundraiser-for-fairy-house-day/
CATEGORIES:10 forward,lovelights
ATTACH;FMTTYPE=image/jpeg:https://lookyheregreenfield.com/wp-content/uploads/2023/07/Screen-Shot-2023-07-20-at-10.15.29-AM.jpg
END:VEVENT
END:VCALENDAR