BEGIN:VCALENDAR
VERSION:2.0
PRODID:-//Looky Here - ECPv6.15.20//NONSGML v1.0//EN
CALSCALE:GREGORIAN
METHOD:PUBLISH
X-ORIGINAL-URL:https://lookyheregreenfield.com
X-WR-CALDESC:Events for Looky Here
REFRESH-INTERVAL;VALUE=DURATION:PT1H
X-Robots-Tag:noindex
X-PUBLISHED-TTL:PT1H
BEGIN:VTIMEZONE
TZID:America/New_York
BEGIN:DAYLIGHT
TZOFFSETFROM:-0500
TZOFFSETTO:-0400
TZNAME:EDT
DTSTART:20230312T070000
END:DAYLIGHT
BEGIN:STANDARD
TZOFFSETFROM:-0400
TZOFFSETTO:-0500
TZNAME:EST
DTSTART:20231105T060000
END:STANDARD
BEGIN:DAYLIGHT
TZOFFSETFROM:-0500
TZOFFSETTO:-0400
TZNAME:EDT
DTSTART:20240310T070000
END:DAYLIGHT
BEGIN:STANDARD
TZOFFSETFROM:-0400
TZOFFSETTO:-0500
TZNAME:EST
DTSTART:20241103T060000
END:STANDARD
BEGIN:DAYLIGHT
TZOFFSETFROM:-0500
TZOFFSETTO:-0400
TZNAME:EDT
DTSTART:20250309T070000
END:DAYLIGHT
BEGIN:STANDARD
TZOFFSETFROM:-0400
TZOFFSETTO:-0500
TZNAME:EST
DTSTART:20251102T060000
END:STANDARD
END:VTIMEZONE
BEGIN:VEVENT
DTSTART;TZID=America/New_York:20241206T110000
DTEND;TZID=America/New_York:20241208T200000
DTSTAMP:20260425T091718
CREATED:20241121T185058Z
LAST-MODIFIED:20241121T193822Z
UID:9824-1733482800-1733688000@lookyheregreenfield.com
SUMMARY:Greenfield Holiday Market Pop-Up at The Pushkin
DESCRIPTION:Come celebrate the holiday season with a collection of some of the best makers\, craftspeople\, and artists in The Valley! Greenfield’s yearly Holiday Pop Up Market returns for a weekend of local shopping\, small business support\, and holiday fun! \nLooky Here will be tabling all 3 days and will be joined by Mrs Claus! \nFriday December 6th\, 4:00 – 8:00 PM \nSaturday December 7th\, 11:00 – 6:00 PM \nSunday December 8th\, 11:00 – 3:00 PM \nIn The Pushkin Gallery
URL:https://lookyheregreenfield.com/event/greenfield-holiday-market-pop-up-at-the-pushkin/
LOCATION:Pushkin Building
CATEGORIES:Events,market
END:VEVENT
END:VCALENDAR