BEGIN:VCALENDAR
VERSION:2.0
PRODID:-//Looky Here - ECPv6.15.20//NONSGML v1.0//EN
CALSCALE:GREGORIAN
METHOD:PUBLISH
X-WR-CALNAME:Looky Here
X-ORIGINAL-URL:https://lookyheregreenfield.com
X-WR-CALDESC:Events for Looky Here
REFRESH-INTERVAL;VALUE=DURATION:PT1H
X-Robots-Tag:noindex
X-PUBLISHED-TTL:PT1H
BEGIN:VTIMEZONE
TZID:UTC
BEGIN:STANDARD
TZOFFSETFROM:+0000
TZOFFSETTO:+0000
TZNAME:UTC
DTSTART:20210101T000000
END:STANDARD
END:VTIMEZONE
BEGIN:VEVENT
DTSTART;TZID=UTC:20221204T080000
DTEND;TZID=UTC:20221204T170000
DTSTAMP:20260424T072604
CREATED:20220921T215051Z
LAST-MODIFIED:20220921T215051Z
UID:4065-1670140800-1670173200@lookyheregreenfield.com
SUMMARY:Holiday Pop Up Market
DESCRIPTION:
URL:https://lookyheregreenfield.com/event/holiday-pop-up-market-3/
CATEGORIES:market
END:VEVENT
BEGIN:VEVENT
DTSTART;TZID=UTC:20221203T080000
DTEND;TZID=UTC:20221203T170000
DTSTAMP:20260424T072604
CREATED:20220921T215026Z
LAST-MODIFIED:20220921T215026Z
UID:4063-1670054400-1670086800@lookyheregreenfield.com
SUMMARY:Holiday Pop Up Market
DESCRIPTION:
URL:https://lookyheregreenfield.com/event/holiday-pop-up-market-2/
CATEGORIES:market
END:VEVENT
BEGIN:VEVENT
DTSTART;TZID=UTC:20221202T080000
DTEND;TZID=UTC:20221202T170000
DTSTAMP:20260424T072604
CREATED:20220921T215006Z
LAST-MODIFIED:20220921T215006Z
UID:4061-1669968000-1670000400@lookyheregreenfield.com
SUMMARY:Holiday Pop Up Market
DESCRIPTION:
URL:https://lookyheregreenfield.com/event/holiday-pop-up-market/
CATEGORIES:market
END:VEVENT
BEGIN:VEVENT
DTSTART;TZID=UTC:20221112T080000
DTEND;TZID=UTC:20221112T170000
DTSTAMP:20260424T072604
CREATED:20220921T214828Z
LAST-MODIFIED:20220921T214828Z
UID:4057-1668240000-1668272400@lookyheregreenfield.com
SUMMARY:You & Me Gallery Pop-Up Shop
DESCRIPTION:
URL:https://lookyheregreenfield.com/event/you-me-gallery-pop-up-shop/
LOCATION:You & Me
CATEGORIES:market
END:VEVENT
BEGIN:VEVENT
DTSTART;TZID=UTC:20221008T150000
DTEND;TZID=UTC:20221008T180000
DTSTAMP:20260424T072604
CREATED:20220818T014929Z
LAST-MODIFIED:20220818T014929Z
UID:3989-1665241200-1665252000@lookyheregreenfield.com
SUMMARY:Court Square Yard Sale
DESCRIPTION:
URL:https://lookyheregreenfield.com/event/court-square-yard-sale-2/
CATEGORIES:market
END:VEVENT
BEGIN:VEVENT
DTSTART;TZID=UTC:20221001T120000
DTEND;TZID=UTC:20221001T170000
DTSTAMP:20260424T072604
CREATED:20220818T014621Z
LAST-MODIFIED:20220818T014621Z
UID:3985-1664625600-1664643600@lookyheregreenfield.com
SUMMARY:Northampton Print and Book Fair
DESCRIPTION:
URL:https://lookyheregreenfield.com/event/northampton-print-and-book-fair/
CATEGORIES:market
END:VEVENT
BEGIN:VEVENT
DTSTART;TZID=UTC:20220917T150000
DTEND;TZID=UTC:20220917T180000
DTSTAMP:20260424T072604
CREATED:20220818T014142Z
LAST-MODIFIED:20220818T014142Z
UID:3975-1663426800-1663437600@lookyheregreenfield.com
SUMMARY:Court Yard Yard Sale
DESCRIPTION:
URL:https://lookyheregreenfield.com/event/court-yard-yard-sale/
CATEGORIES:market
END:VEVENT
BEGIN:VEVENT
DTSTART;TZID=UTC:20220902T170000
DTEND;TZID=UTC:20220902T200000
DTSTAMP:20260424T072604
CREATED:20220818T014715Z
LAST-MODIFIED:20220818T014715Z
UID:3987-1662138000-1662148800@lookyheregreenfield.com
SUMMARY:Brattleboro Flea
DESCRIPTION:
URL:https://lookyheregreenfield.com/event/brattleboro-flea/
CATEGORIES:market
END:VEVENT
END:VCALENDAR