BEGIN:VCALENDAR
VERSION:2.0
PRODID:-//Looky Here - ECPv6.15.20//NONSGML v1.0//EN
CALSCALE:GREGORIAN
METHOD:PUBLISH
X-WR-CALNAME:Looky Here
X-ORIGINAL-URL:https://lookyheregreenfield.com
X-WR-CALDESC:Events for Looky Here
REFRESH-INTERVAL;VALUE=DURATION:PT1H
X-Robots-Tag:noindex
X-PUBLISHED-TTL:PT1H
BEGIN:VTIMEZONE
TZID:America/New_York
BEGIN:DAYLIGHT
TZOFFSETFROM:-0500
TZOFFSETTO:-0400
TZNAME:EDT
DTSTART:20220313T070000
END:DAYLIGHT
BEGIN:STANDARD
TZOFFSETFROM:-0400
TZOFFSETTO:-0500
TZNAME:EST
DTSTART:20221106T060000
END:STANDARD
BEGIN:DAYLIGHT
TZOFFSETFROM:-0500
TZOFFSETTO:-0400
TZNAME:EDT
DTSTART:20230312T070000
END:DAYLIGHT
BEGIN:STANDARD
TZOFFSETFROM:-0400
TZOFFSETTO:-0500
TZNAME:EST
DTSTART:20231105T060000
END:STANDARD
BEGIN:DAYLIGHT
TZOFFSETFROM:-0500
TZOFFSETTO:-0400
TZNAME:EDT
DTSTART:20240310T070000
END:DAYLIGHT
BEGIN:STANDARD
TZOFFSETFROM:-0400
TZOFFSETTO:-0500
TZNAME:EST
DTSTART:20241103T060000
END:STANDARD
BEGIN:DAYLIGHT
TZOFFSETFROM:-0500
TZOFFSETTO:-0400
TZNAME:EDT
DTSTART:20250309T070000
END:DAYLIGHT
BEGIN:STANDARD
TZOFFSETFROM:-0400
TZOFFSETTO:-0500
TZNAME:EST
DTSTART:20251102T060000
END:STANDARD
BEGIN:DAYLIGHT
TZOFFSETFROM:-0500
TZOFFSETTO:-0400
TZNAME:EDT
DTSTART:20260308T070000
END:DAYLIGHT
BEGIN:STANDARD
TZOFFSETFROM:-0400
TZOFFSETTO:-0500
TZNAME:EST
DTSTART:20261101T060000
END:STANDARD
END:VTIMEZONE
BEGIN:VEVENT
DTSTART;TZID=America/New_York:20250610T180000
DTEND;TZID=America/New_York:20250610T200000
DTSTAMP:20260424T021651
CREATED:20250503T174715Z
LAST-MODIFIED:20250524T181150Z
UID:11418-1749578400-1749585600@lookyheregreenfield.com
SUMMARY:Prose Poem Variations (8 week workshop with Sarah Wisby)
DESCRIPTION:Are you genre-queer? Hard to categorize? Curious about hybrid forms? In this eight week generative class\, we will read and write variations on the prose poem. From Japanese forms like the haibun and zuihitsu to the modern poem/essay\, the prose poem offers a panoply of delights for the experimental writer. \n8 Tuesdays\nJune 10 – July 29\n$200
URL:https://lookyheregreenfield.com/event/prose-poem-variations-8-week-workshop-with-sarah-wisby/
CATEGORIES:poetry,workshop,writing
ATTACH;FMTTYPE=image/jpeg:https://lookyheregreenfield.com/wp-content/uploads/2025/05/IMG_0161.jpeg
END:VEVENT
BEGIN:VEVENT
DTSTART;TZID=America/New_York:20250419T190000
DTEND;TZID=America/New_York:20250419T210000
DTSTAMP:20260424T021651
CREATED:20250127T192925Z
LAST-MODIFIED:20250306T131447Z
UID:10417-1745089200-1745096400@lookyheregreenfield.com
SUMMARY:Open Mic for Writers! (4/19 7:00)
DESCRIPTION:7:00 – $10 suggested donation \nCome in and read us what you’ve been working on!
URL:https://lookyheregreenfield.com/event/open-mic-for-writers-4-4-700/
CATEGORIES:Events,poetry
ATTACH;FMTTYPE=image/jpeg:https://lookyheregreenfield.com/wp-content/uploads/2023/08/Reading-Strange-Psge-e1691469462839.jpg
END:VEVENT
BEGIN:VEVENT
DTSTART;TZID=America/New_York:20240322T190000
DTEND;TZID=America/New_York:20240322T210000
DTSTAMP:20260424T021651
CREATED:20240315T121120Z
LAST-MODIFIED:20240315T121304Z
UID:7894-1711134000-1711141200@lookyheregreenfield.com
SUMMARY:“The Timeless Point Of Expansion Of Bohemian Life” by Chris Weisman
DESCRIPTION:FRIDAY! March 22nd from 7:00 – 9:00 \n \nMusic by elie mcafee-hahn \n \nReading by Chris Weisman \n \nBe first in line to see Chris’s latest book of poems printed by Hannah Brookman on the risograph at Looky! \n \nReserve your copy here!
URL:https://lookyheregreenfield.com/event/the-timeless-point-of-expansion-of-bohemian-life-by-chris-weisman/
CATEGORIES:Events,poetry,Reading
ATTACH;FMTTYPE=image/jpeg:https://lookyheregreenfield.com/wp-content/uploads/2024/03/36169EC1-A1CB-4DEB-8F0C-1818099BCBD6-scaled-e1709920542598.jpeg
END:VEVENT
BEGIN:VEVENT
DTSTART;TZID=America/New_York:20231008T140000
DTEND;TZID=America/New_York:20231008T160000
DTSTAMP:20260424T021651
CREATED:20230804T120458Z
LAST-MODIFIED:20230906T212054Z
UID:6052-1696773600-1696780800@lookyheregreenfield.com
SUMMARY:Binging the Syntax: A Workshop for Greedy\, Horny Sentences (10/8/2023 - Stella Corso)
DESCRIPTION:In this workshop\, we will look at examples of energetic\, engorged\, fervent\, and audacious syntax\, consulting some literary theories of the sentence along the way. We will examine these sentences for their various multiplicities and anticipations\, considering how many temporalities\, attitudes\, and points of view one might dare to contain. Please bring a short piece of in-progress writing (of any genre) so that you may experiment with pushing the boundaries of your own slutty syntax.\n\nBio: Stella Corso is the author of Green Knife (Rescue Press\, 2023) and TANTRUM (Rescue Press\, 2017) along with the chapbooks Taboo Vivant (b l u s h\, 2022) and Wind & the Augur (Sixth Finch\, 2021). She is a graduate of the MFA program at UMass-Amherst and a founding member of the Connecticut River Valley Poets’ Theater (CRVPT). Currently\, she is a doctoral candidate in English & Literary Arts at the University of Denver where she acts as the Managing Editor for Denver Quarterly. She also works as a farmhand on Lost Greens Farm in Colorado and is busy writing her first novel.
URL:https://lookyheregreenfield.com/event/binging-the-syntax-a-workshop-for-greedy-horny-sentences-october-8th-stella-corso/
LOCATION:Looky Here\, 28 chapman street\, greenfield\, MA\, 01301\, United States
CATEGORIES:poetry,workshop,writing
ATTACH;FMTTYPE=image/jpeg:https://lookyheregreenfield.com/wp-content/uploads/2023/08/Stella-Corso-scaled.jpg
ORGANIZER;CN="Looky Here":MAILTO:lookyheregreenfield@gmail.com
END:VEVENT
BEGIN:VEVENT
DTSTART;TZID=America/New_York:20231006T180000
DTEND;TZID=America/New_York:20231006T210000
DTSTAMP:20260424T021651
CREATED:20230816T153507Z
LAST-MODIFIED:20230915T193120Z
UID:6233-1696615200-1696626000@lookyheregreenfield.com
SUMMARY:Rescue/Everybody BIG BOOK LAUNCH + Reading
DESCRIPTION:A TRIPLE book release featuring Stella Corso and Jed Munson from Rescue Press\, and Jennifer Robertson from Everybody Press. \nAdditional readers include Deja Carr\, Vanessa Brewster\, and Riley Mac. \nDoors at 6:00\, Reading at 7:00 \n$10 suggested donation \ndrinks and snacks! \nNOTAFLOF
URL:https://lookyheregreenfield.com/event/rescue-everybody-big-book-launch-reading/
LOCATION:Looky Here\, 28 chapman street\, greenfield\, MA\, 01301\, United States
CATEGORIES:Events,poetry,Reading
ATTACH;FMTTYPE=image/jpeg:https://lookyheregreenfield.com/wp-content/uploads/2023/08/Rescue-Everybody-scaled.jpg
ORGANIZER;CN="Looky Here":MAILTO:lookyheregreenfield@gmail.com
END:VEVENT
BEGIN:VEVENT
DTSTART;TZID=America/New_York:20230827T120000
DTEND;TZID=America/New_York:20230827T140000
DTSTAMP:20260424T021651
CREATED:20230712T163835Z
LAST-MODIFIED:20230809T215300Z
UID:5886-1693137600-1693144800@lookyheregreenfield.com
SUMMARY:Writing a Hit Poem with Zoe Tuck 8/27
DESCRIPTION:Some poems\, like some songs\, are hits\, bops\, bangers. They stick in our heads and we can’t stop humming along. What distinguishes a hit from a flop? And how can we learn how to write hit poems? In this workshop\, we’ll read a sample of hit poems\, talk about what makes them tick\, then write our own.\n\nBio: Zoe Tuck was born in Texas\, became a person in California\, and now lives in Western Massachusetts. She is the author of Bedroom Vowel (BUNNY Presse\, 2023) and Terror Matrix (Timeless\, Infinite Light\, 2014)\, in addition to the chapbooks The Book of Bella (Doublecross Press)\, bound in a dos-a-dos edition with Emily Hunerwadel’s Peach Woman\, and Vape Cloud of Unknowing (Belladonna* Collaborative). With Britt Billmeyer-Finn\, she is the co-host of The But Also house reading series and she co-edits Hot Pink Magazine with Emily Bark Brown.
URL:https://lookyheregreenfield.com/event/writing-a-hit-poem/
LOCATION:Looky Here\, 28 chapman street\, greenfield\, MA\, 01301\, United States
CATEGORIES:poetry,workshop,writing
ATTACH;FMTTYPE=image/jpeg:https://lookyheregreenfield.com/wp-content/uploads/2023/07/zoe-tuck-author-photo-1.jpg
END:VEVENT
END:VCALENDAR