BEGIN:VCALENDAR
VERSION:2.0
PRODID:-//Looky Here - ECPv6.15.20//NONSGML v1.0//EN
CALSCALE:GREGORIAN
METHOD:PUBLISH
X-ORIGINAL-URL:https://lookyheregreenfield.com
X-WR-CALDESC:Events for Looky Here
REFRESH-INTERVAL;VALUE=DURATION:PT1H
X-Robots-Tag:noindex
X-PUBLISHED-TTL:PT1H
BEGIN:VTIMEZONE
TZID:America/New_York
BEGIN:DAYLIGHT
TZOFFSETFROM:-0500
TZOFFSETTO:-0400
TZNAME:EDT
DTSTART:20230312T070000
END:DAYLIGHT
BEGIN:STANDARD
TZOFFSETFROM:-0400
TZOFFSETTO:-0500
TZNAME:EST
DTSTART:20231105T060000
END:STANDARD
BEGIN:DAYLIGHT
TZOFFSETFROM:-0500
TZOFFSETTO:-0400
TZNAME:EDT
DTSTART:20240310T070000
END:DAYLIGHT
BEGIN:STANDARD
TZOFFSETFROM:-0400
TZOFFSETTO:-0500
TZNAME:EST
DTSTART:20241103T060000
END:STANDARD
BEGIN:DAYLIGHT
TZOFFSETFROM:-0500
TZOFFSETTO:-0400
TZNAME:EDT
DTSTART:20250309T070000
END:DAYLIGHT
BEGIN:STANDARD
TZOFFSETFROM:-0400
TZOFFSETTO:-0500
TZNAME:EST
DTSTART:20251102T060000
END:STANDARD
END:VTIMEZONE
BEGIN:VEVENT
DTSTART;TZID=America/New_York:20241207T120000
DTEND;TZID=America/New_York:20241207T150000
DTSTAMP:20260424T210435
CREATED:20241121T183732Z
LAST-MODIFIED:20241121T193658Z
UID:9822-1733572800-1733583600@lookyheregreenfield.com
SUMMARY:Looky Here Magazine Release and Reading. Winter/Spring 2024
DESCRIPTION:Join us in celebrating the release of the 3rd edition of Looky Here Magazine! This Winter/ Spring 2024 issue is printed in a limited palate of teal\, yellow and black and features the first ever winner or our Short Story Contest! Winner\, Sierra Dickey\, as well as other contributing writers will read their piece in the magazine\, and we will toast to the completion of another juicy release from Looky Here Press\, and to all of the artists who made it possible.
URL:https://lookyheregreenfield.com/event/looky-here-magazine-release-and-reading-winter-spring-2024/
LOCATION:Looky Here\, 28 chapman street\, greenfield\, MA\, 01301\, United States
CATEGORIES:Events,Reading
ATTACH;FMTTYPE=image/jpeg:https://lookyheregreenfield.com/wp-content/uploads/2024/11/4C4DCB16-EDC4-41DE-B0CB-CC44A479D1EE-scaled.jpeg
END:VEVENT
END:VCALENDAR