BEGIN:VCALENDAR
VERSION:2.0
PRODID:-//Looky Here - ECPv6.15.20//NONSGML v1.0//EN
CALSCALE:GREGORIAN
METHOD:PUBLISH
X-ORIGINAL-URL:https://lookyheregreenfield.com
X-WR-CALDESC:Events for Looky Here
REFRESH-INTERVAL;VALUE=DURATION:PT1H
X-Robots-Tag:noindex
X-PUBLISHED-TTL:PT1H
BEGIN:VTIMEZONE
TZID:America/New_York
BEGIN:DAYLIGHT
TZOFFSETFROM:-0500
TZOFFSETTO:-0400
TZNAME:EDT
DTSTART:20250309T070000
END:DAYLIGHT
BEGIN:STANDARD
TZOFFSETFROM:-0400
TZOFFSETTO:-0500
TZNAME:EST
DTSTART:20251102T060000
END:STANDARD
BEGIN:DAYLIGHT
TZOFFSETFROM:-0500
TZOFFSETTO:-0400
TZNAME:EDT
DTSTART:20260308T070000
END:DAYLIGHT
BEGIN:STANDARD
TZOFFSETFROM:-0400
TZOFFSETTO:-0500
TZNAME:EST
DTSTART:20261101T060000
END:STANDARD
BEGIN:DAYLIGHT
TZOFFSETFROM:-0500
TZOFFSETTO:-0400
TZNAME:EDT
DTSTART:20270314T070000
END:DAYLIGHT
BEGIN:STANDARD
TZOFFSETFROM:-0400
TZOFFSETTO:-0500
TZNAME:EST
DTSTART:20271107T060000
END:STANDARD
END:VTIMEZONE
BEGIN:VEVENT
DTSTART;TZID=America/New_York:20260227T190000
DTEND;TZID=America/New_York:20260227T210000
DTSTAMP:20260423T185410
CREATED:20260108T185218Z
LAST-MODIFIED:20260221T213534Z
UID:15022-1772218800-1772226000@lookyheregreenfield.com
SUMMARY:STRANGE GIRLS Reading and Open Mic (2/27)
DESCRIPTION:Liz Falco and Melissa Dickey who run Morning Shift\, our popular Saturday morning writing group\, will headline on February 27th\, postponed from the 20th due to snow. Dickey and Falco will be joined by poet and Looky Here shopkeep Sarah Wisby.Reading starts at 7pm! Come early to sign up for the open mic! $10 suggested donation
URL:https://lookyheregreenfield.com/event/strange-girls-reading-with-the-morning-shift-writing-group-2-27/
CATEGORIES:Reading
ATTACH;FMTTYPE=image/jpeg:https://lookyheregreenfield.com/wp-content/uploads/2026/01/IMG_75981.jpeg
END:VEVENT
END:VCALENDAR