BEGIN:VCALENDAR
VERSION:2.0
PRODID:-//Looky Here - ECPv6.15.20//NONSGML v1.0//EN
CALSCALE:GREGORIAN
METHOD:PUBLISH
X-ORIGINAL-URL:https://lookyheregreenfield.com
X-WR-CALDESC:Events for Looky Here
REFRESH-INTERVAL;VALUE=DURATION:PT1H
X-Robots-Tag:noindex
X-PUBLISHED-TTL:PT1H
BEGIN:VTIMEZONE
TZID:America/New_York
BEGIN:DAYLIGHT
TZOFFSETFROM:-0500
TZOFFSETTO:-0400
TZNAME:EDT
DTSTART:20220313T070000
END:DAYLIGHT
BEGIN:STANDARD
TZOFFSETFROM:-0400
TZOFFSETTO:-0500
TZNAME:EST
DTSTART:20221106T060000
END:STANDARD
BEGIN:DAYLIGHT
TZOFFSETFROM:-0500
TZOFFSETTO:-0400
TZNAME:EDT
DTSTART:20230312T070000
END:DAYLIGHT
BEGIN:STANDARD
TZOFFSETFROM:-0400
TZOFFSETTO:-0500
TZNAME:EST
DTSTART:20231105T060000
END:STANDARD
BEGIN:DAYLIGHT
TZOFFSETFROM:-0500
TZOFFSETTO:-0400
TZNAME:EDT
DTSTART:20240310T070000
END:DAYLIGHT
BEGIN:STANDARD
TZOFFSETFROM:-0400
TZOFFSETTO:-0500
TZNAME:EST
DTSTART:20241103T060000
END:STANDARD
END:VTIMEZONE
BEGIN:VEVENT
DTSTART;TZID=America/New_York:20230905T180000
DTEND;TZID=America/New_York:20230905T200000
DTSTAMP:20260423T203254
CREATED:20230808T043845Z
LAST-MODIFIED:20230809T152528Z
UID:6067-1693936800-1693944000@lookyheregreenfield.com
SUMMARY:READING: The Strange Page Presents...
DESCRIPTION:Join us for wine\, seltzer\, cheese\, and chips\, and a reading of 11 very short\, strange stories. \n6:00-8:00 \n$5-$10 suggested donation \nN.O.T.A.F.L.O.F.
URL:https://lookyheregreenfield.com/event/reading-the-strange-page-presents/
LOCATION:Looky Here\, 28 chapman street\, greenfield\, MA\, 01301\, United States
CATEGORIES:Reading,writing
ATTACH;FMTTYPE=image/jpeg:https://lookyheregreenfield.com/wp-content/uploads/2023/08/Reading-Strange-Psge-e1691469462839.jpg
ORGANIZER;CN="Looky Here":MAILTO:lookyheregreenfield@gmail.com
END:VEVENT
END:VCALENDAR