BEGIN:VCALENDAR
VERSION:2.0
PRODID:-//Looky Here - ECPv6.15.20//NONSGML v1.0//EN
CALSCALE:GREGORIAN
METHOD:PUBLISH
X-ORIGINAL-URL:https://lookyheregreenfield.com
X-WR-CALDESC:Events for Looky Here
REFRESH-INTERVAL;VALUE=DURATION:PT1H
X-Robots-Tag:noindex
X-PUBLISHED-TTL:PT1H
BEGIN:VTIMEZONE
TZID:America/New_York
BEGIN:DAYLIGHT
TZOFFSETFROM:-0500
TZOFFSETTO:-0400
TZNAME:EDT
DTSTART:20230312T070000
END:DAYLIGHT
BEGIN:STANDARD
TZOFFSETFROM:-0400
TZOFFSETTO:-0500
TZNAME:EST
DTSTART:20231105T060000
END:STANDARD
BEGIN:DAYLIGHT
TZOFFSETFROM:-0500
TZOFFSETTO:-0400
TZNAME:EDT
DTSTART:20240310T070000
END:DAYLIGHT
BEGIN:STANDARD
TZOFFSETFROM:-0400
TZOFFSETTO:-0500
TZNAME:EST
DTSTART:20241103T060000
END:STANDARD
BEGIN:DAYLIGHT
TZOFFSETFROM:-0500
TZOFFSETTO:-0400
TZNAME:EDT
DTSTART:20250309T070000
END:DAYLIGHT
BEGIN:STANDARD
TZOFFSETFROM:-0400
TZOFFSETTO:-0500
TZNAME:EST
DTSTART:20251102T060000
END:STANDARD
END:VTIMEZONE
BEGIN:VEVENT
DTSTART;TZID=America/New_York:20240209T180000
DTEND;TZID=America/New_York:20240209T200000
DTSTAMP:20260425T232041
CREATED:20240112T221256Z
LAST-MODIFIED:20240112T221256Z
UID:7267-1707501600-1707508800@lookyheregreenfield.com
SUMMARY:Art Commune Film Series: The Cockettes
DESCRIPTION:The Cockettes were an avant garde psychedelic hippie theater group founded by Hibiscus (George Edgerly Harris III)in the fall of 1969. The troupe was formed out of a group of hippie artists\, men and women\, who were living in Kaliflower\, one of the many communes in Haight-Ashbury\, a neighborhood of San Francisco\, California. Hibiscus came to live with them because of their preference for dressing outrageously and proposed the idea of putting their lifestyle on the stage.
URL:https://lookyheregreenfield.com/event/art-commune-film-series-the-cockettes/
CATEGORIES:Screening
ATTACH;FMTTYPE=image/jpeg:https://lookyheregreenfield.com/wp-content/uploads/2024/01/8D1F5675-CA63-4D00-9FE8-BA2E3DEA89EF.jpeg
END:VEVENT
END:VCALENDAR