BEGIN:VCALENDAR
VERSION:2.0
PRODID:-//Looky Here - ECPv6.15.20//NONSGML v1.0//EN
CALSCALE:GREGORIAN
METHOD:PUBLISH
X-WR-CALNAME:Looky Here
X-ORIGINAL-URL:https://lookyheregreenfield.com
X-WR-CALDESC:Events for Looky Here
REFRESH-INTERVAL;VALUE=DURATION:PT1H
X-Robots-Tag:noindex
X-PUBLISHED-TTL:PT1H
BEGIN:VTIMEZONE
TZID:America/New_York
BEGIN:DAYLIGHT
TZOFFSETFROM:-0500
TZOFFSETTO:-0400
TZNAME:EDT
DTSTART:20230312T070000
END:DAYLIGHT
BEGIN:STANDARD
TZOFFSETFROM:-0400
TZOFFSETTO:-0500
TZNAME:EST
DTSTART:20231105T060000
END:STANDARD
BEGIN:DAYLIGHT
TZOFFSETFROM:-0500
TZOFFSETTO:-0400
TZNAME:EDT
DTSTART:20240310T070000
END:DAYLIGHT
BEGIN:STANDARD
TZOFFSETFROM:-0400
TZOFFSETTO:-0500
TZNAME:EST
DTSTART:20241103T060000
END:STANDARD
BEGIN:DAYLIGHT
TZOFFSETFROM:-0500
TZOFFSETTO:-0400
TZNAME:EDT
DTSTART:20250309T070000
END:DAYLIGHT
BEGIN:STANDARD
TZOFFSETFROM:-0400
TZOFFSETTO:-0500
TZNAME:EST
DTSTART:20251102T060000
END:STANDARD
BEGIN:DAYLIGHT
TZOFFSETFROM:-0500
TZOFFSETTO:-0400
TZNAME:EDT
DTSTART:20260308T070000
END:DAYLIGHT
BEGIN:STANDARD
TZOFFSETFROM:-0400
TZOFFSETTO:-0500
TZNAME:EST
DTSTART:20261101T060000
END:STANDARD
BEGIN:DAYLIGHT
TZOFFSETFROM:-0500
TZOFFSETTO:-0400
TZNAME:EDT
DTSTART:20270314T070000
END:DAYLIGHT
BEGIN:STANDARD
TZOFFSETFROM:-0400
TZOFFSETTO:-0500
TZNAME:EST
DTSTART:20271107T060000
END:STANDARD
END:VTIMEZONE
BEGIN:VEVENT
DTSTART;TZID=America/New_York:20260403T170000
DTEND;TZID=America/New_York:20260403T200000
DTSTAMP:20260423T203431
CREATED:20260304T191750Z
LAST-MODIFIED:20260325T173641Z
UID:15875-1775235600-1775246400@lookyheregreenfield.com
SUMMARY:THEY LIVE: Film Screening and Book Release for The Truth is Not a Narrative
DESCRIPTION:The 80s never ended! Celebrate the release of PIPS’ second zine\, and enjoy together what many argue is John Carpenter’s finest work as a documentary filmmaker. Don’t forget your sunglasses\, kilts\, and critical thinking skills. \nPay what you want. No one turned away. All proceeds support LOOKY HERE.
URL:https://lookyheregreenfield.com/event/they-live-film-screening-and-book-release-for-the-truth-is-not-a-narrative/
CATEGORIES:Events,Screening
ATTACH;FMTTYPE=image/jpeg:https://lookyheregreenfield.com/wp-content/uploads/2026/03/unnamed.jpg
END:VEVENT
BEGIN:VEVENT
DTSTART;TZID=America/New_York:20240308T180000
DTEND;TZID=America/New_York:20240308T200000
DTSTAMP:20260423T203431
CREATED:20240112T221620Z
LAST-MODIFIED:20240308T180926Z
UID:7270-1709920800-1709928000@lookyheregreenfield.com
SUMMARY:Art Commune Film Series:  “Spaceship Earth”
DESCRIPTION:Spaceship Earth is a 2020 American documentary film directed by Matt Wolf about the 1991 experiment that saw eight individuals spend two years quarantined inside of a self-engineered replica of Earth’s ecosystem\, dubbed Biosphere 2.
URL:https://lookyheregreenfield.com/event/art-commune-film-series-spaceship-earth/
CATEGORIES:Screening
ATTACH;FMTTYPE=image/jpeg:https://lookyheregreenfield.com/wp-content/uploads/2024/01/311979E9-26A5-438C-9035-D7CA7DB1CD5E.jpeg
END:VEVENT
BEGIN:VEVENT
DTSTART;TZID=America/New_York:20240209T180000
DTEND;TZID=America/New_York:20240209T200000
DTSTAMP:20260423T203431
CREATED:20240112T221256Z
LAST-MODIFIED:20240112T221256Z
UID:7267-1707501600-1707508800@lookyheregreenfield.com
SUMMARY:Art Commune Film Series: The Cockettes
DESCRIPTION:The Cockettes were an avant garde psychedelic hippie theater group founded by Hibiscus (George Edgerly Harris III)in the fall of 1969. The troupe was formed out of a group of hippie artists\, men and women\, who were living in Kaliflower\, one of the many communes in Haight-Ashbury\, a neighborhood of San Francisco\, California. Hibiscus came to live with them because of their preference for dressing outrageously and proposed the idea of putting their lifestyle on the stage.
URL:https://lookyheregreenfield.com/event/art-commune-film-series-the-cockettes/
CATEGORIES:Screening
ATTACH;FMTTYPE=image/jpeg:https://lookyheregreenfield.com/wp-content/uploads/2024/01/8D1F5675-CA63-4D00-9FE8-BA2E3DEA89EF.jpeg
END:VEVENT
BEGIN:VEVENT
DTSTART;TZID=America/New_York:20240112T180000
DTEND;TZID=America/New_York:20240112T200000
DTSTAMP:20260423T203431
CREATED:20240106T145830Z
LAST-MODIFIED:20240106T145831Z
UID:7204-1705082400-1705089600@lookyheregreenfield.com
SUMMARY:Art Commune Film Series: Free Spirits (2007)\, the Renaissance Community commune
DESCRIPTION:For the first film in the monthly screening series on Art Communes\, we will be watching “Free Spirits\, the incredible true story of the Renaissance Community commune\, one of the largest\, most controversial intentional communities of the 1960s and 70s\, and its flamboyant founder\, Michael Metelica Rapunzel. The Renaissance Community settled in Turners Falls and Gill\, MA\, and still has a presence there today. “Free Spirits” was written and directed by a Renaissance Community member\, Bruce Geisler
URL:https://lookyheregreenfield.com/event/art-commune-film-series-free-spirits-2007-the-renaissance-community-commune/
CATEGORIES:Screening
ATTACH;FMTTYPE=image/webp:https://lookyheregreenfield.com/wp-content/uploads/2024/01/7FE5EFFF-EF7C-458D-9AF5-571A6A461361.webp
END:VEVENT
END:VCALENDAR