BEGIN:VCALENDAR
VERSION:2.0
PRODID:-//Looky Here - ECPv6.15.20//NONSGML v1.0//EN
CALSCALE:GREGORIAN
METHOD:PUBLISH
X-WR-CALNAME:Looky Here
X-ORIGINAL-URL:https://lookyheregreenfield.com
X-WR-CALDESC:Events for Looky Here
REFRESH-INTERVAL;VALUE=DURATION:PT1H
X-Robots-Tag:noindex
X-PUBLISHED-TTL:PT1H
BEGIN:VTIMEZONE
TZID:America/New_York
BEGIN:DAYLIGHT
TZOFFSETFROM:-0500
TZOFFSETTO:-0400
TZNAME:EDT
DTSTART:20240310T070000
END:DAYLIGHT
BEGIN:STANDARD
TZOFFSETFROM:-0400
TZOFFSETTO:-0500
TZNAME:EST
DTSTART:20241103T060000
END:STANDARD
BEGIN:DAYLIGHT
TZOFFSETFROM:-0500
TZOFFSETTO:-0400
TZNAME:EDT
DTSTART:20250309T070000
END:DAYLIGHT
BEGIN:STANDARD
TZOFFSETFROM:-0400
TZOFFSETTO:-0500
TZNAME:EST
DTSTART:20251102T060000
END:STANDARD
BEGIN:DAYLIGHT
TZOFFSETFROM:-0500
TZOFFSETTO:-0400
TZNAME:EDT
DTSTART:20260308T070000
END:DAYLIGHT
BEGIN:STANDARD
TZOFFSETFROM:-0400
TZOFFSETTO:-0500
TZNAME:EST
DTSTART:20261101T060000
END:STANDARD
END:VTIMEZONE
BEGIN:VEVENT
DTSTART;TZID=America/New_York:20250111T120000
DTEND;TZID=America/New_York:20250111T150000
DTSTAMP:20260424T210126
CREATED:20241204T151934Z
LAST-MODIFIED:20241205T042742Z
UID:9866-1736596800-1736607600@lookyheregreenfield.com
SUMMARY:Sweatshirt Weaving Workshop with Rae Heller (12:00-3:00 $55)
DESCRIPTION:Bring in some shabby sweats and make them shine with fabric weaving!
URL:https://lookyheregreenfield.com/event/sweatshirt-weaving-workshop-with-rae-heller-1200-300-45/
CATEGORIES:Sewing,workshop
ATTACH;FMTTYPE=image/jpeg:https://lookyheregreenfield.com/wp-content/uploads/2024/12/Weaving-scaled.jpg
END:VEVENT
BEGIN:VEVENT
DTSTART;TZID=America/New_York:20250124T150000
DTEND;TZID=America/New_York:20250124T170000
DTSTAMP:20260424T210126
CREATED:20241204T171541Z
LAST-MODIFIED:20241204T171542Z
UID:9932-1737730800-1737738000@lookyheregreenfield.com
SUMMARY:Make Our Merch! A free up cycling workshop!
DESCRIPTION:
URL:https://lookyheregreenfield.com/event/make-our-merch-a-free-up-cycling-workshop-3/
CATEGORIES:Sewing,workshop
ATTACH;FMTTYPE=image/jpeg:https://lookyheregreenfield.com/wp-content/uploads/2024/01/3C90EA62-114D-4EA5-8B90-FD683BE11FF9.jpeg
END:VEVENT
BEGIN:VEVENT
DTSTART;TZID=America/New_York:20250125T153000
DTEND;TZID=America/New_York:20250125T183000
DTSTAMP:20260424T210126
CREATED:20241204T152721Z
LAST-MODIFIED:20250121T192825Z
UID:9869-1737819000-1737829800@lookyheregreenfield.com
SUMMARY:Quilting with Rae Heller Part 1: (3 week series with Rae Heller Saturdays\, 3:30-6:30 $155)
DESCRIPTION:3 week Quilting with Rae (Part 1): Saturdays 3:30-6:30 1/25\, 2/1\, 2/15 \nPart 1: Creativity is held well through soft materials\, creating something of nothing\, and slow stitching. Part 1 of this foundational quilting course will be focused on traditional quilting techniques. Learn how to build a quilt block using checkers\, half square triangles\, strip piecing\, chain piecing\, nesting seams\, improv quilting\, and creating larger patterns to form your quilt top. This class is not project based. Students will have the space to follow their creative dreams! \nThen\, we will build on learned techniques and explore “sandwiching” your quilt\, binding\, and finishing your quilt. We will create using both hand-sewing techniques and using sewing machines. A few sewing machines will be provided but participants are encouraged to bring their own if they have one! Sewing skills are helpful but not a must. Come learn basic quilting techniques and deepen your artistic practice! \nMost Materials included – you are encouraged to bring fabric that makes your heart sing. Head to Swanson’s Fabrics! Looky Here does have plenty of scraps as well. Batting/thread/scissors/everything else included. \n  \n 
URL:https://lookyheregreenfield.com/event/quilting-101-with-rae-heller-3-week-series-330-630-155/
CATEGORIES:Sewing,workshop
ATTACH;FMTTYPE=image/jpeg:https://lookyheregreenfield.com/wp-content/uploads/2024/12/BlueFadeQuilt71x71.jpeg
END:VEVENT
END:VCALENDAR