BEGIN:VCALENDAR
VERSION:2.0
PRODID:-//Looky Here - ECPv6.15.20//NONSGML v1.0//EN
CALSCALE:GREGORIAN
METHOD:PUBLISH
X-ORIGINAL-URL:https://lookyheregreenfield.com
X-WR-CALDESC:Events for Looky Here
REFRESH-INTERVAL;VALUE=DURATION:PT1H
X-Robots-Tag:noindex
X-PUBLISHED-TTL:PT1H
BEGIN:VTIMEZONE
TZID:America/New_York
BEGIN:DAYLIGHT
TZOFFSETFROM:-0500
TZOFFSETTO:-0400
TZNAME:EDT
DTSTART:20220313T070000
END:DAYLIGHT
BEGIN:STANDARD
TZOFFSETFROM:-0400
TZOFFSETTO:-0500
TZNAME:EST
DTSTART:20221106T060000
END:STANDARD
BEGIN:DAYLIGHT
TZOFFSETFROM:-0500
TZOFFSETTO:-0400
TZNAME:EDT
DTSTART:20230312T070000
END:DAYLIGHT
BEGIN:STANDARD
TZOFFSETFROM:-0400
TZOFFSETTO:-0500
TZNAME:EST
DTSTART:20231105T060000
END:STANDARD
BEGIN:DAYLIGHT
TZOFFSETFROM:-0500
TZOFFSETTO:-0400
TZNAME:EDT
DTSTART:20240310T070000
END:DAYLIGHT
BEGIN:STANDARD
TZOFFSETFROM:-0400
TZOFFSETTO:-0500
TZNAME:EST
DTSTART:20241103T060000
END:STANDARD
END:VTIMEZONE
BEGIN:VTIMEZONE
TZID:UTC
BEGIN:STANDARD
TZOFFSETFROM:+0000
TZOFFSETTO:+0000
TZNAME:UTC
DTSTART:20210101T000000
END:STANDARD
END:VTIMEZONE
BEGIN:VEVENT
DTSTART;TZID=America/New_York:20230215T170000
DTEND;TZID=America/New_York:20230215T190000
DTSTAMP:20260424T025041
CREATED:20230204T221802Z
LAST-MODIFIED:20230204T221802Z
UID:4994-1676480400-1676487600@lookyheregreenfield.com
SUMMARY:CuT cOLlaGE CLoThinG
DESCRIPTION:All materials provided to make your own Frankenstein fashion!
URL:https://lookyheregreenfield.com/event/cut-collage-clothing-3/
LOCATION:MA
CATEGORIES:Sewing,workshop
ATTACH;FMTTYPE=image/jpeg:https://lookyheregreenfield.com/wp-content/uploads/2023/02/6E22D1B2-4214-44D1-BECF-99ADB9F1C6E4.jpeg
END:VEVENT
BEGIN:VEVENT
DTSTART;TZID=America/New_York:20230208T170000
DTEND;TZID=America/New_York:20230208T190000
DTSTAMP:20260424T025041
CREATED:20230115T182513Z
LAST-MODIFIED:20230131T152515Z
UID:4789-1675875600-1675882800@lookyheregreenfield.com
SUMMARY:CuT CoLLagE CloThiNg 2
DESCRIPTION:Mash up Frankenstein sewing workshop! All materials provided
URL:https://lookyheregreenfield.com/event/cut-collage-clothing-2/
LOCATION:MA
CATEGORIES:Sewing,workshop
ATTACH;FMTTYPE=image/jpeg:https://lookyheregreenfield.com/wp-content/uploads/2023/01/09D7A4AC-B9D6-452E-81D7-1D83ACD852F5.jpeg
END:VEVENT
BEGIN:VEVENT
DTSTART;TZID=America/New_York:20230118T170000
DTEND;TZID=America/New_York:20230118T190000
DTSTAMP:20260424T025041
CREATED:20230115T182336Z
LAST-MODIFIED:20230115T182336Z
UID:4785-1674061200-1674068400@lookyheregreenfield.com
SUMMARY:CuT CoLLagE CloThiNg
DESCRIPTION:Mash up Frankenstein clothing workshop! All materials provided
URL:https://lookyheregreenfield.com/event/cut-collage-clothing/
LOCATION:MA
CATEGORIES:Sewing,workshop
ATTACH;FMTTYPE=image/jpeg:https://lookyheregreenfield.com/wp-content/uploads/2023/01/09D7A4AC-B9D6-452E-81D7-1D83ACD852F5.jpeg
END:VEVENT
BEGIN:VEVENT
DTSTART;TZID=UTC:20221013T180000
DTEND;TZID=UTC:20221013T200000
DTSTAMP:20260424T025041
CREATED:20220928T215556Z
LAST-MODIFIED:20220928T215556Z
UID:4084-1665684000-1665691200@lookyheregreenfield.com
SUMMARY:Sew a Bag!
DESCRIPTION:Learn to machine sew a reusable bag! All materials included!
URL:https://lookyheregreenfield.com/event/sew-a-bag/
LOCATION:MA
CATEGORIES:Sewing,workshop
END:VEVENT
BEGIN:VEVENT
DTSTART;TZID=UTC:20220819T160000
DTEND;TZID=UTC:20220819T200000
DTSTAMP:20260424T025041
CREATED:20220527T213718Z
LAST-MODIFIED:20220818T013524Z
UID:3731-1660924800-1660939200@lookyheregreenfield.com
SUMMARY:Open Sewing
DESCRIPTION:Bring your own projects or start one here! \nSuggested donation of $5-20
URL:https://lookyheregreenfield.com/event/open-sewing-4/
LOCATION:MA
CATEGORIES:Sewing
END:VEVENT
BEGIN:VEVENT
DTSTART;TZID=UTC:20220715T160000
DTEND;TZID=UTC:20220715T200000
DTSTAMP:20260424T025041
CREATED:20220526T003346Z
LAST-MODIFIED:20220526T003346Z
UID:3679-1657900800-1657915200@lookyheregreenfield.com
SUMMARY:Open sewing 4-8
DESCRIPTION:Various sewing projects \nsuggested donation $5-20 per person
URL:https://lookyheregreenfield.com/event/open-sewing-4-8/
LOCATION:MA
CATEGORIES:Sewing,workshop
END:VEVENT
BEGIN:VEVENT
DTSTART;TZID=UTC:20220708T160000
DTEND;TZID=UTC:20220708T200000
DTSTAMP:20260424T025041
CREATED:20220526T002539Z
LAST-MODIFIED:20220526T002539Z
UID:3669-1657296000-1657310400@lookyheregreenfield.com
SUMMARY:Open sewing
DESCRIPTION:Various sewing projects 6-8 \nshop open 4-8
URL:https://lookyheregreenfield.com/event/open-sewing/
LOCATION:MA
CATEGORIES:Sewing
END:VEVENT
BEGIN:VEVENT
DTSTART;TZID=UTC:20220617T180000
DTEND;TZID=UTC:20220617T200000
DTSTAMP:20260424T025041
CREATED:20220525T230024Z
LAST-MODIFIED:20220525T230108Z
UID:3637-1655488800-1655496000@lookyheregreenfield.com
SUMMARY:Sewing Night
DESCRIPTION:Various sewing projects and materials will be ongoing during Friday sewing for a drop in fee of $5-20
URL:https://lookyheregreenfield.com/event/sewing-night-2/
LOCATION:MA
CATEGORIES:Sewing,workshop
END:VEVENT
BEGIN:VEVENT
DTSTART;TZID=UTC:20220610T180000
DTEND;TZID=UTC:20220610T200000
DTSTAMP:20260424T025041
CREATED:20220525T224101Z
LAST-MODIFIED:20220525T224101Z
UID:3626-1654884000-1654891200@lookyheregreenfield.com
SUMMARY:Sewing Night
DESCRIPTION:Various sewing projects will be available on Friday evenings for a drop in fee of $5-20
URL:https://lookyheregreenfield.com/event/sewing-night/
LOCATION:MA
CATEGORIES:Sewing
END:VEVENT
END:VCALENDAR