BEGIN:VCALENDAR
VERSION:2.0
PRODID:-//Looky Here - ECPv6.15.20//NONSGML v1.0//EN
CALSCALE:GREGORIAN
METHOD:PUBLISH
X-WR-CALNAME:Looky Here
X-ORIGINAL-URL:https://lookyheregreenfield.com
X-WR-CALDESC:Events for Looky Here
REFRESH-INTERVAL;VALUE=DURATION:PT1H
X-Robots-Tag:noindex
X-PUBLISHED-TTL:PT1H
BEGIN:VTIMEZONE
TZID:America/New_York
BEGIN:DAYLIGHT
TZOFFSETFROM:-0500
TZOFFSETTO:-0400
TZNAME:EDT
DTSTART:20220313T070000
END:DAYLIGHT
BEGIN:STANDARD
TZOFFSETFROM:-0400
TZOFFSETTO:-0500
TZNAME:EST
DTSTART:20221106T060000
END:STANDARD
BEGIN:DAYLIGHT
TZOFFSETFROM:-0500
TZOFFSETTO:-0400
TZNAME:EDT
DTSTART:20230312T070000
END:DAYLIGHT
BEGIN:STANDARD
TZOFFSETFROM:-0400
TZOFFSETTO:-0500
TZNAME:EST
DTSTART:20231105T060000
END:STANDARD
BEGIN:DAYLIGHT
TZOFFSETFROM:-0500
TZOFFSETTO:-0400
TZNAME:EDT
DTSTART:20240310T070000
END:DAYLIGHT
BEGIN:STANDARD
TZOFFSETFROM:-0400
TZOFFSETTO:-0500
TZNAME:EST
DTSTART:20241103T060000
END:STANDARD
END:VTIMEZONE
BEGIN:VEVENT
DTSTART;TZID=America/New_York:20231101T180000
DTEND;TZID=America/New_York:20231101T200000
DTSTAMP:20260425T232041
CREATED:20230809T214814Z
LAST-MODIFIED:20230809T214814Z
UID:6148-1698861600-1698868800@lookyheregreenfield.com
SUMMARY:Interaction of Color
DESCRIPTION:Josef Albers Interaction of Color  Reading and Color Theory Class \n  \nIn this 8 week class\, we will work through the color experiments presented by Josef Albers in his 1963 publication “Interaction of Color”. Albers taught at the Bauhaus and Black Mountain College\, headed Yale University’s department of design\, and is considered one of the most influential teachers of the visual arts in the twentieth century. Students will need to have a copy of the text as well as color swatches to work with (color swatches from paint stores work best!). Experiments will be done at home and in class.  \n(TICKETS IN WEEK 1)
URL:https://lookyheregreenfield.com/event/interaction-of-color-5/
CATEGORIES:workshop
ATTACH;FMTTYPE=image/jpeg:https://lookyheregreenfield.com/wp-content/uploads/2023/08/IMG-1760.jpg
END:VEVENT
BEGIN:VEVENT
DTSTART;TZID=America/New_York:20231102T180000
DTEND;TZID=America/New_York:20231102T200000
DTSTAMP:20260425T232041
CREATED:20230809T220515Z
LAST-MODIFIED:20230809T220948Z
UID:6169-1698948000-1698955200@lookyheregreenfield.com
SUMMARY:Figure Drawing 11/2/23
DESCRIPTION:BYO materials \nEasels and Drawing Horses provided
URL:https://lookyheregreenfield.com/event/figure-drawing-11-2-23/
CATEGORIES:workshop
ATTACH;FMTTYPE=image/jpeg:https://lookyheregreenfield.com/wp-content/uploads/2023/08/IMG-1525-scaled.jpg
END:VEVENT
BEGIN:VEVENT
DTSTART;TZID=America/New_York:20231107T180000
DTEND;TZID=America/New_York:20231107T200000
DTSTAMP:20260425T232041
CREATED:20230901T124222Z
LAST-MODIFIED:20230901T124514Z
UID:6330-1699380000-1699387200@lookyheregreenfield.com
SUMMARY:Strange Page– Experimental Writing Workshop (Tuesdays - 11/7-12/19 - 6:00-8:00p.m.)
DESCRIPTION:The Strange Page is a 7 week writing workshop open to all writing styles\, (poetry\, fiction\, CNF\, experimental\, etc!) but it must be kept under one page! Working with a new prompt each week\, class time will be divided evenly to critique and discuss everyone’s writing. This generative writing workshop is open to adults and mature teens with any level of writing experience. Limited to 12 students.\n\n\nAbout the teacher: Vanessa Brewster is a writer\, musician and educator living in Greenfield. She is a candidate in the Bennington MFA program for fiction and has a Masters degree in Spanish Literature from Middlebury College. Her work is published with Monkeybicycle and she is a cofounder and editor of Looky Here Magazine.
URL:https://lookyheregreenfield.com/event/strange-page-experimental-writing-workshop-tuesdays-11-7-12-19-600-800p-m/
LOCATION:Looky Here\, 28 chapman street\, greenfield\, MA\, 01301\, United States
CATEGORIES:workshop,writing
ATTACH;FMTTYPE=application/pdf:https://lookyheregreenfield.com/wp-content/uploads/2023/09/VanessaPhoto.jpg.pdf
ORGANIZER;CN="Looky Here":MAILTO:lookyheregreenfield@gmail.com
END:VEVENT
BEGIN:VEVENT
DTSTART;TZID=America/New_York:20231108T180000
DTEND;TZID=America/New_York:20231108T200000
DTSTAMP:20260425T232041
CREATED:20230809T214905Z
LAST-MODIFIED:20230809T214905Z
UID:6150-1699466400-1699473600@lookyheregreenfield.com
SUMMARY:Interaction of Color
DESCRIPTION:Josef Albers Interaction of Color  Reading and Color Theory Class \n  \nIn this 8 week class\, we will work through the color experiments presented by Josef Albers in his 1963 publication “Interaction of Color”. Albers taught at the Bauhaus and Black Mountain College\, headed Yale University’s department of design\, and is considered one of the most influential teachers of the visual arts in the twentieth century. Students will need to have a copy of the text as well as color swatches to work with (color swatches from paint stores work best!). Experiments will be done at home and in class.  \n(TICKETS IN WEEK 1)
URL:https://lookyheregreenfield.com/event/interaction-of-color-6/
CATEGORIES:workshop
ATTACH;FMTTYPE=image/jpeg:https://lookyheregreenfield.com/wp-content/uploads/2023/08/IMG-1760.jpg
END:VEVENT
BEGIN:VEVENT
DTSTART;TZID=America/New_York:20231109T180000
DTEND;TZID=America/New_York:20231109T200000
DTSTAMP:20260425T232041
CREATED:20230906T183744Z
LAST-MODIFIED:20230906T183744Z
UID:6375-1699552800-1699560000@lookyheregreenfield.com
SUMMARY:Draw What You See: A 3 Workshop Series (Biweekly Thursdays 10/12\, 10/26 & 11/9)
DESCRIPTION:Tickets and info in Week 1!
URL:https://lookyheregreenfield.com/event/draw-what-you-see-a-3-workshop-series-biweekly-thursdays-10-12-10-26-11-9-3/
CATEGORIES:Drawing,workshop
ATTACH;FMTTYPE=image/jpeg:https://lookyheregreenfield.com/wp-content/uploads/2023/08/DWYS_01-1.jpg
END:VEVENT
BEGIN:VEVENT
DTSTART;TZID=America/New_York:20231114T180000
DTEND;TZID=America/New_York:20231114T200000
DTSTAMP:20260425T232041
CREATED:20231005T112702Z
LAST-MODIFIED:20231005T112703Z
UID:6619-1699984800-1699992000@lookyheregreenfield.com
SUMMARY:The Strange Page - Experimental Writing Workshop (7 Tuesdays\, November 7th - December 19th)
DESCRIPTION:Tickets and info in week 1!
URL:https://lookyheregreenfield.com/event/the-strange-page-experimental-writing-workshop-7-tuesdays-november-7th-december-19th/
CATEGORIES:workshop,writing
END:VEVENT
BEGIN:VEVENT
DTSTART;TZID=America/New_York:20231115T180000
DTEND;TZID=America/New_York:20231115T200000
DTSTAMP:20260425T232041
CREATED:20230809T215032Z
LAST-MODIFIED:20230809T215033Z
UID:6152-1700071200-1700078400@lookyheregreenfield.com
SUMMARY:Interaction of Color
DESCRIPTION:Josef Albers Interaction of Color  Reading and Color Theory Class \n  \nIn this 8 week class\, we will work through the color experiments presented by Josef Albers in his 1963 publication “Interaction of Color”. Albers taught at the Bauhaus and Black Mountain College\, headed Yale University’s department of design\, and is considered one of the most influential teachers of the visual arts in the twentieth century. Students will need to have a copy of the text as well as color swatches to work with (color swatches from paint stores work best!). Experiments will be done at home and in class.  \n(TICKETS IN WEEK 1)
URL:https://lookyheregreenfield.com/event/interaction-of-color-7/
CATEGORIES:workshop
ATTACH;FMTTYPE=image/jpeg:https://lookyheregreenfield.com/wp-content/uploads/2023/08/IMG-1760.jpg
END:VEVENT
BEGIN:VEVENT
DTSTART;TZID=America/New_York:20231116T150000
DTEND;TZID=America/New_York:20231116T170000
DTSTAMP:20260425T232041
CREATED:20231015T201406Z
LAST-MODIFIED:20231015T201759Z
UID:6707-1700146800-1700154000@lookyheregreenfield.com
SUMMARY:Spanish Through Art (3:00 - 5:00)
DESCRIPTION:We are offering our Portrait Painting Spanish through art classes through Greenfield Community College’s Continuing Engagement Program on Thursday November 16th\, and December 14th from 3:00 – 5:00p.m. \n\n\n\nWe’ll talk about Frida Kahlo’s portraits and her techniques in Spanish\, and then paint our own self-portraits! You don’t need to be a fluent Spanish speaker or a professional artist\, just excited for both! \n\n\n\nALL MATERIALS INCLUDED! This class is co-taught by Hannah Brookman and Vanessa Brewster. \n\n\n\nGet tickets through Greenfield Community College here!
URL:https://lookyheregreenfield.com/event/spanish-through-art-300-500/
CATEGORIES:Spanish,workshop
ATTACH;FMTTYPE=image/jpeg:https://lookyheregreenfield.com/wp-content/uploads/2023/04/IMG_1770-e1698067816883.jpg
END:VEVENT
BEGIN:VEVENT
DTSTART;TZID=America/New_York:20231116T180000
DTEND;TZID=America/New_York:20231116T200000
DTSTAMP:20260425T232041
CREATED:20230809T220643Z
LAST-MODIFIED:20230809T220643Z
UID:6172-1700157600-1700164800@lookyheregreenfield.com
SUMMARY:Figure Drawing 11/16
DESCRIPTION:BYO materials \nEasels and Drawing Horses provided
URL:https://lookyheregreenfield.com/event/figure-drawing-11-16/
CATEGORIES:workshop
ATTACH;FMTTYPE=image/jpeg:https://lookyheregreenfield.com/wp-content/uploads/2023/08/IMG-1525-scaled.jpg
END:VEVENT
BEGIN:VEVENT
DTSTART;TZID=America/New_York:20231118T130000
DTEND;TZID=America/New_York:20231118T150000
DTSTAMP:20260425T232041
CREATED:20230923T173101Z
LAST-MODIFIED:20231023T234615Z
UID:6537-1700312400-1700319600@lookyheregreenfield.com
SUMMARY:Collage Club at Looky Here - All ages!
DESCRIPTION:The Collage Club is where you can play\, experiment\, and learn the fundamentals of creating a collage! No experience is necessary to participate and open to all ages!  All collage materials will be provided or you can bring your own. We will meet from 1-3 pm. Tickets for this event are $10 each class. Let’s cut things up\, glue them down\, and create something beautiful!  \n  \nBio: Bella LaMontagne is an analog collage artist based in Shelburne Falls Massachusetts. She is a Finalist in the 9th edition of the Boynes Artist Award: Young Artist Category. Her work has been published in multiple publications including\, the Red Ogre Review\, the Indianapolis Review\, the Santa Clara Review\, and Photosynthesis Magazine . Bella has exhibited her work both regionally and internationally. In March of 2023 Bella was an artist in residence\, hosted by the Kolaj Institute\, at the Knoxville Museum of Art in Knoxville Tennessee where she explored the role of folklore within the context of collage. 
URL:https://lookyheregreenfield.com/event/collage-club-at-looky-here/
CATEGORIES:workshop
ATTACH;FMTTYPE=image/jpeg:https://lookyheregreenfield.com/wp-content/uploads/2023/09/Collage-Meet-Up-November-1st-at-Looky-Here-Gallery.jpg
END:VEVENT
BEGIN:VEVENT
DTSTART;TZID=America/New_York:20231121T180000
DTEND;TZID=America/New_York:20231121T200000
DTSTAMP:20260425T232041
CREATED:20231005T112813Z
LAST-MODIFIED:20231005T112813Z
UID:6621-1700589600-1700596800@lookyheregreenfield.com
SUMMARY:The Strange Page - Experimental Writing Workshop (7 Tuesdays\, November 7th - December 19th)
DESCRIPTION:Get tickets and info in week 1!
URL:https://lookyheregreenfield.com/event/the-strange-page-experimental-writing-workshop-7-tuesdays-november-7th-december-19th-2/
CATEGORIES:workshop,writing
END:VEVENT
BEGIN:VEVENT
DTSTART;TZID=America/New_York:20231122T180000
DTEND;TZID=America/New_York:20231122T200000
DTSTAMP:20260425T232041
CREATED:20230809T215119Z
LAST-MODIFIED:20230809T215119Z
UID:6154-1700676000-1700683200@lookyheregreenfield.com
SUMMARY:Interaction of Color
DESCRIPTION:Josef Albers Interaction of Color  Reading and Color Theory Class \n  \nIn this 8 week class\, we will work through the color experiments presented by Josef Albers in his 1963 publication “Interaction of Color”. Albers taught at the Bauhaus and Black Mountain College\, headed Yale University’s department of design\, and is considered one of the most influential teachers of the visual arts in the twentieth century. Students will need to have a copy of the text as well as color swatches to work with (color swatches from paint stores work best!). Experiments will be done at home and in class.  \n(TICKETS IN WEEK 1)
URL:https://lookyheregreenfield.com/event/interaction-of-color-8/
CATEGORIES:workshop
ATTACH;FMTTYPE=image/jpeg:https://lookyheregreenfield.com/wp-content/uploads/2023/08/IMG-1760.jpg
END:VEVENT
BEGIN:VEVENT
DTSTART;TZID=America/New_York:20231128T180000
DTEND;TZID=America/New_York:20231128T200000
DTSTAMP:20260425T232041
CREATED:20231005T112906Z
LAST-MODIFIED:20231005T112906Z
UID:6623-1701194400-1701201600@lookyheregreenfield.com
SUMMARY:The Strange Page - Experimental Writing Workshop (7 Tuesdays\, November 7th - December 19th)
DESCRIPTION:Get tickets and info in week 1!
URL:https://lookyheregreenfield.com/event/the-strange-page-experimental-writing-workshop-7-tuesdays-november-7th-december-19th-3/
CATEGORIES:workshop,writing
END:VEVENT
BEGIN:VEVENT
DTSTART;TZID=America/New_York:20231130T180000
DTEND;TZID=America/New_York:20231130T200000
DTSTAMP:20260425T232041
CREATED:20230809T220804Z
LAST-MODIFIED:20231127T194739Z
UID:6175-1701367200-1701374400@lookyheregreenfield.com
SUMMARY:Figure Drawing 11/30/23
DESCRIPTION:BYO materials \nEasels and Drawing Horses provided
URL:https://lookyheregreenfield.com/event/figure-drawing-12-7-23/
CATEGORIES:workshop
ATTACH;FMTTYPE=image/jpeg:https://lookyheregreenfield.com/wp-content/uploads/2023/08/IMG-1525-scaled.jpg
END:VEVENT
END:VCALENDAR