BEGIN:VCALENDAR
VERSION:2.0
PRODID:-//Looky Here - ECPv6.15.20//NONSGML v1.0//EN
CALSCALE:GREGORIAN
METHOD:PUBLISH
X-ORIGINAL-URL:https://lookyheregreenfield.com
X-WR-CALDESC:Events for Looky Here
REFRESH-INTERVAL;VALUE=DURATION:PT1H
X-Robots-Tag:noindex
X-PUBLISHED-TTL:PT1H
BEGIN:VTIMEZONE
TZID:America/New_York
BEGIN:DAYLIGHT
TZOFFSETFROM:-0500
TZOFFSETTO:-0400
TZNAME:EDT
DTSTART:20230312T070000
END:DAYLIGHT
BEGIN:STANDARD
TZOFFSETFROM:-0400
TZOFFSETTO:-0500
TZNAME:EST
DTSTART:20231105T060000
END:STANDARD
BEGIN:DAYLIGHT
TZOFFSETFROM:-0500
TZOFFSETTO:-0400
TZNAME:EDT
DTSTART:20240310T070000
END:DAYLIGHT
BEGIN:STANDARD
TZOFFSETFROM:-0400
TZOFFSETTO:-0500
TZNAME:EST
DTSTART:20241103T060000
END:STANDARD
BEGIN:DAYLIGHT
TZOFFSETFROM:-0500
TZOFFSETTO:-0400
TZNAME:EDT
DTSTART:20250309T070000
END:DAYLIGHT
BEGIN:STANDARD
TZOFFSETFROM:-0400
TZOFFSETTO:-0500
TZNAME:EST
DTSTART:20251102T060000
END:STANDARD
END:VTIMEZONE
BEGIN:VEVENT
DTSTART;TZID=America/New_York:20240712T100000
DTEND;TZID=America/New_York:20240712T120000
DTSTAMP:20260425T072822
CREATED:20240605T164906Z
LAST-MODIFIED:20240706T173747Z
UID:8577-1720778400-1720785600@lookyheregreenfield.com
SUMMARY:Reflective Drawing (a 3 week series 10:00am-12:00pm with Caroline James)
DESCRIPTION:Reflective Drawing: Self Exploration Through Observational Drawing \nIn this workshop\, we will curate our own scene for observational drawing\, both to improve our technical drawing skills\, and to create space within to explore our creativity! \nWe will spend three weeks exploring introspective drawing through gesture and style\, personalized still-life\, and costumed self-portraits. \n3 Fridays from 10:00-12:00 starting August 2nd. \nWe will offer a second installment of the workshop in August that will be more portrait based! \nWe hope to see you there!
URL:https://lookyheregreenfield.com/event/reflective-drawing-a-3-week-series-1000am-1200pm-with-caroline-james/
CATEGORIES:Drawing,workshop
ATTACH;FMTTYPE=image/jpeg:https://lookyheregreenfield.com/wp-content/uploads/2024/06/Caroline-1-scaled.jpg
END:VEVENT
BEGIN:VEVENT
DTSTART;TZID=America/New_York:20240713T120000
DTEND;TZID=America/New_York:20240713T150000
DTSTAMP:20260425T072822
CREATED:20240605T170511Z
LAST-MODIFIED:20240703T191054Z
UID:8587-1720872000-1720882800@lookyheregreenfield.com
SUMMARY:Design and Print Stationary on the Riso!
DESCRIPTION:Design and print a set of stationary and envelopes on the risograph! \nAll materials included! \nSaturday\, July 13th from 12:00-3:00pm!
URL:https://lookyheregreenfield.com/event/design-and-print-stationary-on-the-riso-3/
CATEGORIES:Riso,workshop
ATTACH;FMTTYPE=image/jpeg:https://lookyheregreenfield.com/wp-content/uploads/2024/06/Stationary.jpg
END:VEVENT
BEGIN:VEVENT
DTSTART;TZID=America/New_York:20240718T180000
DTEND;TZID=America/New_York:20240718T200000
DTSTAMP:20260425T072822
CREATED:20240605T185502Z
LAST-MODIFIED:20240718T212426Z
UID:8631-1721325600-1721332800@lookyheregreenfield.com
SUMMARY:Still Life Social Club 7/18 - $10
DESCRIPTION:Still Life Social Club – biweekly on Thursdays 6-8pm. Bring drawing or painting supplies\, a drink or a snack\, a playlist or a good story and an item to add to the still life ! $10 tickets online 🎨✏️💐🏺🧃🍿🎶🧸📚
URL:https://lookyheregreenfield.com/event/still-life-social-club-7-18-10/
CATEGORIES:Drawing,workshop
ATTACH;FMTTYPE=image/jpeg:https://lookyheregreenfield.com/wp-content/uploads/2024/05/IMG_4344.jpeg
END:VEVENT
BEGIN:VEVENT
DTSTART;TZID=America/New_York:20240720T180000
DTEND;TZID=America/New_York:20240720T180000
DTSTAMP:20260425T072822
CREATED:20240605T172944Z
LAST-MODIFIED:20240612T165214Z
UID:8602-1721498400-1721498400@lookyheregreenfield.com
SUMMARY:Paper Pulp Workshop (12:00-3:00pm)
DESCRIPTION:WORKING WITH RECYCLED PAPER PULP\nwith Amanda Petrovato\nLooky Here\n28 Chapman St. Greenfield\, MA \nNoon-3.   $30\nSaturday\, July 20\nLearn how to recycle paper into a versatile low/no cost art making material in this workshop with paper pulp experimenter and artist Amanda Petrovato. All materials and tools will be provided\, including an instruction booklet to take home.
URL:https://lookyheregreenfield.com/event/paper-pulp-workshop/
CATEGORIES:workshop
ATTACH;FMTTYPE=image/jpeg:https://lookyheregreenfield.com/wp-content/uploads/2024/06/Paper-pulp-scaled.jpg
END:VEVENT
BEGIN:VEVENT
DTSTART;TZID=America/New_York:20240724T180000
DTEND;TZID=America/New_York:20240724T200000
DTSTAMP:20260425T072822
CREATED:20240605T174817Z
LAST-MODIFIED:20240605T174818Z
UID:8606-1721844000-1721851200@lookyheregreenfield.com
SUMMARY:Book Binding and Prixel Printing Workshop with Lisa Hersey (6:00-8:00 - $48)
DESCRIPTION:In this class we will use a PRIXEL press to stamp our book covers and learn to sew our own books. You will learn how to sew a three-hole pamphlet book and can use that knowledge to recreate more journals at home. Use your journal to document your garden’s growth\, plants you want to add to your garden next year\, the growing garden to-do list\, or use it to doodle! All skill levels welcome\, no printing or binding experience necessary. Must be able to thread and handle a needle. All materials and bookbinding tools provided.
URL:https://lookyheregreenfield.com/event/book-binding-and-prixel-printing-workshop-with-lisa-hersey-600-800-48/
CATEGORIES:workshop
ATTACH;FMTTYPE=image/jpeg:https://lookyheregreenfield.com/wp-content/uploads/2024/06/bookbinding-3.jpg
END:VEVENT
BEGIN:VEVENT
DTSTART;TZID=America/New_York:20240725T180000
DTEND;TZID=America/New_York:20240725T200000
DTSTAMP:20260425T072822
CREATED:20240605T185050Z
LAST-MODIFIED:20240605T185103Z
UID:8628-1721930400-1721937600@lookyheregreenfield.com
SUMMARY:Figure Drawing 7/25/24
DESCRIPTION:Figure drawing at Looky Here is an uninstructed drawing session with a nude model. \nEasels and drawing horses are provided but please bring your own materials.
URL:https://lookyheregreenfield.com/event/figure-drawing-7-25-24/
CATEGORIES:Drawing,workshop
ATTACH;FMTTYPE=image/jpeg:https://lookyheregreenfield.com/wp-content/uploads/2024/05/9F6968EC-9969-4CAD-8C93-89191499AC7F-scaled.jpeg
END:VEVENT
BEGIN:VEVENT
DTSTART;TZID=America/New_York:20240727T130000
DTEND;TZID=America/New_York:20240727T150000
DTSTAMP:20260425T072822
CREATED:20240709T163842Z
LAST-MODIFIED:20240710T163829Z
UID:8863-1722085200-1722092400@lookyheregreenfield.com
SUMMARY:Collage Club!
DESCRIPTION:The Collage Club is where you can play\, experiment\, and learn the fundamentals of creating a collage! No experience is necessary to participate and open to all ages!  All collage materials will be provided or you can bring your own. We will meet from 1-3 pm. Tickets for this event are $10 each class. Let’s cut things up\, glue them down\, and create something beautiful!
URL:https://lookyheregreenfield.com/event/collage-club-7/
CATEGORIES:workshop
ATTACH;FMTTYPE=image/jpeg:https://lookyheregreenfield.com/wp-content/uploads/2023/09/Collage-Club-Poster.jpg
END:VEVENT
END:VCALENDAR