BEGIN:VCALENDAR
VERSION:2.0
PRODID:-//Looky Here - ECPv6.15.20//NONSGML v1.0//EN
CALSCALE:GREGORIAN
METHOD:PUBLISH
X-ORIGINAL-URL:https://lookyheregreenfield.com
X-WR-CALDESC:Events for Looky Here
REFRESH-INTERVAL;VALUE=DURATION:PT1H
X-Robots-Tag:noindex
X-PUBLISHED-TTL:PT1H
BEGIN:VTIMEZONE
TZID:America/New_York
BEGIN:DAYLIGHT
TZOFFSETFROM:-0500
TZOFFSETTO:-0400
TZNAME:EDT
DTSTART:20230312T070000
END:DAYLIGHT
BEGIN:STANDARD
TZOFFSETFROM:-0400
TZOFFSETTO:-0500
TZNAME:EST
DTSTART:20231105T060000
END:STANDARD
BEGIN:DAYLIGHT
TZOFFSETFROM:-0500
TZOFFSETTO:-0400
TZNAME:EDT
DTSTART:20240310T070000
END:DAYLIGHT
BEGIN:STANDARD
TZOFFSETFROM:-0400
TZOFFSETTO:-0500
TZNAME:EST
DTSTART:20241103T060000
END:STANDARD
BEGIN:DAYLIGHT
TZOFFSETFROM:-0500
TZOFFSETTO:-0400
TZNAME:EDT
DTSTART:20250309T070000
END:DAYLIGHT
BEGIN:STANDARD
TZOFFSETFROM:-0400
TZOFFSETTO:-0500
TZNAME:EST
DTSTART:20251102T060000
END:STANDARD
END:VTIMEZONE
BEGIN:VEVENT
DTSTART;TZID=America/New_York:20241210T183000
DTEND;TZID=America/New_York:20241210T210000
DTSTAMP:20260424T154554
CREATED:20241005T225240Z
LAST-MODIFIED:20241108T193648Z
UID:9640-1733855400-1733864400@lookyheregreenfield.com
SUMMARY:Expressive Arts Shindig! 12/10 6:30-9:00 All materials included!
DESCRIPTION:A workshop for people to engage playfully with different art forms\, individually and as a group. We will focus on process more than product to create community that will allow for spontaneity\, creativity without judgement\, individual expression and….FUN! No experience necessary. Just bring an open mind\, yer rebellious spirit and your willingness to say yes or no to the offerings.\nTuesday\, December 10th 6:30-9:00p.m.\nALL MATERIALS INCLUDED!
URL:https://lookyheregreenfield.com/event/expressive-arts-shindig/
CATEGORIES:Events,workshop
ATTACH;FMTTYPE=image/jpeg:https://lookyheregreenfield.com/wp-content/uploads/2024/10/expressive-arts-shindig.jpg
END:VEVENT
END:VCALENDAR