BEGIN:VCALENDAR
VERSION:2.0
PRODID:-//Looky Here - ECPv6.15.20//NONSGML v1.0//EN
CALSCALE:GREGORIAN
METHOD:PUBLISH
X-WR-CALNAME:Looky Here
X-ORIGINAL-URL:https://lookyheregreenfield.com
X-WR-CALDESC:Events for Looky Here
REFRESH-INTERVAL;VALUE=DURATION:PT1H
X-Robots-Tag:noindex
X-PUBLISHED-TTL:PT1H
BEGIN:VTIMEZONE
TZID:America/New_York
BEGIN:DAYLIGHT
TZOFFSETFROM:-0500
TZOFFSETTO:-0400
TZNAME:EDT
DTSTART:20240310T070000
END:DAYLIGHT
BEGIN:STANDARD
TZOFFSETFROM:-0400
TZOFFSETTO:-0500
TZNAME:EST
DTSTART:20241103T060000
END:STANDARD
BEGIN:DAYLIGHT
TZOFFSETFROM:-0500
TZOFFSETTO:-0400
TZNAME:EDT
DTSTART:20250309T070000
END:DAYLIGHT
BEGIN:STANDARD
TZOFFSETFROM:-0400
TZOFFSETTO:-0500
TZNAME:EST
DTSTART:20251102T060000
END:STANDARD
BEGIN:DAYLIGHT
TZOFFSETFROM:-0500
TZOFFSETTO:-0400
TZNAME:EDT
DTSTART:20260308T070000
END:DAYLIGHT
BEGIN:STANDARD
TZOFFSETFROM:-0400
TZOFFSETTO:-0500
TZNAME:EST
DTSTART:20261101T060000
END:STANDARD
END:VTIMEZONE
BEGIN:VEVENT
DTSTART;TZID=America/New_York:20250107T180000
DTEND;TZID=America/New_York:20250107T200000
DTSTAMP:20260424T140758
CREATED:20241204T154332Z
LAST-MODIFIED:20241204T154354Z
UID:9874-1736272800-1736280000@lookyheregreenfield.com
SUMMARY:Carousel (4 week writing workshop with L. Scully - Tuesdays 6:00-8:00 $100)
DESCRIPTION:One month\, four themes\, and your new year’s writing commitment. Over the course of four weeks\, gather to discuss and generate new work with writer L Scully. This workshop will occur Tuesday evenings in January in two hour\, limited group sessions at LookyHere. Each week we will explore a different theme through literary and artistic references\, group discussion\, and generative writing prompts provided live and in session. The ultimate goal of this workshop is to jumpstart your writing practice for 2025 in a supportive and productive environment guided by a tapestry of subject matter. Let’s get weird! \n4 Tuesdays 1/7-1/28 \n6:00-8:00pm \nThis class will end with an Open Mic Reading on Friday\, January 31st at 7:00!
URL:https://lookyheregreenfield.com/event/carousel-4-week-writing-workshop-with-l-scully-tuesdays-600-800-100/
CATEGORIES:workshop,writing
ATTACH;FMTTYPE=image/jpeg:https://lookyheregreenfield.com/wp-content/uploads/2024/12/Carousel.jpg
END:VEVENT
BEGIN:VEVENT
DTSTART;TZID=America/New_York:20250109T180000
DTEND;TZID=America/New_York:20250109T200000
DTSTAMP:20260424T140758
CREATED:20241204T163827Z
LAST-MODIFIED:20241204T171853Z
UID:9895-1736445600-1736452800@lookyheregreenfield.com
SUMMARY:Riso Workshop: Botanical Posters (1/9)
DESCRIPTION:Learn to print and layer colors on Looky Here’s Risograph printer in this 2 hour workshop! Students will collaboratively make a series of 20 11×17 posters by scanning leaves and flowers. All materials provided\, though feel free to bring your own plant matter.
URL:https://lookyheregreenfield.com/event/riso-workshop-botanical-posters-1-9/
CATEGORIES:Riso,workshop
ATTACH;FMTTYPE=image/jpeg:https://lookyheregreenfield.com/wp-content/uploads/2024/12/IMG-5911-scaled.jpg
END:VEVENT
BEGIN:VEVENT
DTSTART;TZID=America/New_York:20250109T180000
DTEND;TZID=America/New_York:20250109T200000
DTSTAMP:20260424T140758
CREATED:20241204T164153Z
LAST-MODIFIED:20241204T164154Z
UID:9905-1736445600-1736452800@lookyheregreenfield.com
SUMMARY:Still Life Social Club (1/9/25)
DESCRIPTION:BYO materials\, drinks and snacks! We Provide the still life and good vibes
URL:https://lookyheregreenfield.com/event/still-life-social-club-1-9-25/
CATEGORIES:Drawing,workshop
ATTACH;FMTTYPE=image/jpeg:https://lookyheregreenfield.com/wp-content/uploads/2024/05/IMG_4344.jpeg
END:VEVENT
BEGIN:VEVENT
DTSTART;TZID=America/New_York:20250110T150000
DTEND;TZID=America/New_York:20250110T170000
DTSTAMP:20260424T140758
CREATED:20241204T171012Z
LAST-MODIFIED:20241204T171015Z
UID:9926-1736521200-1736528400@lookyheregreenfield.com
SUMMARY:Make Our Merch! A free up cycling workshop!
DESCRIPTION:Learn different methods of up-cycling clothing to creator line of Looky Looks! All items made will be sold as merchandise in our shop!
URL:https://lookyheregreenfield.com/event/make-our-merch-a-free-up-cycling-workshop/
CATEGORIES:workshop
ATTACH;FMTTYPE=image/jpeg:https://lookyheregreenfield.com/wp-content/uploads/2024/01/4E3E5653-F64B-47D6-B074-949BD8022CF2.jpeg
END:VEVENT
BEGIN:VEVENT
DTSTART;TZID=America/New_York:20250111T120000
DTEND;TZID=America/New_York:20250111T150000
DTSTAMP:20260424T140758
CREATED:20241204T151934Z
LAST-MODIFIED:20241205T042742Z
UID:9866-1736596800-1736607600@lookyheregreenfield.com
SUMMARY:Sweatshirt Weaving Workshop with Rae Heller (12:00-3:00 $55)
DESCRIPTION:Bring in some shabby sweats and make them shine with fabric weaving!
URL:https://lookyheregreenfield.com/event/sweatshirt-weaving-workshop-with-rae-heller-1200-300-45/
CATEGORIES:Sewing,workshop
ATTACH;FMTTYPE=image/jpeg:https://lookyheregreenfield.com/wp-content/uploads/2024/12/Weaving-scaled.jpg
END:VEVENT
BEGIN:VEVENT
DTSTART;TZID=America/New_York:20250115T180000
DTEND;TZID=America/New_York:20250115T200000
DTSTAMP:20260424T140758
CREATED:20241204T161608Z
LAST-MODIFIED:20250115T195511Z
UID:9877-1736964000-1736971200@lookyheregreenfield.com
SUMMARY:Make a Marionette with a British control! (January 15-February 19)
DESCRIPTION:Vermont based painter and puppet-maker\, Julia Zanes will teach this marionette building class using skills and designs handed down from Mrs. Barbara Richards of “The Small World Theater” in Hopkinton NH. This “British Control” style of marionette is easier to make and control and leaves much elbow room for personal vision while still making a marionette that can “imitate life”. All materials will be included in the cost of this 6 week class which will run from 1/15-2/19 from 6-8pm on Wednesday evenings.
URL:https://lookyheregreenfield.com/event/make-a-marionette-with-a-british-control/
CATEGORIES:workshop
ATTACH;FMTTYPE=image/jpeg:https://lookyheregreenfield.com/wp-content/uploads/2024/12/IMG-5872-scaled.jpg
END:VEVENT
BEGIN:VEVENT
DTSTART;TZID=America/New_York:20250116T180000
DTEND;TZID=America/New_York:20250116T200000
DTSTAMP:20260424T140758
CREATED:20241204T165130Z
LAST-MODIFIED:20250116T210452Z
UID:9912-1737050400-1737057600@lookyheregreenfield.com
SUMMARY:Figure Drawing (1/16/25)
DESCRIPTION:BYO materials! Easel and drawing horses provided. Figure Drawing at Looky Here is an uninstructed drawing session with a nude model. $15 per session\, running 6-8pm every other Thursday evening.
URL:https://lookyheregreenfield.com/event/figure-drawing-1-16-25/
CATEGORIES:Drawing,workshop
ATTACH;FMTTYPE=image/jpeg:https://lookyheregreenfield.com/wp-content/uploads/2024/09/figure-drawing-scaled.jpg
END:VEVENT
BEGIN:VEVENT
DTSTART;TZID=America/New_York:20250117T150000
DTEND;TZID=America/New_York:20250117T170000
DTSTAMP:20260424T140758
CREATED:20241211T192003Z
LAST-MODIFIED:20241211T192205Z
UID:10058-1737126000-1737133200@lookyheregreenfield.com
SUMMARY:Make our Merch!
DESCRIPTION:Learn different methods of up-cycling clothing to creator line of Looky Looks! All items made will be sold as merchandise in our shop! \nFREE!
URL:https://lookyheregreenfield.com/event/make-our-merch-3/
CATEGORIES:workshop
ATTACH;FMTTYPE=image/jpeg:https://lookyheregreenfield.com/wp-content/uploads/2020/02/looky-merch.jpg
END:VEVENT
BEGIN:VEVENT
DTSTART;TZID=America/New_York:20250118T120000
DTEND;TZID=America/New_York:20250118T150000
DTSTAMP:20260424T140758
CREATED:20241204T165835Z
LAST-MODIFIED:20241204T165836Z
UID:9918-1737201600-1737212400@lookyheregreenfield.com
SUMMARY:Make Your Own Stationary: Riso Workshop (1/18/25)
DESCRIPTION:Learn to layer colors on the Risograph while designing and printing your own edition of 20 notecards and envelopes. All Materials included. 1/18/25 12-3 pm
URL:https://lookyheregreenfield.com/event/make-your-own-stationary-riso-workshop-1-18-25/
CATEGORIES:Riso,workshop
ATTACH;FMTTYPE=image/jpeg:https://lookyheregreenfield.com/wp-content/uploads/2024/06/Stationary.jpg
END:VEVENT
BEGIN:VEVENT
DTSTART;TZID=America/New_York:20250124T150000
DTEND;TZID=America/New_York:20250124T170000
DTSTAMP:20260424T140758
CREATED:20241204T171541Z
LAST-MODIFIED:20241204T171542Z
UID:9932-1737730800-1737738000@lookyheregreenfield.com
SUMMARY:Make Our Merch! A free up cycling workshop!
DESCRIPTION:
URL:https://lookyheregreenfield.com/event/make-our-merch-a-free-up-cycling-workshop-3/
CATEGORIES:Sewing,workshop
ATTACH;FMTTYPE=image/jpeg:https://lookyheregreenfield.com/wp-content/uploads/2024/01/3C90EA62-114D-4EA5-8B90-FD683BE11FF9.jpeg
END:VEVENT
BEGIN:VEVENT
DTSTART;TZID=America/New_York:20250125T130000
DTEND;TZID=America/New_York:20250125T150000
DTSTAMP:20260424T140758
CREATED:20250104T170451Z
LAST-MODIFIED:20250115T212822Z
UID:9921-1737810000-1737817200@lookyheregreenfield.com
SUMMARY:Collage Club 1/25/25
DESCRIPTION:The Collage Club is where you can play\, experiment\, and learn the fundamentals of creating a collage! No experience is necessary to participate and open to all ages!  All collage materials will be provided or you can bring your own. We will meet from 1-3 pm. Tickets for this event are $10 each class. Let’s cut things up\, glue them down\, and create something beautiful!
URL:https://lookyheregreenfield.com/event/collage-club-1-25-25/
CATEGORIES:workshop
ATTACH;FMTTYPE=image/jpeg:https://lookyheregreenfield.com/wp-content/uploads/2023/09/Collage-Club-Poster.jpg
END:VEVENT
BEGIN:VEVENT
DTSTART;TZID=America/New_York:20250125T153000
DTEND;TZID=America/New_York:20250125T183000
DTSTAMP:20260424T140758
CREATED:20241204T152721Z
LAST-MODIFIED:20250121T192825Z
UID:9869-1737819000-1737829800@lookyheregreenfield.com
SUMMARY:Quilting with Rae Heller Part 1: (3 week series with Rae Heller Saturdays\, 3:30-6:30 $155)
DESCRIPTION:3 week Quilting with Rae (Part 1): Saturdays 3:30-6:30 1/25\, 2/1\, 2/15 \nPart 1: Creativity is held well through soft materials\, creating something of nothing\, and slow stitching. Part 1 of this foundational quilting course will be focused on traditional quilting techniques. Learn how to build a quilt block using checkers\, half square triangles\, strip piecing\, chain piecing\, nesting seams\, improv quilting\, and creating larger patterns to form your quilt top. This class is not project based. Students will have the space to follow their creative dreams! \nThen\, we will build on learned techniques and explore “sandwiching” your quilt\, binding\, and finishing your quilt. We will create using both hand-sewing techniques and using sewing machines. A few sewing machines will be provided but participants are encouraged to bring their own if they have one! Sewing skills are helpful but not a must. Come learn basic quilting techniques and deepen your artistic practice! \nMost Materials included – you are encouraged to bring fabric that makes your heart sing. Head to Swanson’s Fabrics! Looky Here does have plenty of scraps as well. Batting/thread/scissors/everything else included. \n  \n 
URL:https://lookyheregreenfield.com/event/quilting-101-with-rae-heller-3-week-series-330-630-155/
CATEGORIES:Sewing,workshop
ATTACH;FMTTYPE=image/jpeg:https://lookyheregreenfield.com/wp-content/uploads/2024/12/BlueFadeQuilt71x71.jpeg
END:VEVENT
BEGIN:VEVENT
DTSTART;TZID=America/New_York:20250130T180000
DTEND;TZID=America/New_York:20250130T200000
DTSTAMP:20260424T140758
CREATED:20241204T165305Z
LAST-MODIFIED:20250130T191518Z
UID:9915-1738260000-1738267200@lookyheregreenfield.com
SUMMARY:Figure Drawing (1/30/25)
DESCRIPTION:BYO materials! Easel and drawing horses provided. Figure Drawing at Looky Here is an uninstructed drawing session with a nude model. $15 per session\, running 6-8pm on over other Thursday evening.
URL:https://lookyheregreenfield.com/event/figure-drawing-1-30-25/
CATEGORIES:Drawing,workshop
ATTACH;FMTTYPE=image/jpeg:https://lookyheregreenfield.com/wp-content/uploads/2024/09/figure-drawing-scaled.jpg
END:VEVENT
BEGIN:VEVENT
DTSTART;TZID=America/New_York:20250131T150000
DTEND;TZID=America/New_York:20250131T170000
DTSTAMP:20260424T140758
CREATED:20241204T171741Z
LAST-MODIFIED:20241204T171741Z
UID:9936-1738335600-1738342800@lookyheregreenfield.com
SUMMARY:Make Our Merch! A free up cycling workshop!
DESCRIPTION:
URL:https://lookyheregreenfield.com/event/make-our-merch-a-free-up-cycling-workshop-4/
CATEGORIES:Spanish,workshop
ATTACH;FMTTYPE=image/jpeg:https://lookyheregreenfield.com/wp-content/uploads/2024/01/4E3E5653-F64B-47D6-B074-949BD8022CF2.jpeg
END:VEVENT
END:VCALENDAR