BEGIN:VCALENDAR
VERSION:2.0
PRODID:-//Looky Here - ECPv6.15.20//NONSGML v1.0//EN
CALSCALE:GREGORIAN
METHOD:PUBLISH
X-WR-CALNAME:Looky Here
X-ORIGINAL-URL:https://lookyheregreenfield.com
X-WR-CALDESC:Events for Looky Here
REFRESH-INTERVAL;VALUE=DURATION:PT1H
X-Robots-Tag:noindex
X-PUBLISHED-TTL:PT1H
BEGIN:VTIMEZONE
TZID:America/New_York
BEGIN:DAYLIGHT
TZOFFSETFROM:-0500
TZOFFSETTO:-0400
TZNAME:EDT
DTSTART:20240310T070000
END:DAYLIGHT
BEGIN:STANDARD
TZOFFSETFROM:-0400
TZOFFSETTO:-0500
TZNAME:EST
DTSTART:20241103T060000
END:STANDARD
BEGIN:DAYLIGHT
TZOFFSETFROM:-0500
TZOFFSETTO:-0400
TZNAME:EDT
DTSTART:20250309T070000
END:DAYLIGHT
BEGIN:STANDARD
TZOFFSETFROM:-0400
TZOFFSETTO:-0500
TZNAME:EST
DTSTART:20251102T060000
END:STANDARD
BEGIN:DAYLIGHT
TZOFFSETFROM:-0500
TZOFFSETTO:-0400
TZNAME:EDT
DTSTART:20260308T070000
END:DAYLIGHT
BEGIN:STANDARD
TZOFFSETFROM:-0400
TZOFFSETTO:-0500
TZNAME:EST
DTSTART:20261101T060000
END:STANDARD
END:VTIMEZONE
BEGIN:VEVENT
DTSTART;TZID=America/New_York:20250202T120000
DTEND;TZID=America/New_York:20250202T170000
DTSTAMP:20260424T122836
CREATED:20250121T181837Z
LAST-MODIFIED:20250127T184732Z
UID:10298-1738497600-1738515600@lookyheregreenfield.com
SUMMARY:Sweatshirt Weaving Workshop with Rae Heller (materials included 12:00-5:00 $100)
DESCRIPTION:Bring in some shabby sweats and make them shine with fabric weaving! \nWe ran a three hour version of this class\, but it just wasn’t long enough. Come to this all day intensive to master the art of sweatshirt weaving. \nSewing machine experience not mandatory but extremely helpful!\nBring a sweatshirt to upcycle\, all other materials included! \nThis class is 5 hours and will include a break. Pack a snack! \n 
URL:https://lookyheregreenfield.com/event/sweatshirt-weaving-workshop-with-rae-heller-1200-500-100/
CATEGORIES:workshop
ATTACH;FMTTYPE=image/jpeg:https://lookyheregreenfield.com/wp-content/uploads/2024/12/Weaving-scaled.jpg
END:VEVENT
BEGIN:VEVENT
DTSTART;TZID=America/New_York:20250203T180000
DTEND;TZID=America/New_York:20250203T193000
DTSTAMP:20260424T122836
CREATED:20241204T183713Z
LAST-MODIFIED:20250111T021829Z
UID:9953-1738605600-1738611000@lookyheregreenfield.com
SUMMARY:Unproductive Behaviors 3: bodies bodies bodies (6 week writing workshop on Mondays with Sierra Dickey - masks required)
DESCRIPTION:Unproductive Behaviors 3: bodies bodies bodies (Masks required)\nUnproductive behaviors is a writing circle for queer-identified people. We use the 100s method to generate work in a shared document. The 100s creates a highly fertile place of non-productivity. The aim of our work is not to produce anything finished or final. Instead\, the aim of our work is to be together in the process of generating fragments that could go anywhere or nowhere. The only requirements are to write a minimum of 100 words each week\, and to read and engage with the other participants writing generously. This session is themed around bodies of humans & beyond. What changes when we start to see that plants\, rocks\, animals\, and gullies all have bodies too? What weirdness happens when our bodies intersect with others? We will read short excerpts of embodied poetry & prose from a variety of authors. $120.00 per person for 6 weeks.
URL:https://lookyheregreenfield.com/event/unproductive-behaviors-3-bodies-bodies-bodies-6-week-writing-workshop-on-mondays-with-sierra-dickey-masks-required/
CATEGORIES:workshop,writing
ATTACH;FMTTYPE=image/jpeg:https://lookyheregreenfield.com/wp-content/uploads/2024/12/sierra-scaled.jpg
END:VEVENT
BEGIN:VEVENT
DTSTART;TZID=America/New_York:20250206T180000
DTEND;TZID=America/New_York:20250206T200000
DTSTAMP:20260424T122836
CREATED:20250117T193949Z
LAST-MODIFIED:20250206T124804Z
UID:10262-1738864800-1738872000@lookyheregreenfield.com
SUMMARY:Still Life Social Club (Thursday 2/6 6:00-8:00)
DESCRIPTION:$10.00\n\n\n\nBYO materials\, drinks and snacks! We Provide the still life and good vibes
URL:https://lookyheregreenfield.com/event/still-life-social-club-thursday-2-6-600-800/
CATEGORIES:Drawing,workshop
ATTACH;FMTTYPE=image/jpeg:https://lookyheregreenfield.com/wp-content/uploads/2025/01/still-life.jpg
END:VEVENT
BEGIN:VEVENT
DTSTART;TZID=America/New_York:20250207T150000
DTEND;TZID=America/New_York:20250207T170000
DTSTAMP:20260424T122836
CREATED:20250122T181048Z
LAST-MODIFIED:20250122T181119Z
UID:10315-1738940400-1738947600@lookyheregreenfield.com
SUMMARY:Make Our Merch! A free up cycling workshop!
DESCRIPTION:Learn different methods of up-cycling clothing to creator line of Looky Looks! All items made will be sold as merchandise in our shop!
URL:https://lookyheregreenfield.com/event/make-our-merch-a-free-up-cycling-workshop-5/
CATEGORIES:Sewing,workshop
ATTACH;FMTTYPE=image/jpeg:https://lookyheregreenfield.com/wp-content/uploads/2020/02/looky-merch.jpg
END:VEVENT
BEGIN:VEVENT
DTSTART;TZID=America/New_York:20250207T170000
DTEND;TZID=America/New_York:20250207T200000
DTSTAMP:20260424T122836
CREATED:20250122T195732Z
LAST-MODIFIED:20250122T195733Z
UID:10327-1738947600-1738958400@lookyheregreenfield.com
SUMMARY:Riso Valentines (5:00-8:00pm $90)
DESCRIPTION:Design a set of 20 valentines with envelopes on our Risograph printer!
URL:https://lookyheregreenfield.com/event/riso-valentines-500-800pm-90/
CATEGORIES:Riso,workshop
ATTACH;FMTTYPE=image/jpeg:https://lookyheregreenfield.com/wp-content/uploads/2025/01/riso-valentines.jpg
END:VEVENT
BEGIN:VEVENT
DTSTART;TZID=America/New_York:20250213T180000
DTEND;TZID=America/New_York:20250213T200000
DTSTAMP:20260424T122836
CREATED:20250117T191914Z
LAST-MODIFIED:20250117T191915Z
UID:10256-1739469600-1739476800@lookyheregreenfield.com
SUMMARY:Figure Drawing (Thursday 2/13 6:00-8:00)
DESCRIPTION:BYO materials! Easel and drawing horses provided. Figure Drawing at Looky Here is an uninstructed drawing session with a nude model. $15 per session\, running 6-8pm on over other Thursday evening.
URL:https://lookyheregreenfield.com/event/figure-drawing-thursday-2-13-600-800/
CATEGORIES:Drawing,workshop
ATTACH;FMTTYPE=image/jpeg:https://lookyheregreenfield.com/wp-content/uploads/2024/09/figure-drawing-scaled.jpg
END:VEVENT
BEGIN:VEVENT
DTSTART;TZID=America/New_York:20250214T150000
DTEND;TZID=America/New_York:20250214T170000
DTSTAMP:20260424T122836
CREATED:20250122T181403Z
LAST-MODIFIED:20250122T181404Z
UID:10317-1739545200-1739552400@lookyheregreenfield.com
SUMMARY:Make Our Merch! A free up cycling workshop!
DESCRIPTION:Learn different methods of up-cycling clothing to creator line of Looky Looks! All items made will be sold as merchandise in our shop!
URL:https://lookyheregreenfield.com/event/make-our-merch-a-free-up-cycling-workshop-6/
CATEGORIES:workshop
ATTACH;FMTTYPE=image/webp:https://lookyheregreenfield.com/wp-content/uploads/2025/01/Make-our-Merch.webp
END:VEVENT
BEGIN:VEVENT
DTSTART;TZID=America/New_York:20250218T183000
DTEND;TZID=America/New_York:20250218T203000
DTSTAMP:20260424T122836
CREATED:20250108T120554Z
LAST-MODIFIED:20250203T131119Z
UID:10141-1739903400-1739910600@lookyheregreenfield.com
SUMMARY:Short Film Sprint with Bella Levavi (Tuesday\, 2/18 6:30-8:30)
DESCRIPTION:Short Film Sprint Workshop\nCost: $15 NOTAFLOF\nDescription: Greenfield Community TelevisionXLooky Here presents: Build Community\, Make Something Together—Really Fast.\nTogether\, we will write a script and shoot a short film in the Looky Here storefront for the upcoming film festival Lights! Camera! Greenfield!—all in just a couple of hours. The festival provides three prompts that must be included in the original short film\, which must be 4 minutes or less. We will collaborate and use our collective skills to create a submission that will be presented on the big screen at Greenfield Garden Cinema on March 6\, with a chance to win a free screening of any movie of our choosing. Build Community\, Learn Skills\, Make a Movie. \nNOTAFLOF If you need a different price\, please email LookyHereGreenfield@gmail.com to reserve a spot.
URL:https://lookyheregreenfield.com/event/short-film-sprint-with-bella-levavi-tuesday-2-18-630-830/
CATEGORIES:workshop
ATTACH;FMTTYPE=image/jpeg:https://lookyheregreenfield.com/wp-content/uploads/2025/01/Looky-Here-Film-workshop-1.jpeg
END:VEVENT
BEGIN:VEVENT
DTSTART;TZID=America/New_York:20250220T180000
DTEND;TZID=America/New_York:20250220T200000
DTSTAMP:20260424T122836
CREATED:20250117T194122Z
LAST-MODIFIED:20250220T200009Z
UID:10265-1740074400-1740081600@lookyheregreenfield.com
SUMMARY:Still Life Social Club (Thursday 2/20 6:00-8:00)
DESCRIPTION:BYO materials\, drinks and snacks! We Provide the still life and good vibes
URL:https://lookyheregreenfield.com/event/still-life-social-club-thursday-2-20-600-800/
CATEGORIES:Drawing,workshop
ATTACH;FMTTYPE=image/jpeg:https://lookyheregreenfield.com/wp-content/uploads/2025/01/still-life.jpg
END:VEVENT
BEGIN:VEVENT
DTSTART;TZID=America/New_York:20250221T150000
DTEND;TZID=America/New_York:20250221T170000
DTSTAMP:20260424T122836
CREATED:20250122T181526Z
LAST-MODIFIED:20250122T181526Z
UID:10319-1740150000-1740157200@lookyheregreenfield.com
SUMMARY:Make Our Merch! A free up cycling workshop!
DESCRIPTION:Learn different methods of up-cycling clothing to creator line of Looky Looks! All items made will be sold as merchandise in our shop!
URL:https://lookyheregreenfield.com/event/make-our-merch-a-free-up-cycling-workshop-7/
CATEGORIES:workshop
ATTACH;FMTTYPE=image/webp:https://lookyheregreenfield.com/wp-content/uploads/2025/01/Make-our-Merch.webp
END:VEVENT
BEGIN:VEVENT
DTSTART;TZID=America/New_York:20250222T130000
DTEND;TZID=America/New_York:20250222T150000
DTSTAMP:20260424T122836
CREATED:20250127T181628Z
LAST-MODIFIED:20250127T181652Z
UID:10395-1740229200-1740236400@lookyheregreenfield.com
SUMMARY:Collage Club! (Saturday 2/22 1:00-3:00)
DESCRIPTION:Collage Club 2/22/25\nSaturday 22 @ 1:00 pm – 3:00 pm\n$10.00 \nThe Collage Club is where you can play\, experiment\, and learn the fundamentals of creating a collage! No experience is necessary to participate and open to all ages!  All collage materials will be provided or you can bring your own. We will meet from 1-3 pm. Tickets for this event are $10 each class. Let’s cut things up\, glue them down\, and create something beautiful!
URL:https://lookyheregreenfield.com/event/collage-club-saturday-2-22-100-300/
CATEGORIES:workshop
ATTACH;FMTTYPE=image/jpeg:https://lookyheregreenfield.com/wp-content/uploads/2023/09/Collage-Club-Poster.jpg
END:VEVENT
BEGIN:VEVENT
DTSTART;TZID=America/New_York:20250227T180000
DTEND;TZID=America/New_York:20250227T200000
DTSTAMP:20260424T122836
CREATED:20250117T192257Z
LAST-MODIFIED:20250117T192258Z
UID:10259-1740679200-1740686400@lookyheregreenfield.com
SUMMARY:Figure Drawing (Thursday 2/27 6:00-8:00)
DESCRIPTION:BYO materials! Easel and drawing horses provided. Figure Drawing at Looky Here is an uninstructed drawing session with a nude model. $15 per session\, running 6-8pm on over other Thursday evening.
URL:https://lookyheregreenfield.com/event/figure-drawing-thursday-2-27-600-800/
CATEGORIES:Drawing,workshop
ATTACH;FMTTYPE=image/jpeg:https://lookyheregreenfield.com/wp-content/uploads/2024/09/figure-drawing-scaled.jpg
END:VEVENT
BEGIN:VEVENT
DTSTART;TZID=America/New_York:20250228T150000
DTEND;TZID=America/New_York:20250228T170000
DTSTAMP:20260424T122836
CREATED:20250122T182015Z
LAST-MODIFIED:20250122T202844Z
UID:10322-1740754800-1740762000@lookyheregreenfield.com
SUMMARY:Make Our Merch! A free up cycling workshop!
DESCRIPTION:Learn different methods of up-cycling clothing to creator line of Looky Looks! All items made will be sold as merchandise in our shop!
URL:https://lookyheregreenfield.com/event/make-our-merch-a-free-up-cycling-workshop-8/
CATEGORIES:Sewing,workshop
ATTACH;FMTTYPE=image/webp:https://lookyheregreenfield.com/wp-content/uploads/2025/01/Make-our-Merch.webp
END:VEVENT
END:VCALENDAR