BEGIN:VCALENDAR
VERSION:2.0
PRODID:-//Looky Here - ECPv6.15.20//NONSGML v1.0//EN
CALSCALE:GREGORIAN
METHOD:PUBLISH
X-WR-CALNAME:Looky Here
X-ORIGINAL-URL:https://lookyheregreenfield.com
X-WR-CALDESC:Events for Looky Here
REFRESH-INTERVAL;VALUE=DURATION:PT1H
X-Robots-Tag:noindex
X-PUBLISHED-TTL:PT1H
BEGIN:VTIMEZONE
TZID:America/New_York
BEGIN:DAYLIGHT
TZOFFSETFROM:-0500
TZOFFSETTO:-0400
TZNAME:EDT
DTSTART:20240310T070000
END:DAYLIGHT
BEGIN:STANDARD
TZOFFSETFROM:-0400
TZOFFSETTO:-0500
TZNAME:EST
DTSTART:20241103T060000
END:STANDARD
BEGIN:DAYLIGHT
TZOFFSETFROM:-0500
TZOFFSETTO:-0400
TZNAME:EDT
DTSTART:20250309T070000
END:DAYLIGHT
BEGIN:STANDARD
TZOFFSETFROM:-0400
TZOFFSETTO:-0500
TZNAME:EST
DTSTART:20251102T060000
END:STANDARD
BEGIN:DAYLIGHT
TZOFFSETFROM:-0500
TZOFFSETTO:-0400
TZNAME:EDT
DTSTART:20260308T070000
END:DAYLIGHT
BEGIN:STANDARD
TZOFFSETFROM:-0400
TZOFFSETTO:-0500
TZNAME:EST
DTSTART:20261101T060000
END:STANDARD
END:VTIMEZONE
BEGIN:VEVENT
DTSTART;TZID=America/New_York:20250304T183000
DTEND;TZID=America/New_York:20250304T210000
DTSTAMP:20260424T104835
CREATED:20250127T195701Z
LAST-MODIFIED:20250304T175700Z
UID:10427-1741113000-1741122000@lookyheregreenfield.com
SUMMARY:Expressive Arts Shindig - Tuesdays in March 6:30-9:00. All Materials Included!
DESCRIPTION:A workshop for people to engage playfully with different art forms\, individually and as a group. We will focus on process more than product to create community that will allow for spontaneity\, creativity without judgement\, individual expression and….FUN! No experience necessary. Just bring an open mind\, yer rebellious spirit and your willingness to say yes or no to the offerings.\nTuesdays in March\, 6:30-9:00p. \n$15 per class\nALL MATERIALS INCLUDED!
URL:https://lookyheregreenfield.com/event/expressive-arts-shindig-tuesdays-in-march-630-900-all-materials-included/
CATEGORIES:workshop
ATTACH;FMTTYPE=image/jpeg:https://lookyheregreenfield.com/wp-content/uploads/2025/01/image0-72.jpeg
END:VEVENT
BEGIN:VEVENT
DTSTART;TZID=America/New_York:20250305T170000
DTEND;TZID=America/New_York:20250305T200000
DTSTAMP:20260424T104835
CREATED:20250130T195246Z
LAST-MODIFIED:20250130T195342Z
UID:10491-1741194000-1741204800@lookyheregreenfield.com
SUMMARY:Risograph Zine Workshop! 5:00-8:00 $60
DESCRIPTION:Make 20 copies of your own mini zine on the risograph!
URL:https://lookyheregreenfield.com/event/risograph-zine-workshop-500-800-60/
CATEGORIES:Riso,workshop
ATTACH;FMTTYPE=image/jpeg:https://lookyheregreenfield.com/wp-content/uploads/2024/02/Zine-photo-scaled.jpg
END:VEVENT
BEGIN:VEVENT
DTSTART;TZID=America/New_York:20250306T180000
DTEND;TZID=America/New_York:20250306T200000
DTSTAMP:20260424T104835
CREATED:20250130T210050Z
LAST-MODIFIED:20250306T210553Z
UID:10499-1741284000-1741291200@lookyheregreenfield.com
SUMMARY:*Still Life Social Club (Thursday 3/6 6:00-8:00)
DESCRIPTION:BYO materials\, drinks and snacks! We Provide the still life and good vibes
URL:https://lookyheregreenfield.com/event/still-life-social-club-thursday-3-6-600-800/
CATEGORIES:Drawing,workshop
ATTACH;FMTTYPE=image/jpeg:https://lookyheregreenfield.com/wp-content/uploads/2025/01/still-life.jpg
END:VEVENT
BEGIN:VEVENT
DTSTART;TZID=America/New_York:20250308T130000
DTEND;TZID=America/New_York:20250308T150000
DTSTAMP:20260424T104835
CREATED:20250121T171127Z
LAST-MODIFIED:20250127T195101Z
UID:10283-1741438800-1741446000@lookyheregreenfield.com
SUMMARY:Simple Darning (March 8th\, 1-3pm $15)
DESCRIPTION:Simple Darning  \nIntroduction to darning\, a type of diy mending that reduces waste\, supports function\, makes items cool\, and supports the nostalgia of old clothes to live on. \nEach participant is encouraged to bring a knitted item with at least one hole or threadbare area. It can be hand knitted\, machine knitted\, and maybe even a loose weave. \nFor beginners\, it’s easiest to start with a small hole or a threadbare area. \nTogether we will fill holes and strengthen garments/socks/sweaters/blankets with beautiful art.  \nA selection of yarn will be provided\, and participants are welcome to bring their own. \nDarning needles and materials provided. \nMarch 8th\, 1-3pm $15 \nNo one will be turned away for lack of funds\, email LookyHereGreenfield@gmail.com for more info
URL:https://lookyheregreenfield.com/event/simple-darning-march-8th-1-3pm-15/
CATEGORIES:workshop
ATTACH;FMTTYPE=image/jpeg:https://lookyheregreenfield.com/wp-content/uploads/2025/01/Screenshot-2025-01-16-at-2.00.40-PM-scaled.jpg
END:VEVENT
BEGIN:VEVENT
DTSTART;TZID=America/New_York:20250309T153000
DTEND;TZID=America/New_York:20250309T180000
DTSTAMP:20260424T104835
CREATED:20241205T042157Z
LAST-MODIFIED:20250121T180712Z
UID:9972-1741534200-1741543200@lookyheregreenfield.com
SUMMARY:Quilting 101 - Part 2: (3 week series with Rae Heller 3/9\, 3/16\, and 3/23 3:30-6:00 $155)
DESCRIPTION:Quilting 101 – Part 2: SUNDAYS 3/9\, 3/16\, and 3/23 \n\n\n\nPart 2 will build on learned techniques and explore “sandwiching” your quilt\, binding\, and finishing your quilt. We will create using both hand-sewing techniques and using sewing machines. A few sewing machines will be provided but participants are encouraged to bring their own if they have one! Sewing skills are helpful but not a must. Come learn basic quilting techniques and deepen your artistic practice!
URL:https://lookyheregreenfield.com/event/quilting-101-part-2-3-week-series-with-rae-heller-3-8-3-22-330-630-155/
CATEGORIES:Sewing,workshop
ATTACH;FMTTYPE=image/jpeg:https://lookyheregreenfield.com/wp-content/uploads/2024/12/inprocessQuilt82x82.jpeg
END:VEVENT
BEGIN:VEVENT
DTSTART;TZID=America/New_York:20250313T180000
DTEND;TZID=America/New_York:20250313T200000
DTSTAMP:20260424T104835
CREATED:20250130T195751Z
LAST-MODIFIED:20250306T210640Z
UID:10490-1741888800-1741896000@lookyheregreenfield.com
SUMMARY:*Figure Drawing (Thursday 3/13 6:00-8:00)
DESCRIPTION:BYO materials! Easel and drawing horses provided. Figure Drawing at Looky Here is an uninstructed drawing session with a nude model. $15 per session\, running 6-8pm on over other Thursday evening.
URL:https://lookyheregreenfield.com/event/figure-drawing-thursday-3-13-600-800/
CATEGORIES:workshop
ATTACH;FMTTYPE=image/jpeg:https://lookyheregreenfield.com/wp-content/uploads/2024/09/figure-drawing-scaled.jpg
END:VEVENT
BEGIN:VEVENT
DTSTART;TZID=America/New_York:20250314T190000
DTEND;TZID=America/New_York:20250314T210000
DTSTAMP:20260424T104835
CREATED:20250130T211529Z
LAST-MODIFIED:20250130T211529Z
UID:10507-1741978800-1741986000@lookyheregreenfield.com
SUMMARY:Open Mic for Writers
DESCRIPTION:
URL:https://lookyheregreenfield.com/event/open-mic-for-writers-3/
CATEGORIES:writing
ATTACH;FMTTYPE=image/jpeg:https://lookyheregreenfield.com/wp-content/uploads/2023/08/Reading-Strange-Psge-e1691469462839.jpg
END:VEVENT
BEGIN:VEVENT
DTSTART;TZID=America/New_York:20250317T180000
DTEND;TZID=America/New_York:20250317T200000
DTSTAMP:20260424T104835
CREATED:20250127T192346Z
LAST-MODIFIED:20250321T020000Z
UID:10414-1742234400-1742241600@lookyheregreenfield.com
SUMMARY:Carousel (6 week writing workshop with L. Scully – Mondays 6:00-8:00 $150 starts 3/17)
DESCRIPTION:6 weeks\, six themes\, and your new year’s writing commitment. Over the course of four weeks\, gather to discuss and generate new work with writer L Scully. This workshop will occur Monday evenings in March/April in two hour\, limited group sessions at Looky Here. Each week we will explore a different theme through literary and artistic references\, group discussion\, and generative writing prompts provided live and in session. The ultimate goal of this workshop is to jumpstart your writing practice for 2025 in a supportive and productive environment guided by a tapestry of subject matter. Let’s get weird! \n6 Mondays 3/17- 4/21 \n6:00-8:00pm \nThis class will end with an Open Mic Reading\, date and time TBD
URL:https://lookyheregreenfield.com/event/carousel-5-week-writing-workshop-with-l-scully-mondays-600-800-125/
CATEGORIES:workshop
ATTACH;FMTTYPE=image/jpeg:https://lookyheregreenfield.com/wp-content/uploads/2024/12/Carousel.jpg
END:VEVENT
BEGIN:VEVENT
DTSTART;TZID=America/New_York:20250320T180000
DTEND;TZID=America/New_York:20250320T200000
DTSTAMP:20260424T104835
CREATED:20250130T210231Z
LAST-MODIFIED:20250306T204124Z
UID:10503-1742493600-1742500800@lookyheregreenfield.com
SUMMARY:*Still Life Social Club (Thursday 3/20 6:00-8:00)
DESCRIPTION:BYO materials\, drinks and snacks! We Provide the still life and good vibes
URL:https://lookyheregreenfield.com/event/still-life-social-club-thursday-3-20-600-800/
CATEGORIES:Drawing,workshop
ATTACH;FMTTYPE=image/jpeg:https://lookyheregreenfield.com/wp-content/uploads/2025/01/still-life.jpg
END:VEVENT
BEGIN:VEVENT
DTSTART;TZID=America/New_York:20250327T180000
DTEND;TZID=America/New_York:20250327T200000
DTSTAMP:20260424T104835
CREATED:20250130T202640Z
LAST-MODIFIED:20250327T143404Z
UID:10496-1743098400-1743105600@lookyheregreenfield.com
SUMMARY:*Figure Drawing (Thursday 3/27 6:00-8:00 $15)
DESCRIPTION:BYO materials! Easel and drawing horses provided. Figure Drawing at Looky Here is an uninstructed drawing session with a nude model. $15 per session\, running 6-8pm on over other Thursday evening.
URL:https://lookyheregreenfield.com/event/figure-drawing-thursday-3-27-600-800-15/
CATEGORIES:Drawing,workshop
ATTACH;FMTTYPE=image/jpeg:https://lookyheregreenfield.com/wp-content/uploads/2024/09/figure-drawing-scaled.jpg
END:VEVENT
BEGIN:VEVENT
DTSTART;TZID=America/New_York:20250329T130000
DTEND;TZID=America/New_York:20250329T150000
DTSTAMP:20260424T104835
CREATED:20250127T182004Z
LAST-MODIFIED:20250306T204145Z
UID:10399-1743253200-1743260400@lookyheregreenfield.com
SUMMARY:*Collage Club (3/29 1:00-3:00)
DESCRIPTION:Collage Club 3/29/25\nMarch 29 @ 1:00 pm – 3:00 pm\n$10.00 \nThe Collage Club is where you can play\, experiment\, and learn the fundamentals of creating a collage! No experience is necessary to participate and open to all ages!  All collage materials will be provided or you can bring your own. We will meet from 1-3 pm. Tickets for this event are $10 each class. Let’s cut things up\, glue them down\, and create something beautiful!
URL:https://lookyheregreenfield.com/event/collage-club-3-29-100-300/
CATEGORIES:workshop
ATTACH;FMTTYPE=image/jpeg:https://lookyheregreenfield.com/wp-content/uploads/2023/09/Collage-Club-Poster.jpg
END:VEVENT
END:VCALENDAR