BEGIN:VCALENDAR
VERSION:2.0
PRODID:-//Looky Here - ECPv6.15.20//NONSGML v1.0//EN
CALSCALE:GREGORIAN
METHOD:PUBLISH
X-WR-CALNAME:Looky Here
X-ORIGINAL-URL:https://lookyheregreenfield.com
X-WR-CALDESC:Events for Looky Here
REFRESH-INTERVAL;VALUE=DURATION:PT1H
X-Robots-Tag:noindex
X-PUBLISHED-TTL:PT1H
BEGIN:VTIMEZONE
TZID:America/New_York
BEGIN:DAYLIGHT
TZOFFSETFROM:-0500
TZOFFSETTO:-0400
TZNAME:EDT
DTSTART:20240310T070000
END:DAYLIGHT
BEGIN:STANDARD
TZOFFSETFROM:-0400
TZOFFSETTO:-0500
TZNAME:EST
DTSTART:20241103T060000
END:STANDARD
BEGIN:DAYLIGHT
TZOFFSETFROM:-0500
TZOFFSETTO:-0400
TZNAME:EDT
DTSTART:20250309T070000
END:DAYLIGHT
BEGIN:STANDARD
TZOFFSETFROM:-0400
TZOFFSETTO:-0500
TZNAME:EST
DTSTART:20251102T060000
END:STANDARD
BEGIN:DAYLIGHT
TZOFFSETFROM:-0500
TZOFFSETTO:-0400
TZNAME:EDT
DTSTART:20260308T070000
END:DAYLIGHT
BEGIN:STANDARD
TZOFFSETFROM:-0400
TZOFFSETTO:-0500
TZNAME:EST
DTSTART:20261101T060000
END:STANDARD
END:VTIMEZONE
BEGIN:VEVENT
DTSTART;TZID=America/New_York:20250501T180000
DTEND;TZID=America/New_York:20250501T200000
DTSTAMP:20260424T070717
CREATED:20250430T183451Z
LAST-MODIFIED:20250501T103619Z
UID:11408-1746122400-1746129600@lookyheregreenfield.com
SUMMARY:*Exquisite Corpse Party (5/1 $10)
DESCRIPTION:This week\, we will exquisite corpse and Riso print the besties! \nExquisite corpse is a collaborative art game where you draw the head\, torso\, and legs of a creature without seeing other drawings. \nDie hard still-life fans are still welcome to come and sketch anything in the space. \n* Participates in Card to Culture
URL:https://lookyheregreenfield.com/event/exquisite-corpse-party-5-1-10-you-can-still-still-life-if-ya-like/
CATEGORIES:workshop
ATTACH;FMTTYPE=image/jpeg:https://lookyheregreenfield.com/wp-content/uploads/2025/04/image0-7.jpeg
END:VEVENT
BEGIN:VEVENT
DTSTART;TZID=America/New_York:20250507T180000
DTEND;TZID=America/New_York:20250507T200000
DTSTAMP:20260424T070717
CREATED:20250129T205634Z
LAST-MODIFIED:20250305T191430Z
UID:10458-1746640800-1746648000@lookyheregreenfield.com
SUMMARY:Make a Marionette with a British Control! (7 week workshop 5/7-6/18 $225)
DESCRIPTION:Make a Marionette with a British control!\nStarts May 7th @ 6:00 pm – 8:00 pm\n$225 All Materials Included \nVermont based painter and puppet-maker\, Julia Zanes will teach this marionette building class using skills and designs handed down from Mrs. Barbara Richards of “The Small World Theater” in Hopkinton NH. This “British Control” style of marionette is easier to make and control and leaves much elbow room for personal vision while still making a marionette that can “imitate life”. All materials will be included in the cost of this 7 week class which will run from 5/7-6/18 from 6-8pm on Wednesday evenings.
URL:https://lookyheregreenfield.com/event/make-a-marionette-with-a-british-control-6-week-workshop-3-5-4-9-200/
CATEGORIES:workshop
ATTACH;FMTTYPE=image/jpeg:https://lookyheregreenfield.com/wp-content/uploads/2024/12/IMG-5875-scaled.jpg
END:VEVENT
BEGIN:VEVENT
DTSTART;TZID=America/New_York:20250508T180000
DTEND;TZID=America/New_York:20250508T200000
DTSTAMP:20260424T070717
CREATED:20250409T012050Z
LAST-MODIFIED:20250409T012101Z
UID:11264-1746727200-1746734400@lookyheregreenfield.com
SUMMARY:*Figure Drawing (5/8 $15)
DESCRIPTION:BYO materials! Easel and drawing horses provided. Figure Drawing at Looky Here is an uninstructed drawing session with a nude model. $15 per session\, running 6-8pm on over other Thursday evening. \n*Participates in Card to Culture
URL:https://lookyheregreenfield.com/event/figure-drawing-5-15/
CATEGORIES:workshop
ATTACH;FMTTYPE=image/jpeg:https://lookyheregreenfield.com/wp-content/uploads/2024/09/figure-drawing-scaled.jpg
END:VEVENT
BEGIN:VEVENT
DTSTART;TZID=America/New_York:20250509T173000
DTEND;TZID=America/New_York:20250509T193000
DTSTAMP:20260424T070717
CREATED:20250326T052213Z
LAST-MODIFIED:20250402T184942Z
UID:11131-1746811800-1746819000@lookyheregreenfield.com
SUMMARY:Quick Light-up Jewelry with Molly Morin (May 9th 5:30-7:30)
DESCRIPTION:Quick Light-up Jewelry: Make LED earrings\, hair clips\, bracelets and more using simple\, fast\, playful methods. This workshop will offer building basics\, all the materials you need and lots of room to play and make your own designs.  \n2 hours\, materials provided for up to 6 pieces\nMay 9th- 5:30-7:30 \n$25/person\, all ages welcome
URL:https://lookyheregreenfield.com/event/quick-light-up-jewelry-with-molly-morin/
CATEGORIES:workshop
ATTACH;FMTTYPE=image/jpeg:https://lookyheregreenfield.com/wp-content/uploads/2025/03/lightjewelry-1.jpg
END:VEVENT
BEGIN:VEVENT
DTSTART;TZID=America/New_York:20250510T130000
DTEND;TZID=America/New_York:20250510T150000
DTSTAMP:20260424T070717
CREATED:20250127T182939Z
LAST-MODIFIED:20250324T164834Z
UID:10402-1746882000-1746889200@lookyheregreenfield.com
SUMMARY:World Collage Day with Bella LaMontagne (Collaborative Collage Workshop 5/10 1:00-3:00 $20)
DESCRIPTION:World Collage Day Workshop\nwith Bella LaMontagne \nDate: Saturday May 10th\, 2025  \nTime: 1:00pm-3:00pm \nCost for event: $20 \nEvent Description: In celebration of World Collage Day\, come make a collaborative collage! This collage workshop involves participants working in groups of two so this is a perfect opportunity to bring a friend or meet someone new. Each partner will work on one half of a collage and then when both partners are ready\, you will each switch and finish the other partner’s collage with the final artwork being a surprise for everybody! All materials will be provided\, but feel free to bring any special materials or imagery that you have at home. During or after the event you can share your World Collage Day experience using the hashtag #WorldCollageDay. All ages welcome!
URL:https://lookyheregreenfield.com/event/world-collage-day/
CATEGORIES:workshop
ATTACH;FMTTYPE=application/pdf:https://lookyheregreenfield.com/wp-content/uploads/2025/01/WorldCollageDayPoster2025-11x17-1.pdf
END:VEVENT
BEGIN:VEVENT
DTSTART;TZID=America/New_York:20250515T180000
DTEND;TZID=America/New_York:20250515T200000
DTSTAMP:20260424T070717
CREATED:20250409T011235Z
LAST-MODIFIED:20250430T143942Z
UID:11253-1747332000-1747339200@lookyheregreenfield.com
SUMMARY:*Exquisite Corpse Party (5/15 $10) You can still still-life if ya like!
DESCRIPTION:This week\, we will exquisite corpse and Riso print the besties! \nExquisite corpse is a collaborative art game where you draw the head\, torso\, and legs of a creature without seeing other drawings. \nDie hard still-life fans are still welcome to come and sketch anything in the space. \n* Participates in Card to Culture
URL:https://lookyheregreenfield.com/event/still-life-social-club-5-1-10/
CATEGORIES:workshop
ATTACH;FMTTYPE=image/jpeg:https://lookyheregreenfield.com/wp-content/uploads/2025/04/image0-7.jpeg
END:VEVENT
BEGIN:VEVENT
DTSTART;TZID=America/New_York:20250522T180000
DTEND;TZID=America/New_York:20250522T200000
DTSTAMP:20260424T070717
CREATED:20250409T012237Z
LAST-MODIFIED:20250522T165046Z
UID:11268-1747936800-1747944000@lookyheregreenfield.com
SUMMARY:*Figure Drawing (5/22 $15)
DESCRIPTION:BYO materials! Easel and drawing horses provided. Figure Drawing at Looky Here is an uninstructed drawing session with a nude model. $15 per session\, running 6-8pm on over other Thursday evening. \n*Participates in Card to Culture
URL:https://lookyheregreenfield.com/event/figure-drawing-5-22-15/
CATEGORIES:workshop
ATTACH;FMTTYPE=image/jpeg:https://lookyheregreenfield.com/wp-content/uploads/2024/09/figure-drawing-scaled.jpg
END:VEVENT
BEGIN:VEVENT
DTSTART;TZID=America/New_York:20250524T130000
DTEND;TZID=America/New_York:20250524T150000
DTSTAMP:20260424T070717
CREATED:20250326T180117Z
LAST-MODIFIED:20250326T180117Z
UID:11157-1748091600-1748098800@lookyheregreenfield.com
SUMMARY:Make a Monster: Needle Felting with Molly Morin (Saturday May 24th 1:00-3:00)
DESCRIPTION:Make a monster (or two or three) in a quick introduction to needle felting. Invent characters\, play with colors and shapes and learn about needle felting tools\, techniques and materials.  \n2 hours\, tools and materials provided.  \n$25/person – all ages
URL:https://lookyheregreenfield.com/event/make-a-monster-needle-felting-with-molly-morin-saturday-may-24th-100-300/
CATEGORIES:workshop
ATTACH;FMTTYPE=image/jpeg:https://lookyheregreenfield.com/wp-content/uploads/2025/03/Make-a-Monster.jpg
END:VEVENT
BEGIN:VEVENT
DTSTART;TZID=America/New_York:20250525T120000
DTEND;TZID=America/New_York:20250525T170000
DTSTAMP:20260424T070717
CREATED:20250409T204833Z
LAST-MODIFIED:20250409T204858Z
UID:11312-1748174400-1748192400@lookyheregreenfield.com
SUMMARY:Sweatshirt or Jean Weaving Workshop with Rae Heller (5/25 materials included 12:00-5:00 $115)
DESCRIPTION:Bring in some shabby sweats or old jeans and make them shine with fabric weaving! \nWe ran a three hour version of this class\, but it just wasn’t long enough. Come to this all day intensive to master the art of sweatshirt weaving. \nSewing machine experience not mandatory but extremely helpful!\nBring a sweatshirt or something thick to upcycle\, all other materials included! \nThis class is 5 hours and will include a break. Pack a snack!
URL:https://lookyheregreenfield.com/event/sweatshirt-or-jean-weaving-workshop-with-rae-heller-5-25-materials-included-1200-500-115/
CATEGORIES:workshop
ATTACH;FMTTYPE=image/jpeg:https://lookyheregreenfield.com/wp-content/uploads/2024/12/Weaving-scaled.jpg
END:VEVENT
BEGIN:VEVENT
DTSTART;TZID=America/New_York:20250529T180000
DTEND;TZID=America/New_York:20250529T200000
DTSTAMP:20260424T070717
CREATED:20250409T011841Z
LAST-MODIFIED:20250524T174427Z
UID:11261-1748541600-1748548800@lookyheregreenfield.com
SUMMARY:*The Drawing Room(5/29 $10)
DESCRIPTION:Exquisite Corpse and other drawing games every other Thursday from 6:00-8:00. \nMaterials provided BYO snacks and drinks. \n$10 \n*Participates in Card to Culture
URL:https://lookyheregreenfield.com/event/still-life-social-club-5-29-10/
CATEGORIES:workshop
ATTACH;FMTTYPE=image/jpeg:https://lookyheregreenfield.com/wp-content/uploads/2025/04/image0-7.jpeg
END:VEVENT
BEGIN:VEVENT
DTSTART;TZID=America/New_York:20250531T130000
DTEND;TZID=America/New_York:20250531T150000
DTSTAMP:20260424T070717
CREATED:20250409T200845Z
LAST-MODIFIED:20250409T200845Z
UID:11309-1748696400-1748703600@lookyheregreenfield.com
SUMMARY:*Collage Club 5/31 from 1:00-3:00 $10
DESCRIPTION:1:00-3:00\n$10.00 \nThe Collage Club is where you can play\, experiment\, and learn the fundamentals of creating a collage! No experience is necessary to participate and open to all ages! All collage materials will be provided or you can bring your own. We will meet from 1-3 pm. Tickets for this event are $10 each class. Let’s cut things up\, glue them down\, and create something beautiful! \nFor Card to Culture Tickets\, please email LookyHereGreenfield@gmail.com
URL:https://lookyheregreenfield.com/event/collage-club-5-31-from-100-300-10/
CATEGORIES:workshop
ATTACH;FMTTYPE=image/jpeg:https://lookyheregreenfield.com/wp-content/uploads/2023/09/Collage-Club-Poster.jpg
END:VEVENT
END:VCALENDAR