BEGIN:VCALENDAR
VERSION:2.0
PRODID:-//Looky Here - ECPv6.15.20//NONSGML v1.0//EN
CALSCALE:GREGORIAN
METHOD:PUBLISH
X-ORIGINAL-URL:https://lookyheregreenfield.com
X-WR-CALDESC:Events for Looky Here
REFRESH-INTERVAL;VALUE=DURATION:PT1H
X-Robots-Tag:noindex
X-PUBLISHED-TTL:PT1H
BEGIN:VTIMEZONE
TZID:America/New_York
BEGIN:DAYLIGHT
TZOFFSETFROM:-0500
TZOFFSETTO:-0400
TZNAME:EDT
DTSTART:20240310T070000
END:DAYLIGHT
BEGIN:STANDARD
TZOFFSETFROM:-0400
TZOFFSETTO:-0500
TZNAME:EST
DTSTART:20241103T060000
END:STANDARD
BEGIN:DAYLIGHT
TZOFFSETFROM:-0500
TZOFFSETTO:-0400
TZNAME:EDT
DTSTART:20250309T070000
END:DAYLIGHT
BEGIN:STANDARD
TZOFFSETFROM:-0400
TZOFFSETTO:-0500
TZNAME:EST
DTSTART:20251102T060000
END:STANDARD
BEGIN:DAYLIGHT
TZOFFSETFROM:-0500
TZOFFSETTO:-0400
TZNAME:EDT
DTSTART:20260308T070000
END:DAYLIGHT
BEGIN:STANDARD
TZOFFSETFROM:-0400
TZOFFSETTO:-0500
TZNAME:EST
DTSTART:20261101T060000
END:STANDARD
END:VTIMEZONE
BEGIN:VEVENT
DTSTART;TZID=America/New_York:20251004T103000
DTEND;TZID=America/New_York:20251004T120000
DTSTAMP:20260423T221527
CREATED:20250806T181010Z
LAST-MODIFIED:20250806T181012Z
UID:12817-1759573800-1759579200@lookyheregreenfield.com
SUMMARY:*Morning Shift: Community Open Writing Time (Saturdays from 10:30-12:00)
DESCRIPTION:*Morning Shift: Community Open Writing Time (Saturdays from 10:30-12:00) \nWant to write but having trouble getting started? Or tired of writing alone into the void? Join us for a drop-in writing space\, open to all and free (donations to Looky Here for letting us use the space are encouraged). We will say hello to each other\, share a prompt or brief piece to get us going\, but mostly we will just write together. This is not a workshopping group or an open mic\, come with your notebook or laptop and get ready to get some words on the page in good company. \nFREE! \n* Participates in Card to Culture
URL:https://lookyheregreenfield.com/event/morning-shift-community-open-writing-time-saturdays-from-1030-1200-23/
CATEGORIES:workshop,writing
ATTACH;FMTTYPE=image/jpeg:https://lookyheregreenfield.com/wp-content/uploads/2025/04/image0-82-1.jpeg
END:VEVENT
BEGIN:VEVENT
DTSTART;TZID=America/New_York:20251005T130000
DTEND;TZID=America/New_York:20251005T150000
DTSTAMP:20260423T221527
CREATED:20250911T191537Z
LAST-MODIFIED:20250911T191538Z
UID:13258-1759669200-1759676400@lookyheregreenfield.com
SUMMARY:Craft Club (Sunday 10/5 1:00-3:00 $10)
DESCRIPTION:Come craft\, make a diorama\, build a bird house\, work on your crotchet project\, hot glue random things together. Whatever you like!
URL:https://lookyheregreenfield.com/event/craft-club-sunday-10-5-100-300-10/
CATEGORIES:workshop
END:VEVENT
BEGIN:VEVENT
DTSTART;TZID=America/New_York:20251006T173000
DTEND;TZID=America/New_York:20251006T200000
DTSTAMP:20260423T221527
CREATED:20250910T181608Z
LAST-MODIFIED:20250911T194758Z
UID:13179-1759771800-1759780800@lookyheregreenfield.com
SUMMARY:Make a Piano Hinge Book with Sarah Wisby (5:30-8:00 $60)
DESCRIPTION:Come to Looky Here’s third book arts offering with local poet and book artist Sarah Fran Wisby. The piano Hinge is a uniquely decorative non-adhesive binding using dowels or sticks to form the spine of your book. Bring your own handmade or decorative papers or use the materials provided. No previous bookmaking experience needed. Makes a great gift! \nmax 8 people \n$60 \n5:30-8 pm \nMonday October 6th
URL:https://lookyheregreenfield.com/event/make-a-piano-stitch-book-with-sarah-wisby-530-800-60/
CATEGORIES:workshop
ATTACH;FMTTYPE=image/jpeg:https://lookyheregreenfield.com/wp-content/uploads/2025/09/3841C92D-7AC8-4286-B2CF-2AD43C6ECC87_1_201_a.jpeg
END:VEVENT
BEGIN:VEVENT
DTSTART;TZID=America/New_York:20251007T154500
DTEND;TZID=America/New_York:20251007T164500
DTSTAMP:20260423T221527
CREATED:20250903T171958Z
LAST-MODIFIED:20251007T225947Z
UID:13048-1759851900-1759855500@lookyheregreenfield.com
SUMMARY:You can still join "Art with Annaleah" for kids ages 5-9 (Tuesdays 10/7-11/11 3:45-4:45 $180)
DESCRIPTION:Art with Annaleah  \nTuesdays 3:45-4:45 October 7th- November 11th (6 weeks)  \nAges 5-9 \nDescription: \nIn Art with Annaleah we will explore a variety of mediums such as drawing\, painting\, printmaking\, and sculpture. Emphasizing both material experimentation and technical skill-building\, this class encourages creative exploration through hands-on demonstrations and guided practice. We will do both short-term projects that last one class\,  while other projects will span multiple classes. Come ready to get messy\, try new things\, and expand your artistic toolkit! \nBio: \nAnnaleah Moon Gregoire is a mixed-media artist from Western Massachusetts. After graduating with a B.F.A. in sculpture from California College of the Arts in 2021\, Annaleah dove into a career as a freelance artist in congruence with teaching art privately and in schools. She also has a small t-shirt company where her illustrations are turned into comfortable streetwear.
URL:https://lookyheregreenfield.com/event/art-with-annaleah-for-kids-aged-5-9-tuesdays-10-7-11-11-345-445-180/
CATEGORIES:workshop
ATTACH;FMTTYPE=image/jpeg:https://lookyheregreenfield.com/wp-content/uploads/2025/09/Art-with-Annaleah-Fall-2025-Poster.jpg
END:VEVENT
BEGIN:VEVENT
DTSTART;TZID=America/New_York:20251009T180000
DTEND;TZID=America/New_York:20251009T200000
DTSTAMP:20260423T221527
CREATED:20250910T184958Z
LAST-MODIFIED:20250910T185116Z
UID:13194-1760032800-1760040000@lookyheregreenfield.com
SUMMARY:*Figure Drawing (10/9 6:00 - 8:00 $15)
DESCRIPTION:BYO materials! Easel and drawing horses provided. Figure Drawing at Looky Here is an uninstructed drawing session with a nude model. $15 per session\, running 6-8pm on over other Thursday evening. \n*Participates in Card to Culture
URL:https://lookyheregreenfield.com/event/figure-drawing-10-9-600-800-15/
CATEGORIES:Drawing,workshop
ATTACH;FMTTYPE=image/jpeg:https://lookyheregreenfield.com/wp-content/uploads/2024/09/figure-drawing-scaled.jpg
END:VEVENT
BEGIN:VEVENT
DTSTART;TZID=America/New_York:20251016T180000
DTEND;TZID=America/New_York:20251016T200000
DTSTAMP:20260423T221527
CREATED:20250910T190008Z
LAST-MODIFIED:20250924T023710Z
UID:13200-1760637600-1760644800@lookyheregreenfield.com
SUMMARY:Public Interest Zine Making with Holly Muñoz (pay what you can!)
DESCRIPTION:“Public Interest” is a concern for the well-being of all people\, rather than individuals\, specific groups\, or companies. \nThe world is messed up and scary. Information and education can help. Learn how to make zines. Get your message across to people. Help them understand why we all do better when we all do better. \nSuggested donation of $15 for the two-hour workshop. No one turned away. Proceeds support Looky Here. All supplies included.
URL:https://lookyheregreenfield.com/event/public-interest-zine-making/
CATEGORIES:workshop
ATTACH;FMTTYPE=image/jpeg:https://lookyheregreenfield.com/wp-content/uploads/2025/09/pips-image-for-workshop.jpg
END:VEVENT
BEGIN:VEVENT
DTSTART;TZID=America/New_York:20251017T130000
DTEND;TZID=America/New_York:20251017T160000
DTSTAMP:20260423T221527
CREATED:20250910T193129Z
LAST-MODIFIED:20250910T193222Z
UID:13223-1760706000-1760716800@lookyheregreenfield.com
SUMMARY:Design and Print Risograph Stationary (10/17 1:00-4:00 $80)
DESCRIPTION:Learn how to design and print on the Risograph in this stationary workshop! Each student will use 2 colors and will make an edition of 20 custom note cards and envelopes!
URL:https://lookyheregreenfield.com/event/design-and-print-risograph-stationary-10-17-100-400-80/
CATEGORIES:Riso,workshop
ATTACH;FMTTYPE=image/jpeg:https://lookyheregreenfield.com/wp-content/uploads/2025/08/stationary.jpg
END:VEVENT
BEGIN:VEVENT
DTSTART;TZID=America/New_York:20251020T180000
DTEND;TZID=America/New_York:20251020T200000
DTSTAMP:20260423T221527
CREATED:20250910T184630Z
LAST-MODIFIED:20251002T131013Z
UID:13190-1760983200-1760990400@lookyheregreenfield.com
SUMMARY:Deranged Sonnets (10/20 6:00-8:00 L. Scully $40)
DESCRIPTION:DERANGED SONNETS: \nShall I compare thee to a fall workshop? \nJoin writer L Scully for a single session workshop focused on creating your own DIY sonnets. You will accompany L for one evening of their daily sonnet quest. This class is a two hour generative session. Arrive with a silly\, open heart\, and leave with the beginnings of three new pieces. While sonnets are a famous poetic staple\, writers from all genres are encouraged to participate. Let’s get weird\, queer\, and let fourteen lines steward our journey together. \n10/20\n6:00-8:00pm\n$40
URL:https://lookyheregreenfield.com/event/carousel-4-weeks-10-3-11-3-writing-workshop-with-l-scully/
CATEGORIES:workshop,writing
ATTACH;FMTTYPE=image/jpeg:https://lookyheregreenfield.com/wp-content/uploads/2025/08/L-scully-moustache.jpg
END:VEVENT
BEGIN:VEVENT
DTSTART;TZID=America/New_York:20251023T180000
DTEND;TZID=America/New_York:20251023T200000
DTSTAMP:20260423T221527
CREATED:20250910T192620Z
LAST-MODIFIED:20250910T192621Z
UID:13219-1761242400-1761249600@lookyheregreenfield.com
SUMMARY:*Figure Drawing (6:00-8:00 $15)
DESCRIPTION:BYO materials! Easel and drawing horses provided. Figure Drawing at Looky Here is an uninstructed drawing session with a nude model. $15 per session\, running 6-8pm on over other Thursday evening. \n*Participates in Card to Culture
URL:https://lookyheregreenfield.com/event/figure-drawing-600-800-15/
CATEGORIES:workshop
ATTACH;FMTTYPE=image/jpeg:https://lookyheregreenfield.com/wp-content/uploads/2024/09/figure-drawing-scaled.jpg
END:VEVENT
BEGIN:VEVENT
DTSTART;TZID=America/New_York:20251025T130000
DTEND;TZID=America/New_York:20251025T150000
DTSTAMP:20260423T221527
CREATED:20250910T193648Z
LAST-MODIFIED:20250910T193710Z
UID:13226-1761397200-1761404400@lookyheregreenfield.com
SUMMARY:*Collage Club –10/25 1:00-3:00 (Every final Saturday of the Month)
DESCRIPTION:1:00-3:00\n$10.00 \nThe Collage Club is where you can play\, experiment\, and learn the fundamentals of creating a collage! No experience is necessary to participate and open to all ages! All collage materials will be provided or you can bring your own. We will meet from 1-3 pm. Tickets for this event are $10 each class. Let’s cut things up\, glue them down\, and create something beautiful! \n*For Card to Culture Tickets\, please email LookyHereGreenfield@gmail.com
URL:https://lookyheregreenfield.com/event/collage-club-10-25-100-300-every-final-saturday-of-the-month/
CATEGORIES:workshop
ATTACH;FMTTYPE=image/jpeg:https://lookyheregreenfield.com/wp-content/uploads/2023/09/Collage-Club-Poster.jpg
END:VEVENT
BEGIN:VEVENT
DTSTART;TZID=America/New_York:20251026T183000
DTEND;TZID=America/New_York:20251026T200000
DTSTAMP:20260423T221527
CREATED:20250903T140853Z
LAST-MODIFIED:20250903T161230Z
UID:13043-1761503400-1761508800@lookyheregreenfield.com
SUMMARY:Unproductive Behaviors #4: Writing Workshop with Sierra Dickey (6 weeks 10/26-11/30 $125 - Masks required)
DESCRIPTION:Unproductive behaviors is a writing circle for queer-identified people. We use the 100s method to generate work in a shared document. The 100s creates a highly fertile place of non-productivity. The aim of our work is not to produce anything finished or final. Instead\, the aim of our work is to be together in the process of generating fragments that could go anywhere or nowhere. The only requirements are to write a minimum of 100 words each week\, and to read and engage with the other participants writing generously. This session is themed around bodies of humans & beyond. What changes when we start to see that plants\, rocks\, animals\, and gullies all have bodies too? What weirdness happens when our bodies intersect with others? We will read short excerpts of embodied poetry & prose from a variety of authors. $125.00 per person for 6 weeks. \nMasks required
URL:https://lookyheregreenfield.com/event/unproductive-behaviors-4-writing-workshop-with-sierra-dickey-6-weeks-10-26-11-30-120-masks-required/
CATEGORIES:workshop
ATTACH;FMTTYPE=image/jpeg:https://lookyheregreenfield.com/wp-content/uploads/2025/09/ub-4.jpg
END:VEVENT
END:VCALENDAR