BEGIN:VCALENDAR
VERSION:2.0
PRODID:-//Looky Here - ECPv6.15.20//NONSGML v1.0//EN
CALSCALE:GREGORIAN
METHOD:PUBLISH
X-ORIGINAL-URL:https://lookyheregreenfield.com
X-WR-CALDESC:Events for Looky Here
REFRESH-INTERVAL;VALUE=DURATION:PT1H
X-Robots-Tag:noindex
X-PUBLISHED-TTL:PT1H
BEGIN:VTIMEZONE
TZID:America/New_York
BEGIN:DAYLIGHT
TZOFFSETFROM:-0500
TZOFFSETTO:-0400
TZNAME:EDT
DTSTART:20250309T070000
END:DAYLIGHT
BEGIN:STANDARD
TZOFFSETFROM:-0400
TZOFFSETTO:-0500
TZNAME:EST
DTSTART:20251102T060000
END:STANDARD
BEGIN:DAYLIGHT
TZOFFSETFROM:-0500
TZOFFSETTO:-0400
TZNAME:EDT
DTSTART:20260308T070000
END:DAYLIGHT
BEGIN:STANDARD
TZOFFSETFROM:-0400
TZOFFSETTO:-0500
TZNAME:EST
DTSTART:20261101T060000
END:STANDARD
BEGIN:DAYLIGHT
TZOFFSETFROM:-0500
TZOFFSETTO:-0400
TZNAME:EDT
DTSTART:20270314T070000
END:DAYLIGHT
BEGIN:STANDARD
TZOFFSETFROM:-0400
TZOFFSETTO:-0500
TZNAME:EST
DTSTART:20271107T060000
END:STANDARD
END:VTIMEZONE
BEGIN:VEVENT
DTSTART;TZID=America/New_York:20260103T103000
DTEND;TZID=America/New_York:20260103T120000
DTSTAMP:20260423T171929
CREATED:20251212T192126Z
LAST-MODIFIED:20251212T192127Z
UID:14852-1767436200-1767441600@lookyheregreenfield.com
SUMMARY:*Morning Shift: Community Open Writing Time (Saturdays from 10:30-12:00)
DESCRIPTION:*Morning Shift: Community Open Writing Time (Saturdays from 10:30-12:00) \nWant to write but having trouble getting started? Or tired of writing alone into the void? Join us for a drop-in writing space\, open to all and free (donations to Looky Here for letting us use the space are encouraged). We will say hello to each other\, share a prompt or brief piece to get us going\, but mostly we will just write together. This is not a workshopping group or an open mic\, come with your notebook or laptop and get ready to get some words on the page in good company. \nFREE! \n* Participates in Card to Culture
URL:https://lookyheregreenfield.com/event/morning-shift-community-open-writing-time-saturdays-from-1030-1200-27/
CATEGORIES:workshop
END:VEVENT
BEGIN:VEVENT
DTSTART;TZID=America/New_York:20260104T130000
DTEND;TZID=America/New_York:20260104T160000
DTSTAMP:20260423T171929
CREATED:20251127T114346Z
LAST-MODIFIED:20251127T114536Z
UID:14704-1767531600-1767542400@lookyheregreenfield.com
SUMMARY:*Craft Club / Open Studio Time (every first Sunday or the month) 1:00-4:00
DESCRIPTION:Bring ant project you like. We will set you up with a large table. You can use our sewing machines\, glue guns\, and whatever other resources we have! $10 – free for members
URL:https://lookyheregreenfield.com/event/craft-club-open-studio-time-every-first-sunday-or-the-month-100-400/
CATEGORIES:workshop
ATTACH;FMTTYPE=image/jpeg:https://lookyheregreenfield.com/wp-content/uploads/2025/10/craft-club.jpg
END:VEVENT
BEGIN:VEVENT
DTSTART;TZID=America/New_York:20260105T180000
DTEND;TZID=America/New_York:20260105T210000
DTSTAMP:20260423T171929
CREATED:20251127T113355Z
LAST-MODIFIED:20251127T113531Z
UID:14700-1767636000-1767646800@lookyheregreenfield.com
SUMMARY:Drawing for Beginners with Giselle Harrington (6:00-9:00 4 week session)
DESCRIPTION:Drawing for Beginners\n4 Monday evenings\, 6-9pm (3 hours). January 5\, 12\, 19\, 26.  $220\nIf class has to be canceled due to snow or ice\, please note that there is no make-up date and students will be reimbursed for the individual canceled class. \nDescription:\nDrawing is the backbone of any work on paper. Learning to draw also means learning to see in a way that applies both to drawing and to working with color. This way of seeing is about looking at objects as two-dimensional\, related\, abstract shapes rather than real objects. This class will teach you how to master drawing through a series of exercises which you can continue to practice at home to develop your skills. In this class you will also learn basic principles such as how to hold the drawing tool\, what tools you can use for drawing\, how drawing relates to image-making as a whole\, and how perspective works.  \nTools: Students bring their own tools. Minimum: paper\, board to support the paper and clips to hold it (if paper is not in a hard cover sketchbook)\, pencil\, eraser. Recommended: Newsprint pad not smaller than 9×12 but preferably bigger\, a board with clips to support the paper\, willow charcoal or graphite pencil\, and eraser: kneaded (for charcoal) or hi-polymer such as Mars Plastic or Pentel.
URL:https://lookyheregreenfield.com/event/drawing-for-beginners-with-giselle-harrington-600-900-4-week-session/
CATEGORIES:workshop
ATTACH;FMTTYPE=image/jpeg:https://lookyheregreenfield.com/wp-content/uploads/2025/11/Looky-Here-Jan-2026-copy.jpg
END:VEVENT
BEGIN:VEVENT
DTSTART;TZID=America/New_York:20260107T180000
DTEND;TZID=America/New_York:20260107T200000
DTSTAMP:20260423T171929
CREATED:20251203T194652Z
LAST-MODIFIED:20251203T194656Z
UID:14752-1767808800-1767816000@lookyheregreenfield.com
SUMMARY:The Mixed Technique: Painting with Acrylic and Oil with Julia Zanes (4-week 1/7-1/28)
DESCRIPTION:Hieronymus Bosch and the Pieter Bruegel (and many other Netherlandish artists ) used a technique we sometimes call  the “mixed technique”  because  it used both egg and linseed oil. \n     In these classes we will appropriate this technique using acrylic paints for the first layers and oil at the end. The process involves an earth colored ground and working only with lights and darks\, an ochre layer\, more darks and lights with the goal of achieving  a wide range of values.  For the last layer a transparent glaze of oil paint is added. We look at the painting only in terms of value until the last layer which is when the color is added.  \n      I took a class in this technique many many years ago and often still think in terms of layering.\n It will be fun\, not as technical as it sounds\, just a nod to the tradition.
URL:https://lookyheregreenfield.com/event/the-mixed-technique-painting-with-acrylic-and-oil-with-julia-zanes-4-week-1-7-1-28/
CATEGORIES:workshop
ATTACH;FMTTYPE=image/jpeg:https://lookyheregreenfield.com/wp-content/uploads/2025/12/IMG_7352.jpeg
END:VEVENT
BEGIN:VEVENT
DTSTART;TZID=America/New_York:20260110T103000
DTEND;TZID=America/New_York:20260110T110000
DTSTAMP:20260423T171929
CREATED:20251212T192353Z
LAST-MODIFIED:20251212T192354Z
UID:14854-1768041000-1768042800@lookyheregreenfield.com
SUMMARY:*Morning Shift: Community Open Writing Time (Saturdays from 10:30-12:00)
DESCRIPTION:*Morning Shift: Community Open Writing Time (Saturdays from 10:30-12:00) \nWant to write but having trouble getting started? Or tired of writing alone into the void? Join us for a drop-in writing space\, open to all and free (donations to Looky Here for letting us use the space are encouraged). We will say hello to each other\, share a prompt or brief piece to get us going\, but mostly we will just write together. This is not a workshopping group or an open mic\, come with your notebook or laptop and get ready to get some words on the page in good company. \nFREE! \n* Participates in Card to Culture
URL:https://lookyheregreenfield.com/event/morning-shift-community-open-writing-time-saturdays-from-1030-1200-28/
CATEGORIES:workshop
END:VEVENT
BEGIN:VEVENT
DTSTART;TZID=America/New_York:20260110T120000
DTEND;TZID=America/New_York:20260110T150000
DTSTAMP:20260423T171929
CREATED:20251203T195055Z
LAST-MODIFIED:20251212T183541Z
UID:14757-1768046400-1768057200@lookyheregreenfield.com
SUMMARY:Design and Print your own Risograph Printed Stationary (1/10)
DESCRIPTION:Learn how to design and print on the Risograph in this stationary workshop! Each student will use 2 colors and will make an edition of 20 custom note cards and envelopes!
URL:https://lookyheregreenfield.com/event/design-and-print-your-own-risograph-printed-stationary-1-10/
CATEGORIES:Riso,workshop
ATTACH;FMTTYPE=image/jpeg:https://lookyheregreenfield.com/wp-content/uploads/2025/08/stationary.jpg
END:VEVENT
BEGIN:VEVENT
DTSTART;TZID=America/New_York:20260111T120000
DTEND;TZID=America/New_York:20260111T140000
DTSTAMP:20260423T171929
CREATED:20251127T112812Z
LAST-MODIFIED:20260110T220424Z
UID:14695-1768132800-1768140000@lookyheregreenfield.com
SUMMARY:Make a Beret with Estha Amar (1/11)
DESCRIPTION:Learn to make a beret!\n A beret is only three circles and some very simple math.  \nIn this class you will learn how to make a basic beret and then how to do a contrasting lining and an edging. \nPractice fabric will be available but feel free to bring your own to work on a final piece. \nThis hat can be made by hand or on a sewing machine. We will work on both techniques.  \nYou will receive a paper pattern with instructions and a digital file of the pattern.
URL:https://lookyheregreenfield.com/event/make-a-beret-with-estha-amar/
CATEGORIES:Sewing,workshop
ATTACH;FMTTYPE=image/jpeg:https://lookyheregreenfield.com/wp-content/uploads/2025/11/1000006421.jpg
END:VEVENT
BEGIN:VEVENT
DTSTART;TZID=America/New_York:20260111T180000
DTEND;TZID=America/New_York:20260111T200000
DTSTAMP:20260423T171929
CREATED:20251009T022724Z
LAST-MODIFIED:20260106T205810Z
UID:14197-1768154400-1768161600@lookyheregreenfield.com
SUMMARY:The 90 Day Novel - 7 Biweekly Sundays (90 days) 1/11 - 4/19 6:00-7:30 $200
DESCRIPTION:Write a novel in just 90 days! \nIn this book club–meets–writing workshop\, we’ll use The 90-Day Novel by Alan Watt as our guide to draft a complete novel in just three months. Whether you’re starting with a fresh idea or returning to a long-lost story\, this course will give you the structure\, support\, and accountability to see it through. \nWe’ll meet every other Sunday to discuss the book’s insights on the creative process\, share progress\, workshop ideas\, and encourage each other through the challenges of long-form storytelling. Each session includes time for peer feedback. \nNo experience required—just a desire to write and a commitment to show up for your story. \nBring a copy of the novel\, or let us know if you want to join a group order by emailing LookyHereGreenfield@gmail.com \nWe’ll wrap up with a celebratory class reading\, where everyone is invited to share a chapter from their novel on Sunday April 19th (date subject to change – we will confirm as a group!) \nNo class 4/5
URL:https://lookyheregreenfield.com/event/the-90-day-novel-8-biweekly-thursdays-90-days-1-8-4-16-600-800-190/
CATEGORIES:workshop
ATTACH;FMTTYPE=image/jpeg:https://lookyheregreenfield.com/wp-content/uploads/2025/10/90-day.jpg
END:VEVENT
BEGIN:VEVENT
DTSTART;TZID=America/New_York:20260115T180000
DTEND;TZID=America/New_York:20260115T200000
DTSTAMP:20260423T171929
CREATED:20251127T120419Z
LAST-MODIFIED:20260115T201825Z
UID:14712-1768500000-1768507200@lookyheregreenfield.com
SUMMARY:*Figure Drawing (every other Thursday 6:00-8:00 $15 - free for members)
DESCRIPTION:BYO materials! Easel and drawing horses provided. Figure Drawing at Looky Here is an uninstructed drawing session with a nude model. $15 per session\, running 6-8pm on over other Thursday evening. \n*Participates in Card to Culture
URL:https://lookyheregreenfield.com/event/figure-drawing-every-other-thursday-600-800-15-free-for-members/
CATEGORIES:workshop
ATTACH;FMTTYPE=image/jpeg:https://lookyheregreenfield.com/wp-content/uploads/2024/09/figure-drawing-scaled.jpg
END:VEVENT
BEGIN:VEVENT
DTSTART;TZID=America/New_York:20260117T103000
DTEND;TZID=America/New_York:20260117T120000
DTSTAMP:20260423T171929
CREATED:20251212T192511Z
LAST-MODIFIED:20251212T192511Z
UID:14856-1768645800-1768651200@lookyheregreenfield.com
SUMMARY:*Morning Shift: Community Open Writing Time (Saturdays from 10:30-12:00)
DESCRIPTION:*Morning Shift: Community Open Writing Time (Saturdays from 10:30-12:00) \nWant to write but having trouble getting started? Or tired of writing alone into the void? Join us for a drop-in writing space\, open to all and free (donations to Looky Here for letting us use the space are encouraged). We will say hello to each other\, share a prompt or brief piece to get us going\, but mostly we will just write together. This is not a workshopping group or an open mic\, come with your notebook or laptop and get ready to get some words on the page in good company. \nFREE! \n* Participates in Card to Culture
URL:https://lookyheregreenfield.com/event/morning-shift-community-open-writing-time-saturdays-from-1030-1200-29/
CATEGORIES:workshop
END:VEVENT
BEGIN:VEVENT
DTSTART;TZID=America/New_York:20260117T130000
DTEND;TZID=America/New_York:20260117T160000
DTSTAMP:20260423T171929
CREATED:20251203T195655Z
LAST-MODIFIED:20251203T200055Z
UID:14764-1768654800-1768665600@lookyheregreenfield.com
SUMMARY:Book Binding: The Hardcover- with Sarah Wisby (1/17)
DESCRIPTION:
URL:https://lookyheregreenfield.com/event/book-binding-the-hardcover-with-sarah-wisby-1-17/
CATEGORIES:workshop
END:VEVENT
BEGIN:VEVENT
DTSTART;TZID=America/New_York:20260118T130000
DTEND;TZID=America/New_York:20260118T150000
DTSTAMP:20260423T171929
CREATED:20251203T200415Z
LAST-MODIFIED:20251203T200416Z
UID:14768-1768741200-1768748400@lookyheregreenfield.com
SUMMARY:Mend Together with Ruby Henry (1/18)
DESCRIPTION:A supportive mending circle for all levels. Bring your mending pile\, and shop Looky Here’s thrift for any needed materials. $10 suggested donation
URL:https://lookyheregreenfield.com/event/mend-together-with-ruby-henry-1-18/
CATEGORIES:workshop
ATTACH;FMTTYPE=image/jpeg:https://lookyheregreenfield.com/wp-content/uploads/2025/12/download.jpg
END:VEVENT
BEGIN:VEVENT
DTSTART;TZID=America/New_York:20260118T170000
DTEND;TZID=America/New_York:20260118T190000
DTSTAMP:20260423T171929
CREATED:20251212T184029Z
LAST-MODIFIED:20260112T042120Z
UID:14837-1768755600-1768762800@lookyheregreenfield.com
SUMMARY:Public Interest Zine Making 5:00-7:00 (pay you can)
DESCRIPTION:“Public Interest” is a concern for the well-being of all people\, rather than individuals\, specific groups\, or companies. \nThe world is messed up and scary. Information and education can help. Learn how to make zines. Get your message across to people. Help them understand why we all do better when we all do better. \nSuggested donation of $15 for the two-hour workshop. No one turned away. Proceeds support Looky Here. All supplies included.
URL:https://lookyheregreenfield.com/event/public-interest-zine-making-500-700-pay-you-can/
CATEGORIES:workshop
ATTACH;FMTTYPE=image/jpeg:https://lookyheregreenfield.com/wp-content/uploads/2025/12/18-Jan_Public-Interest-Zine-Workshop-e1770231107591.jpeg
END:VEVENT
BEGIN:VEVENT
DTSTART;TZID=America/New_York:20260120T154500
DTEND;TZID=America/New_York:20260120T164500
DTSTAMP:20260423T171929
CREATED:20251212T185815Z
LAST-MODIFIED:20260120T171941Z
UID:14844-1768923900-1768927500@lookyheregreenfield.com
SUMMARY:Art with Annaleah (for kids ages 5-9!) 8 weeks on Tuesdays 1/20-3/17 (no class 2/17)
DESCRIPTION:Art with Annaleah  \nTuesdays 3:45-4:45 January 20th-March 17th (no class 2/17) \nAges 5-9 \nDescription: \nIn Art with Annaleah we will explore a variety of mediums such as drawing\, painting\, printmaking\, and sculpture. Emphasizing both material experimentation and technical skill-building\, this class encourages creative exploration through hands-on demonstrations and guided practice. We will do both short-term projects that last one class\,  while other projects will span multiple classes. Come ready to get messy\, try new things\, and expand your artistic toolkit! \nBio: \nAnnaleah Moon Gregoire is a mixed-media artist from Western Massachusetts. After graduating with a B.F.A. in sculpture from California College of the Arts in 2021\, Annaleah dove into a career as a freelance artist in congruence with teaching art privately and in schools. She also has a small t-shirt company where her illustrations are turned into comfortable streetwear.
URL:https://lookyheregreenfield.com/event/art-with-annaleah-for-kids-ages-5-9-8-weeks-on-tuesdays-1-20-3-17-no-class-2-17/
CATEGORIES:workshop
ATTACH;FMTTYPE=image/jpeg:https://lookyheregreenfield.com/wp-content/uploads/2025/09/Art-with-Annaleah-Fall-2025-Poster.jpg
END:VEVENT
BEGIN:VEVENT
DTSTART;TZID=America/New_York:20260123T180000
DTEND;TZID=America/New_York:20260123T200000
DTSTAMP:20260423T171929
CREATED:20251203T200731Z
LAST-MODIFIED:20260109T185546Z
UID:14771-1769191200-1769198400@lookyheregreenfield.com
SUMMARY:Riso Color Exploration (1/23 6:00-8:00 $60)
DESCRIPTION:We’ll use different color paper to experiment with how our Risograph colors blend and interact. We will print collage\, drawings\, designs and more to make a collection of 20 multicolored prints.
URL:https://lookyheregreenfield.com/event/riso-color-exploration-1-23-600-800-60/
CATEGORIES:Riso,workshop
ATTACH;FMTTYPE=image/jpeg:https://lookyheregreenfield.com/wp-content/uploads/2025/09/IMG-8825.jpg
END:VEVENT
BEGIN:VEVENT
DTSTART;TZID=America/New_York:20260124T103000
DTEND;TZID=America/New_York:20260124T120000
DTSTAMP:20260423T171929
CREATED:20251212T192718Z
LAST-MODIFIED:20251212T192801Z
UID:14858-1769250600-1769256000@lookyheregreenfield.com
SUMMARY:*Morning Shift: Community Open Writing Time (Saturdays from 10:30-12:00)
DESCRIPTION:*Morning Shift: Community Open Writing Time (Saturdays from 10:30-12:00) \nWant to write but having trouble getting started? Or tired of writing alone into the void? Join us for a drop-in writing space\, open to all and free (donations to Looky Here for letting us use the space are encouraged). We will say hello to each other\, share a prompt or brief piece to get us going\, but mostly we will just write together. This is not a workshopping group or an open mic\, come with your notebook or laptop and get ready to get some words on the page in good company. \nFREE! \n* Participates in Card to Culture
URL:https://lookyheregreenfield.com/event/morning-shift-community-open-writing-time-saturdays-from-1030-1200-30/
CATEGORIES:workshop
END:VEVENT
BEGIN:VEVENT
DTSTART;TZID=America/New_York:20260125T130000
DTEND;TZID=America/New_York:20260125T150000
DTSTAMP:20260423T171929
CREATED:20251203T201011Z
LAST-MODIFIED:20251203T201011Z
UID:14774-1769346000-1769353200@lookyheregreenfield.com
SUMMARY:Make Our Merch! A free up cycling workshop! (1/25)
DESCRIPTION:Learn different methods of up-cycling clothing to creator line of Looky Looks! All items made will be sold as merchandise in our shop!
URL:https://lookyheregreenfield.com/event/make-our-merch-a-free-up-cycling-workshop-1-25/
CATEGORIES:Sewing,workshop
ATTACH;FMTTYPE=image/webp:https://lookyheregreenfield.com/wp-content/uploads/2025/01/Make-our-Merch.webp
END:VEVENT
BEGIN:VEVENT
DTSTART;TZID=America/New_York:20260129T130000
DTEND;TZID=America/New_York:20260129T150000
DTSTAMP:20260423T171929
CREATED:20251127T120552Z
LAST-MODIFIED:20251127T120608Z
UID:14715-1769691600-1769698800@lookyheregreenfield.com
SUMMARY:*Figure Drawing (every other Thursday 6:00-8:00 $15 - free for members)
DESCRIPTION:BYO materials! Easel and drawing horses provided. Figure Drawing at Looky Here is an uninstructed drawing session with a nude model. $15 per session\, running 6-8pm on over other Thursday evening. \n*Participates in Card to Culture
URL:https://lookyheregreenfield.com/event/figure-drawing-every-other-thursday-600-800-15-free-for-members-2/
CATEGORIES:workshop
ATTACH;FMTTYPE=image/jpeg:https://lookyheregreenfield.com/wp-content/uploads/2024/09/figure-drawing-scaled.jpg
END:VEVENT
BEGIN:VEVENT
DTSTART;TZID=America/New_York:20260131T103000
DTEND;TZID=America/New_York:20260131T120000
DTSTAMP:20260423T171929
CREATED:20251212T192903Z
LAST-MODIFIED:20251212T192916Z
UID:14861-1769855400-1769860800@lookyheregreenfield.com
SUMMARY:*Morning Shift: Community Open Writing Time (Saturdays from 10:30-12:00)
DESCRIPTION:*Morning Shift: Community Open Writing Time (Saturdays from 10:30-12:00) \nWant to write but having trouble getting started? Or tired of writing alone into the void? Join us for a drop-in writing space\, open to all and free (donations to Looky Here for letting us use the space are encouraged). We will say hello to each other\, share a prompt or brief piece to get us going\, but mostly we will just write together. This is not a workshopping group or an open mic\, come with your notebook or laptop and get ready to get some words on the page in good company. \nFREE! \n* Participates in Card to Culture
URL:https://lookyheregreenfield.com/event/morning-shift-community-open-writing-time-saturdays-from-1030-1200-31/
CATEGORIES:workshop
END:VEVENT
BEGIN:VEVENT
DTSTART;TZID=America/New_York:20260131T130000
DTEND;TZID=America/New_York:20260131T150000
DTSTAMP:20260423T171929
CREATED:20251127T114802Z
LAST-MODIFIED:20251127T115750Z
UID:14708-1769864400-1769871600@lookyheregreenfield.com
SUMMARY:*Collage Club – 1:00-3:00 (Every final Saturday of the Month) $10 - free for members
DESCRIPTION:*Collage Club – 1:00-3:00 (Every final Saturday of the Month)\n$10.00 (free for members!) \nThe Collage Club is where you can play\, experiment\, and learn the fundamentals of creating a collage! No experience is necessary to participate and open to all ages! All collage materials will be provided or you can bring your own. We will meet from 1-3 pm. Tickets for this event are $10 each class. Let’s cut things up\, glue them down\, and create something beautiful! \n*For Card to Culture Tickets\, please email LookyHereGreenfield@gmail.com
URL:https://lookyheregreenfield.com/event/collage-club-100-300-every-final-saturday-of-the-month-10-free-for-members/
CATEGORIES:workshop
ATTACH;FMTTYPE=image/jpeg:https://lookyheregreenfield.com/wp-content/uploads/2023/09/Collage-Club-Poster.jpg
END:VEVENT
END:VCALENDAR