BEGIN:VCALENDAR
VERSION:2.0
PRODID:-//Looky Here - ECPv6.15.20//NONSGML v1.0//EN
CALSCALE:GREGORIAN
METHOD:PUBLISH
X-ORIGINAL-URL:https://lookyheregreenfield.com
X-WR-CALDESC:Events for Looky Here
REFRESH-INTERVAL;VALUE=DURATION:PT1H
X-Robots-Tag:noindex
X-PUBLISHED-TTL:PT1H
BEGIN:VTIMEZONE
TZID:America/New_York
BEGIN:DAYLIGHT
TZOFFSETFROM:-0500
TZOFFSETTO:-0400
TZNAME:EDT
DTSTART:20250309T070000
END:DAYLIGHT
BEGIN:STANDARD
TZOFFSETFROM:-0400
TZOFFSETTO:-0500
TZNAME:EST
DTSTART:20251102T060000
END:STANDARD
BEGIN:DAYLIGHT
TZOFFSETFROM:-0500
TZOFFSETTO:-0400
TZNAME:EDT
DTSTART:20260308T070000
END:DAYLIGHT
BEGIN:STANDARD
TZOFFSETFROM:-0400
TZOFFSETTO:-0500
TZNAME:EST
DTSTART:20261101T060000
END:STANDARD
BEGIN:DAYLIGHT
TZOFFSETFROM:-0500
TZOFFSETTO:-0400
TZNAME:EDT
DTSTART:20270314T070000
END:DAYLIGHT
BEGIN:STANDARD
TZOFFSETFROM:-0400
TZOFFSETTO:-0500
TZNAME:EST
DTSTART:20271107T060000
END:STANDARD
END:VTIMEZONE
BEGIN:VEVENT
DTSTART;TZID=America/New_York:20260201T130000
DTEND;TZID=America/New_York:20260201T160000
DTSTAMP:20260423T155923
CREATED:20260107T205049Z
LAST-MODIFIED:20260129T104012Z
UID:14998-1769950800-1769961600@lookyheregreenfield.com
SUMMARY:*Craft Club / Open Studio Time ( 2/1) (every first Sunday or the month) 1:00-4:00
DESCRIPTION:Bring ant project you like. We will set you up with a large table. You can use our sewing machines\, glue guns\, and whatever other resources we have! $10 – free for members
URL:https://lookyheregreenfield.com/event/craft-club-open-studio-time-2-1-every-first-sunday-or-the-month-100-400/
CATEGORIES:workshop
ATTACH;FMTTYPE=image/jpeg:https://lookyheregreenfield.com/wp-content/uploads/2026/01/Screen-Shot-2026-01-07-at-3.48.51-PM.jpg
END:VEVENT
BEGIN:VEVENT
DTSTART;TZID=America/New_York:20260204T180000
DTEND;TZID=America/New_York:20260204T200000
DTSTAMP:20260423T155923
CREATED:20260107T201001Z
LAST-MODIFIED:20260107T201001Z
UID:14971-1770228000-1770235200@lookyheregreenfield.com
SUMMARY:Make a Munsell Color Chart! Color Study with Hannah Brookman (2/4-3/11)
DESCRIPTION:The Munsell Color System is a perceptual color model that defines colors by Hue (the color itself)\, Value (lightness/darkness from black 0 to white 10)\, and Chroma (intensity/saturation) in a three-dimensional space\, often visualized as a cylinder or tree.\nIn this class\, we will work from Hannah’s new Munsell Textbook to paint our own color charts that can be kept and used for reference for the rest of our creative lives!\nThis class will run 6 weeks on Wednesdays starting February 4th through March 11th and will meet from 6-8pm at Looky Here.\nPaint and reading materials will be included\, though feel free to bring your favorite paint brushes and other materials to try.
URL:https://lookyheregreenfield.com/event/make-a-munsell-color-chart-color-study-with-hannah-brookman-2-4-3-11/
CATEGORIES:workshop
ATTACH;FMTTYPE=image/jpeg:https://lookyheregreenfield.com/wp-content/uploads/2026/01/Screen-Shot-2026-01-07-at-2.35.52-PM.jpg
END:VEVENT
BEGIN:VEVENT
DTSTART;TZID=America/New_York:20260207T103000
DTEND;TZID=America/New_York:20260207T120000
DTSTAMP:20260423T155923
CREATED:20260204T193321Z
LAST-MODIFIED:20260204T193322Z
UID:15443-1770460200-1770465600@lookyheregreenfield.com
SUMMARY:*Morning Shift: Community Open Writing Time (Saturdays from 10:30-12:00)
DESCRIPTION:*Morning Shift: Community Open Writing Time (Saturdays from 10:30-12:00) \nWant to write but having trouble getting started? Or tired of writing alone into the void? Join us for a drop-in writing space\, open to all and free (donations to Looky Here for letting us use the space are encouraged). We will say hello to each other\, share a prompt or brief piece to get us going\, but mostly we will just write together. This is not a workshopping group or an open mic\, come with your notebook or laptop and get ready to get some words on the page in good company. \nFREE! \n* Participates in Card to Culture
URL:https://lookyheregreenfield.com/event/morning-shift-community-open-writing-time-saturdays-from-1030-1200-32/
CATEGORIES:workshop,writing
END:VEVENT
BEGIN:VEVENT
DTSTART;TZID=America/New_York:20260207T140000
DTEND;TZID=America/New_York:20260207T170000
DTSTAMP:20260423T155923
CREATED:20260108T182102Z
LAST-MODIFIED:20260108T182102Z
UID:15006-1770472800-1770483600@lookyheregreenfield.com
SUMMARY:Design and Print a Victorian Puzzle Purse Valentine (2/7-2/8)
DESCRIPTION:Learn to design and print on the Riso with this exciting folded note project. This class will run for 2 days over the weekend of the 7th and 8th\, with 2-5pm sessions both days. Students will make their designs for 2 color edition of 20 and print and fold their projects during this time.\nAll materials are included in this beginner friendly class. Come with ideas and sketches if you wish!
URL:https://lookyheregreenfield.com/event/design-and-print-a-victorian-puzzle-purse-valentine-2-7-2-8/
CATEGORIES:Riso,workshop
ATTACH;FMTTYPE=image/jpeg:https://lookyheregreenfield.com/wp-content/uploads/2026/01/Screen-Shot-2026-01-08-at-1.20.35-PM.jpg
END:VEVENT
BEGIN:VEVENT
DTSTART;TZID=America/New_York:20260208T120000
DTEND;TZID=America/New_York:20260208T140000
DTSTAMP:20260423T155923
CREATED:20260108T182843Z
LAST-MODIFIED:20260108T182843Z
UID:15010-1770552000-1770559200@lookyheregreenfield.com
SUMMARY:* Mend Together (2/8)
DESCRIPTION:A supportive mending circle for all levels. Bring your mending pile\, and shop Looky Here’s thrift for any needed materials. $10 suggested donation
URL:https://lookyheregreenfield.com/event/mend-together-2-8/
CATEGORIES:workshop
ATTACH;FMTTYPE=image/jpeg:https://lookyheregreenfield.com/wp-content/uploads/2025/12/download.jpg
END:VEVENT
BEGIN:VEVENT
DTSTART;TZID=America/New_York:20260212T180000
DTEND;TZID=America/New_York:20260212T200000
DTSTAMP:20260423T155923
CREATED:20260107T203923Z
LAST-MODIFIED:20260212T175648Z
UID:14981-1770919200-1770926400@lookyheregreenfield.com
SUMMARY:*Figure Drawing (2/12) (every other Thursday 6:00-8:00 $15 – free for members)
DESCRIPTION:BYO materials! Easel and drawing horses provided. Figure Drawing at Looky Here is an uninstructed drawing session with a nude model. $15 per session\, running 6-8pm on over other Thursday evening. \n*Participates in Card to Culture
URL:https://lookyheregreenfield.com/event/figure-drawing-2-12-every-other-thursday-600-800-15-free-for-members/
CATEGORIES:workshop
ATTACH;FMTTYPE=image/jpeg:https://lookyheregreenfield.com/wp-content/uploads/2026/01/View-recent-photos-2.jpeg
END:VEVENT
BEGIN:VEVENT
DTSTART;TZID=America/New_York:20260213T170000
DTEND;TZID=America/New_York:20260213T200000
DTSTAMP:20260423T155923
CREATED:20260108T183610Z
LAST-MODIFIED:20260213T170849Z
UID:15013-1771002000-1771012800@lookyheregreenfield.com
SUMMARY:Make Your Own Riso Valentines! (2/13)
DESCRIPTION:In this 3-hour\, beginner friendly Riso Workshop\, you will learn and practice the basics of designing for and printing on the risograph. Students will be able to hand draw and collage images to print their own 20 copy edition of 2 color Valentines and matching envelopes! Spaces are limited so sign up soon!
URL:https://lookyheregreenfield.com/event/make-your-own-riso-valentines-2-13/
CATEGORIES:Riso,workshop
ATTACH;FMTTYPE=image/jpeg:https://lookyheregreenfield.com/wp-content/uploads/2026/01/ELLIE-BUG-VALENTINE.jpeg
END:VEVENT
BEGIN:VEVENT
DTSTART;TZID=America/New_York:20260214T103000
DTEND;TZID=America/New_York:20260214T120000
DTSTAMP:20260423T155923
CREATED:20260204T193553Z
LAST-MODIFIED:20260204T193553Z
UID:15445-1771065000-1771070400@lookyheregreenfield.com
SUMMARY:*Morning Shift: Community Open Writing Time (Saturdays from 10:30-12:00)
DESCRIPTION:*Morning Shift: Community Open Writing Time (Saturdays from 10:30-12:00) \nWant to write but having trouble getting started? Or tired of writing alone into the void? Join us for a drop-in writing space\, open to all and free (donations to Looky Here for letting us use the space are encouraged). We will say hello to each other\, share a prompt or brief piece to get us going\, but mostly we will just write together. This is not a workshopping group or an open mic\, come with your notebook or laptop and get ready to get some words on the page in good company. \nFREE! \n* Participates in Card to Culture
URL:https://lookyheregreenfield.com/event/morning-shift-community-open-writing-time-saturdays-from-1030-1200-33/
CATEGORIES:workshop,writing
END:VEVENT
BEGIN:VEVENT
DTSTART;TZID=America/New_York:20260214T130000
DTEND;TZID=America/New_York:20260214T150000
DTSTAMP:20260423T155923
CREATED:20260108T184900Z
LAST-MODIFIED:20260112T215314Z
UID:15017-1771074000-1771081200@lookyheregreenfield.com
SUMMARY:*Collage Valentines with Friends! (2/14)
DESCRIPTION:A cute valentine making party with friends and snacks!\nAll materials included! All are welcome! $10 suggested donation
URL:https://lookyheregreenfield.com/event/collage-valentines-with-friends-2-14/
CATEGORIES:workshop
ATTACH;FMTTYPE=image/jpeg:https://lookyheregreenfield.com/wp-content/uploads/2026/01/2.jpg
END:VEVENT
BEGIN:VEVENT
DTSTART;TZID=America/New_York:20260215T170000
DTEND;TZID=America/New_York:20260215T190000
DTSTAMP:20260423T155923
CREATED:20260204T185237Z
LAST-MODIFIED:20260204T185237Z
UID:15428-1771174800-1771182000@lookyheregreenfield.com
SUMMARY:Public Interest Zine Making 5:00-7:00 (pay you can) (2/15)
DESCRIPTION:“Public Interest” is a concern for the well-being of all people\, rather than individuals\, specific groups\, or companies. \nThe world is messed up and scary. Information and education can help. Learn how to make zines. Get your message across to people. Help them understand why we all do better when we all do better. \nSuggested donation of $15 for the two-hour workshop. No one turned away. Proceeds support Looky Here. All supplies included.
URL:https://lookyheregreenfield.com/event/public-interest-zine-making-500-700-pay-you-can-2-15/
CATEGORIES:workshop
ATTACH;FMTTYPE=image/jpeg:https://lookyheregreenfield.com/wp-content/uploads/2025/12/18-Jan_Public-Interest-Zine-Workshop-e1770231107591.jpeg
END:VEVENT
BEGIN:VEVENT
DTSTART;TZID=America/New_York:20260221T103000
DTEND;TZID=America/New_York:20260221T120000
DTSTAMP:20260423T155923
CREATED:20260204T193651Z
LAST-MODIFIED:20260204T193651Z
UID:15447-1771669800-1771675200@lookyheregreenfield.com
SUMMARY:*Morning Shift: Community Open Writing Time (Saturdays from 10:30-12:00)
DESCRIPTION:*Morning Shift: Community Open Writing Time (Saturdays from 10:30-12:00) \nWant to write but having trouble getting started? Or tired of writing alone into the void? Join us for a drop-in writing space\, open to all and free (donations to Looky Here for letting us use the space are encouraged). We will say hello to each other\, share a prompt or brief piece to get us going\, but mostly we will just write together. This is not a workshopping group or an open mic\, come with your notebook or laptop and get ready to get some words on the page in good company. \nFREE! \n* Participates in Card to Culture
URL:https://lookyheregreenfield.com/event/morning-shift-community-open-writing-time-saturdays-from-1030-1200-34/
CATEGORIES:workshop,writing
END:VEVENT
BEGIN:VEVENT
DTSTART;TZID=America/New_York:20260222T130000
DTEND;TZID=America/New_York:20260222T150000
DTSTAMP:20260423T155923
CREATED:20260108T190042Z
LAST-MODIFIED:20260108T190043Z
UID:15028-1771765200-1771772400@lookyheregreenfield.com
SUMMARY:*Make Our Merch! A free up cycling workshop! (2/22)
DESCRIPTION:Learn different methods of up-cycling clothing to creator line of Looky Looks! All items made will be sold as merchandise in our shop!
URL:https://lookyheregreenfield.com/event/make-our-merch-a-free-up-cycling-workshop-2-22/
CATEGORIES:Sewing,workshop
ATTACH;FMTTYPE=image/jpeg:https://lookyheregreenfield.com/wp-content/uploads/2026/01/Screen-Shot-2026-01-08-at-1.57.54-PM.jpg
END:VEVENT
BEGIN:VEVENT
DTSTART;TZID=America/New_York:20260226T180000
DTEND;TZID=America/New_York:20260226T200000
DTSTAMP:20260423T155923
CREATED:20260107T204249Z
LAST-MODIFIED:20260107T204250Z
UID:14990-1772128800-1772136000@lookyheregreenfield.com
SUMMARY:*Figure Drawing (2/26) (every other Thursday 6:00-8:00 $15 – free for members)
DESCRIPTION:BYO materials! Easel and drawing horses provided. Figure Drawing at Looky Here is an uninstructed drawing session with a nude model. $15 per session\, running 6-8pm on over other Thursday evening. \n*Participates in Card to Culture
URL:https://lookyheregreenfield.com/event/figure-drawing-2-26-every-other-thursday-600-800-15-free-for-members/
CATEGORIES:workshop
ATTACH;FMTTYPE=image/jpeg:https://lookyheregreenfield.com/wp-content/uploads/2026/01/View-recent-photos-2.jpeg
END:VEVENT
BEGIN:VEVENT
DTSTART;TZID=America/New_York:20260228T103000
DTEND;TZID=America/New_York:20260228T120000
DTSTAMP:20260423T155923
CREATED:20260204T193833Z
LAST-MODIFIED:20260204T193833Z
UID:15449-1772274600-1772280000@lookyheregreenfield.com
SUMMARY:*Morning Shift: Community Open Writing Time (Saturdays from 10:30-12:00)
DESCRIPTION:*Morning Shift: Community Open Writing Time (Saturdays from 10:30-12:00) \nWant to write but having trouble getting started? Or tired of writing alone into the void? Join us for a drop-in writing space\, open to all and free (donations to Looky Here for letting us use the space are encouraged). We will say hello to each other\, share a prompt or brief piece to get us going\, but mostly we will just write together. This is not a workshopping group or an open mic\, come with your notebook or laptop and get ready to get some words on the page in good company. \nFREE! \n* Participates in Card to Culture
URL:https://lookyheregreenfield.com/event/morning-shift-community-open-writing-time-saturdays-from-1030-1200-35/
CATEGORIES:workshop,writing
END:VEVENT
BEGIN:VEVENT
DTSTART;TZID=America/New_York:20260228T130000
DTEND;TZID=America/New_York:20260228T150000
DTSTAMP:20260423T155923
CREATED:20260107T204658Z
LAST-MODIFIED:20260107T204658Z
UID:14994-1772283600-1772290800@lookyheregreenfield.com
SUMMARY:*Collage Club (2/28) – 1:00-3:00 (Every final Saturday of the Month) $10 – free for members
DESCRIPTION:*Collage Club – 1:00-3:00 (Every final Saturday of the Month)\n$10.00 (free for members!) \nThe Collage Club is where you can play\, experiment\, and learn the fundamentals of creating a collage! No experience is necessary to participate and open to all ages! All collage materials will be provided or you can bring your own. We will meet from 1-3 pm. Tickets for this event are $10 each class. Let’s cut things up\, glue them down\, and create something beautiful! \n*For Card to Culture Tickets\, please email LookyHereGreenfield@gmail.com
URL:https://lookyheregreenfield.com/event/collage-club-2-28-100-300-every-final-saturday-of-the-month-10-free-for-members/
CATEGORIES:workshop
ATTACH;FMTTYPE=image/jpeg:https://lookyheregreenfield.com/wp-content/uploads/2026/01/Screen-Shot-2025-08-06-at-12.26.58-PM.jpg
END:VEVENT
END:VCALENDAR