BEGIN:VCALENDAR
VERSION:2.0
PRODID:-//Looky Here - ECPv6.15.20//NONSGML v1.0//EN
CALSCALE:GREGORIAN
METHOD:PUBLISH
X-ORIGINAL-URL:https://lookyheregreenfield.com
X-WR-CALDESC:Events for Looky Here
REFRESH-INTERVAL;VALUE=DURATION:PT1H
X-Robots-Tag:noindex
X-PUBLISHED-TTL:PT1H
BEGIN:VTIMEZONE
TZID:America/New_York
BEGIN:DAYLIGHT
TZOFFSETFROM:-0500
TZOFFSETTO:-0400
TZNAME:EDT
DTSTART:20250309T070000
END:DAYLIGHT
BEGIN:STANDARD
TZOFFSETFROM:-0400
TZOFFSETTO:-0500
TZNAME:EST
DTSTART:20251102T060000
END:STANDARD
BEGIN:DAYLIGHT
TZOFFSETFROM:-0500
TZOFFSETTO:-0400
TZNAME:EDT
DTSTART:20260308T070000
END:DAYLIGHT
BEGIN:STANDARD
TZOFFSETFROM:-0400
TZOFFSETTO:-0500
TZNAME:EST
DTSTART:20261101T060000
END:STANDARD
BEGIN:DAYLIGHT
TZOFFSETFROM:-0500
TZOFFSETTO:-0400
TZNAME:EDT
DTSTART:20270314T070000
END:DAYLIGHT
BEGIN:STANDARD
TZOFFSETFROM:-0400
TZOFFSETTO:-0500
TZNAME:EST
DTSTART:20271107T060000
END:STANDARD
END:VTIMEZONE
BEGIN:VEVENT
DTSTART;TZID=America/New_York:20260502T103000
DTEND;TZID=America/New_York:20260502T115000
DTSTAMP:20260423T135544
CREATED:20260304T204553Z
LAST-MODIFIED:20260304T204554Z
UID:15916-1777717800-1777722600@lookyheregreenfield.com
SUMMARY:*Morning Shift: Community Open Writing Time (Saturdays from 10:30-11:50)
DESCRIPTION:*Morning Shift: Community Open Writing Time (Saturdays from 10:30-11:50) \nWant to write but having trouble getting started? Or tired of writing alone into the void? Join us for a drop-in writing space\, open to all and free (donations to Looky Here for letting us use the space are encouraged). We will say hello to each other\, share a prompt or brief piece to get us going\, but mostly we will just write together. This is not a workshopping group or an open mic\, come with your notebook or laptop and get ready to get some words on the page in good company. \nFREE! \n* Participates in Card to Culture
URL:https://lookyheregreenfield.com/event/morning-shift-community-open-writing-time-saturdays-from-1030-1150-5/
CATEGORIES:workshop,writing
ATTACH;FMTTYPE=image/jpeg:https://lookyheregreenfield.com/wp-content/uploads/2026/03/IMG_2571.jpg
END:VEVENT
BEGIN:VEVENT
DTSTART;TZID=America/New_York:20260503T130000
DTEND;TZID=America/New_York:20260503T160000
DTSTAMP:20260423T135544
CREATED:20260304T204155Z
LAST-MODIFIED:20260304T205011Z
UID:15914-1777813200-1777824000@lookyheregreenfield.com
SUMMARY:*Open Studio Sundays (1-4 p.m.\, drop-ins welcome!)
DESCRIPTION:CRAFT\nMEND\nSEW\nDRAW\nWRITE \nuse the space from 1:00-4:00 p.m. \ndrop-ins welcome! \nBring any project you like. We will set you up with a large table. You can use our sewing machines\, glue guns\, and whatever other resources we have! $10 – free for members
URL:https://lookyheregreenfield.com/event/open-studio-sundays-1-4-p-m-drop-ins-welcome/
CATEGORIES:workshop
ATTACH;FMTTYPE=image/jpeg:https://lookyheregreenfield.com/wp-content/uploads/2026/03/IMG_2371.jpg
END:VEVENT
BEGIN:VEVENT
DTSTART;TZID=America/New_York:20260504T180000
DTEND;TZID=America/New_York:20260504T200000
DTSTAMP:20260423T135544
CREATED:20260325T175552Z
LAST-MODIFIED:20260401T183606Z
UID:16128-1777917600-1777924800@lookyheregreenfield.com
SUMMARY:Making Quilted Clothing: The Vest with Sarah King (5/4\, 5/11\, 5/18\, 6/1\, 6/8\, 6:00-8:00pm\, $125)
DESCRIPTION:Monday May 4th\, 11th\, 18th\, June 1st and 8th from 6-8pm\nA 5 week course on Making Quilted Clothing: The Vest for $125:\nThis course introduces concepts from quilting and piecing and puts them into garment making in a format supportive to beginner and experienced sewists. Over five sessions\, students will start from fitting and sizing a vest pattern then move to piecing and quilting and finishing. This class will lean on improvised piecing techniques but can accommodate more traditional quilting if the students prefer it. 
URL:https://lookyheregreenfield.com/event/making-quilted-clothing-the-vest-with-sarah-king-5-4-5-11-5-18-6-1-6-8-500-700pm-125/
CATEGORIES:workshop
ATTACH;FMTTYPE=image/jpeg:https://lookyheregreenfield.com/wp-content/uploads/2026/03/vest-1.jpg
END:VEVENT
BEGIN:VEVENT
DTSTART;TZID=America/New_York:20260507T180000
DTEND;TZID=America/New_York:20260507T200000
DTSTAMP:20260423T135544
CREATED:20260304T184940Z
LAST-MODIFIED:20260304T195854Z
UID:15863-1778176800-1778184000@lookyheregreenfield.com
SUMMARY:*Figure Drawing (5/7) (every other Thursday 6:00-8:00 $15 – free for members)
DESCRIPTION:BYO materials! Easel and drawing horses provided. Figure Drawing at Looky Here is an uninstructed drawing session with a nude model. $15 per session\, running 6-8pm on over other Thursday evening. \n*Participates in Card to Culture
URL:https://lookyheregreenfield.com/event/figure-drawing-5-7-every-other-thursday-600-800-15-free-for-members/
CATEGORIES:workshop
ATTACH;FMTTYPE=image/jpeg:https://lookyheregreenfield.com/wp-content/uploads/2024/09/figure-drawing-scaled.jpg
END:VEVENT
BEGIN:VEVENT
DTSTART;TZID=America/New_York:20260509T103000
DTEND;TZID=America/New_York:20260509T115000
DTSTAMP:20260423T135544
CREATED:20260304T204939Z
LAST-MODIFIED:20260304T205014Z
UID:15921-1778322600-1778327400@lookyheregreenfield.com
SUMMARY:*Morning Shift: Community Open Writing Time (Saturdays from 10:30-11:50)
DESCRIPTION:*Morning Shift: Community Open Writing Time (Saturdays from 10:30-11:50) \nWant to write but having trouble getting started? Or tired of writing alone into the void? Join us for a drop-in writing space\, open to all and free (donations to Looky Here for letting us use the space are encouraged). We will say hello to each other\, share a prompt or brief piece to get us going\, but mostly we will just write together. This is not a workshopping group or an open mic\, come with your notebook or laptop and get ready to get some words on the page in good company. \nFREE! \n* Participates in Card to Culture
URL:https://lookyheregreenfield.com/event/morning-shift-community-open-writing-time-saturdays-from-1030-1150-6/
CATEGORIES:workshop,writing
ATTACH;FMTTYPE=image/jpeg:https://lookyheregreenfield.com/wp-content/uploads/2026/03/IMG_2571.jpg
END:VEVENT
BEGIN:VEVENT
DTSTART;TZID=America/New_York:20260509T130000
DTEND;TZID=America/New_York:20260509T160000
DTSTAMP:20260423T135544
CREATED:20260318T191124Z
LAST-MODIFIED:20260318T191124Z
UID:16078-1778331600-1778342400@lookyheregreenfield.com
SUMMARY:Book Arts Workshop (5/9\, 1:00-4:00\, $60)
DESCRIPTION:Book Arts with Sarah Wisby \n5/9\, 1:00-4:00 pm\, $60\, max 6 people
URL:https://lookyheregreenfield.com/event/book-arts-workshop-5-9-100-400-60/
CATEGORIES:workshop
END:VEVENT
BEGIN:VEVENT
DTSTART;TZID=America/New_York:20260510T130000
DTEND;TZID=America/New_York:20260510T160000
DTSTAMP:20260423T135544
CREATED:20260304T205122Z
LAST-MODIFIED:20260304T205123Z
UID:15924-1778418000-1778428800@lookyheregreenfield.com
SUMMARY:*Open Studio Sundays (1-4 p.m.\, drop-ins welcome!)
DESCRIPTION:CRAFT\nMEND\nSEW\nDRAW\nWRITE \nuse the space from 1:00-4:00 p.m. \ndrop-ins welcome! \nBring any project you like. We will set you up with a large table. You can use our sewing machines\, glue guns\, and whatever other resources we have! $10 – free for members
URL:https://lookyheregreenfield.com/event/open-studio-sundays-1-4-p-m-drop-ins-welcome-2/
CATEGORIES:workshop
ATTACH;FMTTYPE=image/jpeg:https://lookyheregreenfield.com/wp-content/uploads/2026/03/IMG_2371.jpg
END:VEVENT
BEGIN:VEVENT
DTSTART;TZID=America/New_York:20260513T170000
DTEND;TZID=America/New_York:20260513T200000
DTSTAMP:20260423T135544
CREATED:20260401T183602Z
LAST-MODIFIED:20260401T184740Z
UID:10506-1778691600-1778702400@lookyheregreenfield.com
SUMMARY:Risograph Scan-in Collage Workshop (5/13\, 5:00-8:00pm\, $60)
DESCRIPTION:Learn to layer colors on the risograph in this scan-in collage workshop! all materials included to make an edition of 20 prints!
URL:https://lookyheregreenfield.com/event/risograph-scan-in-collage-workshop-5-13-500-800pm-60/
CATEGORIES:Riso,workshop
ATTACH;FMTTYPE=image/jpeg:https://lookyheregreenfield.com/wp-content/uploads/2026/04/IMG_0447.jpg
END:VEVENT
BEGIN:VEVENT
DTSTART;TZID=America/New_York:20260516T103000
DTEND;TZID=America/New_York:20260516T115000
DTSTAMP:20260423T135544
CREATED:20260304T205337Z
LAST-MODIFIED:20260304T205339Z
UID:15926-1778927400-1778932200@lookyheregreenfield.com
SUMMARY:*Morning Shift: Community Open Writing Time (Saturdays from 10:30-11:50)
DESCRIPTION:*Morning Shift: Community Open Writing Time (Saturdays from 10:30-11:50) \nWant to write but having trouble getting started? Or tired of writing alone into the void? Join us for a drop-in writing space\, open to all and free (donations to Looky Here for letting us use the space are encouraged). We will say hello to each other\, share a prompt or brief piece to get us going\, but mostly we will just write together. This is not a workshopping group or an open mic\, come with your notebook or laptop and get ready to get some words on the page in good company. \nFREE! \n* Participates in Card to Culture
URL:https://lookyheregreenfield.com/event/morning-shift-community-open-writing-time-saturdays-from-1030-1150-7/
CATEGORIES:workshop,writing
ATTACH;FMTTYPE=image/jpeg:https://lookyheregreenfield.com/wp-content/uploads/2026/03/IMG_2571.jpg
END:VEVENT
BEGIN:VEVENT
DTSTART;TZID=America/New_York:20260517T130000
DTEND;TZID=America/New_York:20260517T160000
DTSTAMP:20260423T135544
CREATED:20260304T205533Z
LAST-MODIFIED:20260304T205534Z
UID:15928-1779022800-1779033600@lookyheregreenfield.com
SUMMARY:*Open Studio Sundays (1-4 p.m.\, drop-ins welcome!)
DESCRIPTION:CRAFT\nMEND\nSEW\nDRAW\nWRITE \nuse the space from 1:00-4:00 p.m. \ndrop-ins welcome! \nBring any project you like. We will set you up with a large table. You can use our sewing machines\, glue guns\, and whatever other resources we have! $10 – free for members
URL:https://lookyheregreenfield.com/event/open-studio-sundays-1-4-p-m-drop-ins-welcome-3/
CATEGORIES:workshop
ATTACH;FMTTYPE=image/jpeg:https://lookyheregreenfield.com/wp-content/uploads/2026/03/IMG_2371.jpg
END:VEVENT
BEGIN:VEVENT
DTSTART;TZID=America/New_York:20260521T180000
DTEND;TZID=America/New_York:20260521T200000
DTSTAMP:20260423T135544
CREATED:20260304T185216Z
LAST-MODIFIED:20260304T195912Z
UID:15866-1779386400-1779393600@lookyheregreenfield.com
SUMMARY:*Figure Drawing (5/21) (every other Thursday 6:00-8:00 $15 – free for members)
DESCRIPTION:BYO materials! Easel and drawing horses provided. Figure Drawing at Looky Here is an uninstructed drawing session with a nude model. $15 per session\, running 6-8pm on over other Thursday evening. \n*Participates in Card to Culture
URL:https://lookyheregreenfield.com/event/figure-drawing-5-21-every-other-thursday-600-800-15-free-for-members/
CATEGORIES:workshop
ATTACH;FMTTYPE=image/jpeg:https://lookyheregreenfield.com/wp-content/uploads/2024/09/figure-drawing-scaled.jpg
END:VEVENT
BEGIN:VEVENT
DTSTART;TZID=America/New_York:20260523T103000
DTEND;TZID=America/New_York:20260523T115000
DTSTAMP:20260423T135544
CREATED:20260304T205719Z
LAST-MODIFIED:20260304T205720Z
UID:15930-1779532200-1779537000@lookyheregreenfield.com
SUMMARY:*Morning Shift: Community Open Writing Time (Saturdays from 10:30-11:50)
DESCRIPTION:*Morning Shift: Community Open Writing Time (Saturdays from 10:30-11:50) \nWant to write but having trouble getting started? Or tired of writing alone into the void? Join us for a drop-in writing space\, open to all and free (donations to Looky Here for letting us use the space are encouraged). We will say hello to each other\, share a prompt or brief piece to get us going\, but mostly we will just write together. This is not a workshopping group or an open mic\, come with your notebook or laptop and get ready to get some words on the page in good company. \nFREE! \n* Participates in Card to Culture
URL:https://lookyheregreenfield.com/event/morning-shift-community-open-writing-time-saturdays-from-1030-1150-8/
CATEGORIES:workshop,writing
ATTACH;FMTTYPE=image/jpeg:https://lookyheregreenfield.com/wp-content/uploads/2026/03/IMG_2571.jpg
END:VEVENT
BEGIN:VEVENT
DTSTART;TZID=America/New_York:20260524T130000
DTEND;TZID=America/New_York:20260524T160000
DTSTAMP:20260423T135544
CREATED:20260304T205810Z
LAST-MODIFIED:20260304T205810Z
UID:15932-1779627600-1779638400@lookyheregreenfield.com
SUMMARY:*Open Studio Sundays (1-4 p.m.\, drop-ins welcome!)
DESCRIPTION:CRAFT\nMEND\nSEW\nDRAW\nWRITE \nuse the space from 1:00-4:00 p.m. \ndrop-ins welcome! \nBring any project you like. We will set you up with a large table. You can use our sewing machines\, glue guns\, and whatever other resources we have! $10 – free for members
URL:https://lookyheregreenfield.com/event/open-studio-sundays-1-4-p-m-drop-ins-welcome-4/
CATEGORIES:workshop
ATTACH;FMTTYPE=image/jpeg:https://lookyheregreenfield.com/wp-content/uploads/2026/03/IMG_2371.jpg
END:VEVENT
BEGIN:VEVENT
DTSTART;TZID=America/New_York:20260528T180000
DTEND;TZID=America/New_York:20260528T200000
DTSTAMP:20260423T135544
CREATED:20260401T183954Z
LAST-MODIFIED:20260401T183954Z
UID:15499-1779991200-1779998400@lookyheregreenfield.com
SUMMARY:Risograph Botanical Posters! (5/28\, 6:00-8:00pm\, $60)
DESCRIPTION:Learn to print and layer colors on Looky Here’s Risograph printer in this 2 hour workshop! Students will collaboratively make a series of 20 11×17 posters by scanning leaves and flowers. All materials provided\, though feel free to bring your own plant matter.
URL:https://lookyheregreenfield.com/event/risograph-botanical-posters-5-28-600-800pm-60/
CATEGORIES:Riso,workshop
ATTACH;FMTTYPE=image/jpeg:https://lookyheregreenfield.com/wp-content/uploads/2025/03/Botanical-Riso.jpeg
END:VEVENT
BEGIN:VEVENT
DTSTART;TZID=America/New_York:20260530T103000
DTEND;TZID=America/New_York:20260530T115000
DTSTAMP:20260423T135544
CREATED:20260304T205856Z
LAST-MODIFIED:20260304T205857Z
UID:15934-1780137000-1780141800@lookyheregreenfield.com
SUMMARY:*Morning Shift: Community Open Writing Time (Saturdays from 10:30-11:50)
DESCRIPTION:*Morning Shift: Community Open Writing Time (Saturdays from 10:30-11:50) \nWant to write but having trouble getting started? Or tired of writing alone into the void? Join us for a drop-in writing space\, open to all and free (donations to Looky Here for letting us use the space are encouraged). We will say hello to each other\, share a prompt or brief piece to get us going\, but mostly we will just write together. This is not a workshopping group or an open mic\, come with your notebook or laptop and get ready to get some words on the page in good company. \nFREE! \n* Participates in Card to Culture
URL:https://lookyheregreenfield.com/event/morning-shift-community-open-writing-time-saturdays-from-1030-1150-9/
CATEGORIES:workshop,writing
ATTACH;FMTTYPE=image/jpeg:https://lookyheregreenfield.com/wp-content/uploads/2026/03/IMG_2571.jpg
END:VEVENT
BEGIN:VEVENT
DTSTART;TZID=America/New_York:20260531T130000
DTEND;TZID=America/New_York:20260531T160000
DTSTAMP:20260423T135544
CREATED:20260304T205959Z
LAST-MODIFIED:20260304T205959Z
UID:15936-1780232400-1780243200@lookyheregreenfield.com
SUMMARY:*Open Studio Sundays (1-4 p.m.\, drop-ins welcome!)
DESCRIPTION:CRAFT\nMEND\nSEW\nDRAW\nWRITE \nuse the space from 1:00-4:00 p.m. \ndrop-ins welcome! \nBring any project you like. We will set you up with a large table. You can use our sewing machines\, glue guns\, and whatever other resources we have! $10 – free for members
URL:https://lookyheregreenfield.com/event/open-studio-sundays-1-4-p-m-drop-ins-welcome-5/
CATEGORIES:workshop
ATTACH;FMTTYPE=image/jpeg:https://lookyheregreenfield.com/wp-content/uploads/2026/03/IMG_2371.jpg
END:VEVENT
END:VCALENDAR