BEGIN:VCALENDAR
VERSION:2.0
PRODID:-//Looky Here - ECPv6.15.20//NONSGML v1.0//EN
CALSCALE:GREGORIAN
METHOD:PUBLISH
X-WR-CALNAME:Looky Here
X-ORIGINAL-URL:https://lookyheregreenfield.com
X-WR-CALDESC:Events for Looky Here
REFRESH-INTERVAL;VALUE=DURATION:PT1H
X-Robots-Tag:noindex
X-PUBLISHED-TTL:PT1H
BEGIN:VTIMEZONE
TZID:America/New_York
BEGIN:DAYLIGHT
TZOFFSETFROM:-0500
TZOFFSETTO:-0400
TZNAME:EDT
DTSTART:20250309T070000
END:DAYLIGHT
BEGIN:STANDARD
TZOFFSETFROM:-0400
TZOFFSETTO:-0500
TZNAME:EST
DTSTART:20251102T060000
END:STANDARD
BEGIN:DAYLIGHT
TZOFFSETFROM:-0500
TZOFFSETTO:-0400
TZNAME:EDT
DTSTART:20260308T070000
END:DAYLIGHT
BEGIN:STANDARD
TZOFFSETFROM:-0400
TZOFFSETTO:-0500
TZNAME:EST
DTSTART:20261101T060000
END:STANDARD
BEGIN:DAYLIGHT
TZOFFSETFROM:-0500
TZOFFSETTO:-0400
TZNAME:EDT
DTSTART:20270314T070000
END:DAYLIGHT
BEGIN:STANDARD
TZOFFSETFROM:-0400
TZOFFSETTO:-0500
TZNAME:EST
DTSTART:20271107T060000
END:STANDARD
END:VTIMEZONE
BEGIN:VEVENT
DTSTART;TZID=America/New_York:20260604T180000
DTEND;TZID=America/New_York:20260604T200000
DTSTAMP:20260423T153416
CREATED:20260415T183338Z
LAST-MODIFIED:20260415T183338Z
UID:16424-1780596000-1780603200@lookyheregreenfield.com
SUMMARY:*Figure Drawing (6/4) (every other Thursday 6:00-8:00 $15 – free for members)
DESCRIPTION:BYO materials! Easel and drawing horses provided. Figure Drawing at Looky Here is an uninstructed drawing session with a nude model. $15 per session\, running 6-8pm on every other Thursday evening. \n*Participates in Card to Culture
URL:https://lookyheregreenfield.com/event/figure-drawing-6-4-every-other-thursday-600-800-15-free-for-members/
CATEGORIES:workshop
ATTACH;FMTTYPE=image/jpeg:https://lookyheregreenfield.com/wp-content/uploads/2024/09/figure-drawing-scaled.jpg
END:VEVENT
BEGIN:VEVENT
DTSTART;TZID=America/New_York:20260606T103000
DTEND;TZID=America/New_York:20260606T115000
DTSTAMP:20260423T153416
CREATED:20260318T182444Z
LAST-MODIFIED:20260318T182445Z
UID:16057-1780741800-1780746600@lookyheregreenfield.com
SUMMARY:*Morning Shift: Community Open Writing Time (Saturdays from 10:30-11:50)
DESCRIPTION:*Morning Shift: Community Open Writing Time (Saturdays from 10:30-11:50) \nWant to write but having trouble getting started? Or tired of writing alone into the void? Join us for a drop-in writing space\, open to all and free (donations to Looky Here for letting us use the space are encouraged). We will say hello to each other\, share a prompt or brief piece to get us going\, but mostly we will just write together. This is not a workshopping group or an open mic\, come with your notebook or laptop and get ready to get some words on the page in good company. \nFREE! \n* Participates in Card to Culture
URL:https://lookyheregreenfield.com/event/morning-shift-community-open-writing-time-saturdays-from-1030-1150-10/
CATEGORIES:workshop,writing
ATTACH;FMTTYPE=image/jpeg:https://lookyheregreenfield.com/wp-content/uploads/2026/03/morningshift.jpg
END:VEVENT
BEGIN:VEVENT
DTSTART;TZID=America/New_York:20260607T130000
DTEND;TZID=America/New_York:20260607T160000
DTSTAMP:20260423T153416
CREATED:20260325T201901Z
LAST-MODIFIED:20260325T201902Z
UID:16150-1780837200-1780848000@lookyheregreenfield.com
SUMMARY:*Open Studio Sundays (1-4 p.m.\, drop-ins welcome!)
DESCRIPTION:CRAFT\nMEND\nSEW\nDRAW\nWRITE \nuse the space from 1:00-4:00 p.m. \ndrop-ins welcome! \nBring any project you like. We will set you up with a large table. You can use our sewing machines\, glue guns\, and whatever other resources we have! $10 – free for members
URL:https://lookyheregreenfield.com/event/open-studio-sundays-1-4-p-m-drop-ins-welcome-6/
CATEGORIES:workshop
ATTACH;FMTTYPE=image/jpeg:https://lookyheregreenfield.com/wp-content/uploads/2026/03/IMG_2371.jpg
END:VEVENT
BEGIN:VEVENT
DTSTART;TZID=America/New_York:20260608T180000
DTEND;TZID=America/New_York:20260608T210000
DTSTAMP:20260423T153416
CREATED:20260325T190454Z
LAST-MODIFIED:20260402T163816Z
UID:16139-1780941600-1780952400@lookyheregreenfield.com
SUMMARY:Watercolor Painting for Beginners with Giselle Harrington (6/8-7/13\, 6:00-9:00\, $300)
DESCRIPTION:Watercolor Painting for Beginners\n\nCost: $300. Students can bring their own supplies (see supply list)\, or rent supplies for use during class by paying an additional $25 to the teacher at the beginning of the first class (cash\, Venmo\, check accepted).\n\nClass description: This class teaches you the traditional methods of handling transparent watercolor in representational painting. You will learn how to control watercolor through washes and glazes\, creating soft edges\, using wet-in-wet techniques and using dry-brush. You will also learn how to work with the time constraints of the medium through a simplification of value shapes: a key to success in watercolor.\n\nGiselle Harrington is a classically trained\, award-winning watercolor painter. She holds a MFA from the School of Visual Arts where she studied illustration. Additionally\, she studied painting and drawing at the Art Students League of New York. Her work is permanently housed at Simpatico Gallery in Charleston\, SC\, and she regularly shows her work in galleries and arts centers along the East Coast. She has 8 years of watercolor workshop experience.
URL:https://lookyheregreenfield.com/event/watercolor-painting-for-beginners-with-giselle-harrington-6-8-7-13-600-900-300/
CATEGORIES:workshop
ATTACH;FMTTYPE=image/jpeg:https://lookyheregreenfield.com/wp-content/uploads/2026/03/Giselle-2026.jpg
END:VEVENT
BEGIN:VEVENT
DTSTART;TZID=America/New_York:20260609T180000
DTEND;TZID=America/New_York:20260609T200000
DTSTAMP:20260423T153416
CREATED:20260401T185607Z
LAST-MODIFIED:20260415T175747Z
UID:16241-1781028000-1781035200@lookyheregreenfield.com
SUMMARY:Book Arts: Crossed Structure Binding with Emily Holt (June 9th\, 6:00-8:00pm\, $30)
DESCRIPTION:This book has soft cover exposed spine to show off the beautiful binding. The covers are made with cardstock and will be decorated with collaged papers.  The final book makes a good notebook or travel sketchbook.  
URL:https://lookyheregreenfield.com/event/book-arts-crossed-structure-binding-with-emily-holt-june-9th-600-800pm-30/
CATEGORIES:workshop
ATTACH;FMTTYPE=image/jpeg:https://lookyheregreenfield.com/wp-content/uploads/2026/04/crossed-structure-book-2.jpg
END:VEVENT
BEGIN:VEVENT
DTSTART;TZID=America/New_York:20260613T103000
DTEND;TZID=America/New_York:20260613T115000
DTSTAMP:20260423T153416
CREATED:20260318T182636Z
LAST-MODIFIED:20260318T182637Z
UID:16060-1781346600-1781351400@lookyheregreenfield.com
SUMMARY:*Morning Shift: Community Open Writing Time (Saturdays from 10:30-11:50)
DESCRIPTION:*Morning Shift: Community Open Writing Time (Saturdays from 10:30-11:50) \nWant to write but having trouble getting started? Or tired of writing alone into the void? Join us for a drop-in writing space\, open to all and free (donations to Looky Here for letting us use the space are encouraged). We will say hello to each other\, share a prompt or brief piece to get us going\, but mostly we will just write together. This is not a workshopping group or an open mic\, come with your notebook or laptop and get ready to get some words on the page in good company. \nFREE! \n* Participates in Card to Culture
URL:https://lookyheregreenfield.com/event/morning-shift-community-open-writing-time-saturdays-from-1030-1150-11/
CATEGORIES:workshop,writing
ATTACH;FMTTYPE=image/jpeg:https://lookyheregreenfield.com/wp-content/uploads/2026/03/morningshift.jpg
END:VEVENT
BEGIN:VEVENT
DTSTART;TZID=America/New_York:20260614T130000
DTEND;TZID=America/New_York:20260614T160000
DTSTAMP:20260423T153416
CREATED:20260325T202107Z
LAST-MODIFIED:20260325T202108Z
UID:16152-1781442000-1781452800@lookyheregreenfield.com
SUMMARY:*Open Studio Sundays (1-4 p.m.\, drop-ins welcome!)
DESCRIPTION:CRAFT\nMEND\nSEW\nDRAW\nWRITE \nuse the space from 1:00-4:00 p.m. \ndrop-ins welcome! \nBring any project you like. We will set you up with a large table. You can use our sewing machines\, glue guns\, and whatever other resources we have! $10 – free for members
URL:https://lookyheregreenfield.com/event/open-studio-sundays-1-4-p-m-drop-ins-welcome-7/
CATEGORIES:workshop
ATTACH;FMTTYPE=image/jpeg:https://lookyheregreenfield.com/wp-content/uploads/2026/03/IMG_2371.jpg
END:VEVENT
BEGIN:VEVENT
DTSTART;TZID=America/New_York:20260616T180000
DTEND;TZID=America/New_York:20260616T200000
DTSTAMP:20260423T153416
CREATED:20260401T190934Z
LAST-MODIFIED:20260415T175120Z
UID:16247-1781632800-1781640000@lookyheregreenfield.com
SUMMARY:Book Arts: Carousel Books with Emily Holt (June 16th and 28th\, 6:00-8:00pm\, $65)
DESCRIPTION:3-D Collage in the Round: Carousel books are accordion-style books that open 360 degrees to form a standing\, circular\, or star-shaped display.  Students will source magazines and/or colorful paper to create 7 unique scenes.  Each page will have two layers of cut outs to reveal the scene.  The accordions are sewn together using a pamphlet stitch and hard covers will be attached.   \nTwo-day workshop: June 16 & 28 6-8pm $65
URL:https://lookyheregreenfield.com/event/book-arts-carousel-books-with-emily-holt-june-16th-and-23rd-600-800pm-65/
CATEGORIES:workshop
ATTACH;FMTTYPE=image/jpeg:https://lookyheregreenfield.com/wp-content/uploads/2026/04/carousel-4.jpg
END:VEVENT
BEGIN:VEVENT
DTSTART;TZID=America/New_York:20260617T180000
DTEND;TZID=America/New_York:20260617T210000
DTSTAMP:20260423T153416
CREATED:20260401T180717Z
LAST-MODIFIED:20260408T174134Z
UID:16205-1781719200-1781730000@lookyheregreenfield.com
SUMMARY:Writing on Writing: A Metafiction Working Group with Lena Rubin - Session 1 (June 17th & 24th\, 6:00-9:00pm\, $150)
DESCRIPTION:In this experimental working group\, we will study and play with the technique of metafiction —tentatively defined here as “writing on writing.” As we engage with metafictional texts such as Anna Moschovakis’ Eleanor\, or The Rejection of the Progress of Love\, Renee Gladman’s My Lesbian Novel\, and Zia Anger’s My First Film\, we will embark on a delirious and cerebral metatextual journey that transcends the boundaries between fiction and autobiography\, author and protagonist. Participants will come away with an increased understanding of metafiction as radical technique\, as well as inspiration to apply it to their own art-making in the service of more capaciousness\, experimentation\, and play. \nA note on scheduling: The group will meet during two separate sessions this summer. Each session will consist of two three-hour meetings. Diﬀerent material will be covered during each session (though themes and approach will remain continuous)\, so you are welcome to join us for either or both sessions. \n\nLena Rubin is a writer\, artist\, and teacher based in Florence\, MA. Lena’s work has been supported by the Outer Cape Artists in Residence Consortium\, recognized with a nomination to the Best New Poets anthology in 2024\, and published in Little Mirror\, Second Factory\, Afternoon Visitor\, and elsewhere. Lena will complete an MFA in Prose Writing at the University of Massachusetts Amherst as of May 2026. More at lenarubin.tumblr.com.
URL:https://lookyheregreenfield.com/event/writing-on-writing-a-metafiction-working-group-with-lena-rubin-session-1-june-17th-24th-600-900pm-150/
CATEGORIES:workshop,writing
ATTACH;FMTTYPE=image/jpeg:https://lookyheregreenfield.com/wp-content/uploads/2026/04/writing-on-writing-2.jpg
END:VEVENT
BEGIN:VEVENT
DTSTART;TZID=America/New_York:20260618T180000
DTEND;TZID=America/New_York:20260618T200000
DTSTAMP:20260423T153416
CREATED:20260415T183608Z
LAST-MODIFIED:20260415T183609Z
UID:16427-1781805600-1781812800@lookyheregreenfield.com
SUMMARY:*Figure Drawing (6/18) (every other Thursday 6:00-8:00 $15 – free for members)
DESCRIPTION:BYO materials! Easel and drawing horses provided. Figure Drawing at Looky Here is an uninstructed drawing session with a nude model. $15 per session\, running 6-8pm on every other Thursday evening. \n*Participates in Card to Culture
URL:https://lookyheregreenfield.com/event/figure-drawing-6-18-every-other-thursday-600-800-15-free-for-members/
CATEGORIES:workshop
ATTACH;FMTTYPE=image/jpeg:https://lookyheregreenfield.com/wp-content/uploads/2024/09/figure-drawing-scaled.jpg
END:VEVENT
BEGIN:VEVENT
DTSTART;TZID=America/New_York:20260620T103000
DTEND;TZID=America/New_York:20260620T115000
DTSTAMP:20260423T153416
CREATED:20260318T182817Z
LAST-MODIFIED:20260318T182821Z
UID:16062-1781951400-1781956200@lookyheregreenfield.com
SUMMARY:*Morning Shift: Community Open Writing Time (Saturdays from 10:30-11:50)
DESCRIPTION:*Morning Shift: Community Open Writing Time (Saturdays from 10:30-11:50) \nWant to write but having trouble getting started? Or tired of writing alone into the void? Join us for a drop-in writing space\, open to all and free (donations to Looky Here for letting us use the space are encouraged). We will say hello to each other\, share a prompt or brief piece to get us going\, but mostly we will just write together. This is not a workshopping group or an open mic\, come with your notebook or laptop and get ready to get some words on the page in good company. \nFREE! \n* Participates in Card to Culture
URL:https://lookyheregreenfield.com/event/morning-shift-community-open-writing-time-saturdays-from-1030-1150-12/
CATEGORIES:workshop,writing
ATTACH;FMTTYPE=image/jpeg:https://lookyheregreenfield.com/wp-content/uploads/2026/03/morningshift.jpg
END:VEVENT
BEGIN:VEVENT
DTSTART;TZID=America/New_York:20260621T130000
DTEND;TZID=America/New_York:20260621T160000
DTSTAMP:20260423T153416
CREATED:20260325T202234Z
LAST-MODIFIED:20260325T202235Z
UID:16154-1782046800-1782057600@lookyheregreenfield.com
SUMMARY:*Open Studio Sundays (1-4 p.m.\, drop-ins welcome!)
DESCRIPTION:CRAFT\nMEND\nSEW\nDRAW\nWRITE \nuse the space from 1:00-4:00 p.m. \ndrop-ins welcome! \nBring any project you like. We will set you up with a large table. You can use our sewing machines\, glue guns\, and whatever other resources we have! $10 – free for members
URL:https://lookyheregreenfield.com/event/open-studio-sundays-1-4-p-m-drop-ins-welcome-8/
CATEGORIES:workshop
ATTACH;FMTTYPE=image/jpeg:https://lookyheregreenfield.com/wp-content/uploads/2026/03/IMG_2371.jpg
END:VEVENT
BEGIN:VEVENT
DTSTART;TZID=America/New_York:20260627T103000
DTEND;TZID=America/New_York:20260627T115000
DTSTAMP:20260423T153416
CREATED:20260318T184220Z
LAST-MODIFIED:20260318T184222Z
UID:16064-1782556200-1782561000@lookyheregreenfield.com
SUMMARY:*Morning Shift: Community Open Writing Time (Saturdays from 10:30-11:50)
DESCRIPTION:*Morning Shift: Community Open Writing Time (Saturdays from 10:30-11:50) \nWant to write but having trouble getting started? Or tired of writing alone into the void? Join us for a drop-in writing space\, open to all and free (donations to Looky Here for letting us use the space are encouraged). We will say hello to each other\, share a prompt or brief piece to get us going\, but mostly we will just write together. This is not a workshopping group or an open mic\, come with your notebook or laptop and get ready to get some words on the page in good company. \nFREE! \n* Participates in Card to Culture
URL:https://lookyheregreenfield.com/event/morning-shift-community-open-writing-time-saturdays-from-1030-1150-13/
CATEGORIES:workshop,writing
ATTACH;FMTTYPE=image/jpeg:https://lookyheregreenfield.com/wp-content/uploads/2026/03/morningshift.jpg
END:VEVENT
BEGIN:VEVENT
DTSTART;TZID=America/New_York:20260627T130000
DTEND;TZID=America/New_York:20260627T150000
DTSTAMP:20260423T153416
CREATED:20260325T202732Z
LAST-MODIFIED:20260325T202732Z
UID:16158-1782565200-1782572400@lookyheregreenfield.com
SUMMARY:*Collage Club (6/27) – 1:00-3:00 (Every final Saturday of the Month) $10 – free for members
DESCRIPTION:*Collage Club – 1:00-3:00 (Every final Saturday of the Month)\n$10.00 (free for members!) \nThe Collage Club is where you can play\, experiment\, and learn the fundamentals of creating a collage! No experience is necessary to participate and open to all ages! All collage materials will be provided or you can bring your own. We will meet from 1-3 pm. Tickets for this event are $10 each class. Let’s cut things up\, glue them down\, and create something beautiful! \n*For Card to Culture Tickets\, please email LookyHereGreenfield@gmail.com
URL:https://lookyheregreenfield.com/event/collage-club-6-27-100-300-every-final-saturday-of-the-month-10-free-for-members/
CATEGORIES:workshop
ATTACH;FMTTYPE=image/jpeg:https://lookyheregreenfield.com/wp-content/uploads/2023/09/Collage-Club-Poster.jpg
END:VEVENT
BEGIN:VEVENT
DTSTART;TZID=America/New_York:20260628T130000
DTEND;TZID=America/New_York:20260628T160000
DTSTAMP:20260423T153416
CREATED:20260325T202333Z
LAST-MODIFIED:20260325T202400Z
UID:16156-1782651600-1782662400@lookyheregreenfield.com
SUMMARY:*Open Studio Sundays (1-4 p.m.\, drop-ins welcome!)
DESCRIPTION:CRAFT\nMEND\nSEW\nDRAW\nWRITE \nuse the space from 1:00-4:00 p.m. \ndrop-ins welcome! \nBring any project you like. We will set you up with a large table. You can use our sewing machines\, glue guns\, and whatever other resources we have! $10 – free for members
URL:https://lookyheregreenfield.com/event/open-studio-sundays-1-4-p-m-drop-ins-welcome-9/
CATEGORIES:workshop
ATTACH;FMTTYPE=image/jpeg:https://lookyheregreenfield.com/wp-content/uploads/2026/03/IMG_2371.jpg
END:VEVENT
BEGIN:VEVENT
DTSTART;TZID=America/New_York:20260630T180000
DTEND;TZID=America/New_York:20260630T200000
DTSTAMP:20260423T153416
CREATED:20260401T185925Z
LAST-MODIFIED:20260415T175639Z
UID:16244-1782842400-1782849600@lookyheregreenfield.com
SUMMARY:Book Arts: Tunnel Books with Emily Holt (June 30th\, 6:00-8:00pm\, $30)
DESCRIPTION:3-D Collage Peepshow: Students will source collage imagery from magazine/books for the pages of their tunnel book.  They will design their scene and cut holes in the panels to reveal the images on each page.  The pages will be attached to accordion folded sides to create depth and make a sculptural form.  
URL:https://lookyheregreenfield.com/event/book-arts-tunnel-books-with-emily-holt-june-30th-600-800pm-30/
CATEGORIES:workshop
ATTACH;FMTTYPE=image/jpeg:https://lookyheregreenfield.com/wp-content/uploads/2026/04/tunnel-book-3.jpg
END:VEVENT
END:VCALENDAR