BEGIN:VCALENDAR
VERSION:2.0
PRODID:-//Looky Here - ECPv6.15.20//NONSGML v1.0//EN
CALSCALE:GREGORIAN
METHOD:PUBLISH
X-WR-CALNAME:Looky Here
X-ORIGINAL-URL:https://lookyheregreenfield.com
X-WR-CALDESC:Events for Looky Here
REFRESH-INTERVAL;VALUE=DURATION:PT1H
X-Robots-Tag:noindex
X-PUBLISHED-TTL:PT1H
BEGIN:VTIMEZONE
TZID:America/New_York
BEGIN:DAYLIGHT
TZOFFSETFROM:-0500
TZOFFSETTO:-0400
TZNAME:EDT
DTSTART:20230312T070000
END:DAYLIGHT
BEGIN:STANDARD
TZOFFSETFROM:-0400
TZOFFSETTO:-0500
TZNAME:EST
DTSTART:20231105T060000
END:STANDARD
BEGIN:DAYLIGHT
TZOFFSETFROM:-0500
TZOFFSETTO:-0400
TZNAME:EDT
DTSTART:20240310T070000
END:DAYLIGHT
BEGIN:STANDARD
TZOFFSETFROM:-0400
TZOFFSETTO:-0500
TZNAME:EST
DTSTART:20241103T060000
END:STANDARD
BEGIN:DAYLIGHT
TZOFFSETFROM:-0500
TZOFFSETTO:-0400
TZNAME:EDT
DTSTART:20250309T070000
END:DAYLIGHT
BEGIN:STANDARD
TZOFFSETFROM:-0400
TZOFFSETTO:-0500
TZNAME:EST
DTSTART:20251102T060000
END:STANDARD
END:VTIMEZONE
BEGIN:VEVENT
DTSTART;TZID=America/New_York:20240109T180000
DTEND;TZID=America/New_York:20240109T200000
DTSTAMP:20260425T213336
CREATED:20231201T195425Z
LAST-MODIFIED:20231204T164305Z
UID:6982-1704823200-1704830400@lookyheregreenfield.com
SUMMARY:Quilting By Hand with Sarah Guzzetti (6 Tuesdays - 6:00-8:00p.m.)
DESCRIPTION:Complete a full size quilt in just 6 weeks! Make it by hand\, make your own patterns\, DO IT YOUR WAY! There will be plenty of materials on hand but feel free to bring your own fabrics\, be it silk or old socks. Don’t worry if you don’t know how to sew well– we’ll keep it simple and have fun! \nRuns 6 weeks on Tuesday evenings from 6:00-8:00\, 1/9 – 2/13!
URL:https://lookyheregreenfield.com/event/quirky-hand-sewn-quilt-workshop/
CATEGORIES:Sewing,workshop
ATTACH;FMTTYPE=image/jpeg:https://lookyheregreenfield.com/wp-content/uploads/2023/12/image-4.jpg
END:VEVENT
END:VCALENDAR