BEGIN:VCALENDAR
VERSION:2.0
PRODID:-//Looky Here - ECPv6.15.20//NONSGML v1.0//EN
CALSCALE:GREGORIAN
METHOD:PUBLISH
X-WR-CALNAME:Looky Here
X-ORIGINAL-URL:https://lookyheregreenfield.com
X-WR-CALDESC:Events for Looky Here
REFRESH-INTERVAL;VALUE=DURATION:PT1H
X-Robots-Tag:noindex
X-PUBLISHED-TTL:PT1H
BEGIN:VTIMEZONE
TZID:America/New_York
BEGIN:DAYLIGHT
TZOFFSETFROM:-0500
TZOFFSETTO:-0400
TZNAME:EDT
DTSTART:20230312T070000
END:DAYLIGHT
BEGIN:STANDARD
TZOFFSETFROM:-0400
TZOFFSETTO:-0500
TZNAME:EST
DTSTART:20231105T060000
END:STANDARD
BEGIN:DAYLIGHT
TZOFFSETFROM:-0500
TZOFFSETTO:-0400
TZNAME:EDT
DTSTART:20240310T070000
END:DAYLIGHT
BEGIN:STANDARD
TZOFFSETFROM:-0400
TZOFFSETTO:-0500
TZNAME:EST
DTSTART:20241103T060000
END:STANDARD
BEGIN:DAYLIGHT
TZOFFSETFROM:-0500
TZOFFSETTO:-0400
TZNAME:EDT
DTSTART:20250309T070000
END:DAYLIGHT
BEGIN:STANDARD
TZOFFSETFROM:-0400
TZOFFSETTO:-0500
TZNAME:EST
DTSTART:20251102T060000
END:STANDARD
END:VTIMEZONE
BEGIN:VEVENT
DTSTART;TZID=America/New_York:20240124T180000
DTEND;TZID=America/New_York:20240124T200000
DTSTAMP:20260425T213328
CREATED:20240106T153722Z
LAST-MODIFIED:20240118T173632Z
UID:7214-1706119200-1706126400@lookyheregreenfield.com
SUMMARY:Spanish through Art
DESCRIPTION:We will talk in Spanish about Gaudi and make a Gaudi inspired piece! \nIn Spanish through art\, we spend 30 minutes discussing a Spanish speaking artist or an art form from a hispanic country (all in Spanish of course) and then we spend the remainder of class making art in a similar style to what we just learned. \nClasses are open to all levels of Spanish speakers\, but they are conducted entirely in Spanish! Be ready to immerse yourself in art and language and have fun! \nAll materials included.
URL:https://lookyheregreenfield.com/event/spanish-through-art-6/
CATEGORIES:Spanish,workshop
ATTACH;FMTTYPE=image/jpeg:https://lookyheregreenfield.com/wp-content/uploads/2023/08/Spanish-through-art-e1704552355708.jpg
END:VEVENT
END:VCALENDAR