BEGIN:VCALENDAR
VERSION:2.0
PRODID:-//Looky Here - ECPv6.15.20//NONSGML v1.0//EN
CALSCALE:GREGORIAN
METHOD:PUBLISH
X-WR-CALNAME:Looky Here
X-ORIGINAL-URL:https://lookyheregreenfield.com
X-WR-CALDESC:Events for Looky Here
REFRESH-INTERVAL;VALUE=DURATION:PT1H
X-Robots-Tag:noindex
X-PUBLISHED-TTL:PT1H
BEGIN:VTIMEZONE
TZID:America/New_York
BEGIN:DAYLIGHT
TZOFFSETFROM:-0500
TZOFFSETTO:-0400
TZNAME:EDT
DTSTART:20230312T070000
END:DAYLIGHT
BEGIN:STANDARD
TZOFFSETFROM:-0400
TZOFFSETTO:-0500
TZNAME:EST
DTSTART:20231105T060000
END:STANDARD
BEGIN:DAYLIGHT
TZOFFSETFROM:-0500
TZOFFSETTO:-0400
TZNAME:EDT
DTSTART:20240310T070000
END:DAYLIGHT
BEGIN:STANDARD
TZOFFSETFROM:-0400
TZOFFSETTO:-0500
TZNAME:EST
DTSTART:20241103T060000
END:STANDARD
BEGIN:DAYLIGHT
TZOFFSETFROM:-0500
TZOFFSETTO:-0400
TZNAME:EDT
DTSTART:20250309T070000
END:DAYLIGHT
BEGIN:STANDARD
TZOFFSETFROM:-0400
TZOFFSETTO:-0500
TZNAME:EST
DTSTART:20251102T060000
END:STANDARD
END:VTIMEZONE
BEGIN:VEVENT
DTSTART;TZID=America/New_York:20240214T180000
DTEND;TZID=America/New_York:20240214T200000
DTSTAMP:20260425T192936
CREATED:20240117T195329Z
LAST-MODIFIED:20240124T142528Z
UID:7329-1707933600-1707940800@lookyheregreenfield.com
SUMMARY:Linocut Valentine Workshop with Ellie Nowak (Wednesday 2/14: 6:00-8:00)
DESCRIPTION:In this Valentine’s Day Linocut workshop\, you’ll learn basic linocut block printing and carving techniques. We will provide carving tools\, ribbon\, frills\, glitter and more\, and you will learn techniques to create your very own fancy linocut valentines! At the end of the day\, you’ll be able to take your art home\, along with a linoleum printing block that you can use again and again. \nAll materials included and no experience necessary. We will have images for you to carve\, or you can bring in your own original work!
URL:https://lookyheregreenfield.com/event/valentines-linocut-workshop-with-ellie-nowak-wednesday-600-800/
CATEGORIES:workshop
ATTACH;FMTTYPE=image/jpeg:https://lookyheregreenfield.com/wp-content/uploads/2024/01/IMG_3087-scaled.jpg
END:VEVENT
END:VCALENDAR