BEGIN:VCALENDAR
VERSION:2.0
PRODID:-//Looky Here - ECPv6.15.20//NONSGML v1.0//EN
CALSCALE:GREGORIAN
METHOD:PUBLISH
X-WR-CALNAME:Looky Here
X-ORIGINAL-URL:https://lookyheregreenfield.com
X-WR-CALDESC:Events for Looky Here
REFRESH-INTERVAL;VALUE=DURATION:PT1H
X-Robots-Tag:noindex
X-PUBLISHED-TTL:PT1H
BEGIN:VTIMEZONE
TZID:America/New_York
BEGIN:DAYLIGHT
TZOFFSETFROM:-0500
TZOFFSETTO:-0400
TZNAME:EDT
DTSTART:20230312T070000
END:DAYLIGHT
BEGIN:STANDARD
TZOFFSETFROM:-0400
TZOFFSETTO:-0500
TZNAME:EST
DTSTART:20231105T060000
END:STANDARD
BEGIN:DAYLIGHT
TZOFFSETFROM:-0500
TZOFFSETTO:-0400
TZNAME:EDT
DTSTART:20240310T070000
END:DAYLIGHT
BEGIN:STANDARD
TZOFFSETFROM:-0400
TZOFFSETTO:-0500
TZNAME:EST
DTSTART:20241103T060000
END:STANDARD
BEGIN:DAYLIGHT
TZOFFSETFROM:-0500
TZOFFSETTO:-0400
TZNAME:EDT
DTSTART:20250309T070000
END:DAYLIGHT
BEGIN:STANDARD
TZOFFSETFROM:-0400
TZOFFSETTO:-0500
TZNAME:EST
DTSTART:20251102T060000
END:STANDARD
END:VTIMEZONE
BEGIN:VEVENT
DTSTART;TZID=America/New_York:20240629T130000
DTEND;TZID=America/New_York:20240629T150000
DTSTAMP:20260425T105731
CREATED:20240117T163330Z
LAST-MODIFIED:20240117T163331Z
UID:7317-1719666000-1719673200@lookyheregreenfield.com
SUMMARY:Collage club!
DESCRIPTION:The Collage Club is where you can play\, experiment\, and learn the fundamentals of creating a collage! No experience is necessary to participate and open to all ages!  All collage materials will be provided or you can bring your own. We will meet from 1-3 pm. Tickets for this event are $10 each class. Let’s cut things up\, glue them down\, and create something beautiful!  \n  \nBio: Bella LaMontagne is an analog collage artist based in Shelburne Falls Massachusetts. She is a Finalist in the 9th edition of the Boynes Artist Award: Young Artist Category. Her work has been published in multiple publications including\, the Red Ogre Review\, the Indianapolis Review\, the Santa Clara Review\, and Photosynthesis Magazine . Bella has exhibited her work both regionally and internationally. In March of 2023 Bella was an artist in residence\, hosted by the Kolaj Institute\, at the Knoxville Museum of Art in Knoxville Tennessee where she explored the role of folklore within the context of collage. 
URL:https://lookyheregreenfield.com/event/collage-club-6/
CATEGORIES:workshop
ATTACH;FMTTYPE=image/jpeg:https://lookyheregreenfield.com/wp-content/uploads/2023/09/Collage-Club-Poster.jpg
END:VEVENT
END:VCALENDAR