BEGIN:VCALENDAR
VERSION:2.0
PRODID:-//Looky Here - ECPv6.15.20//NONSGML v1.0//EN
CALSCALE:GREGORIAN
METHOD:PUBLISH
X-ORIGINAL-URL:https://lookyheregreenfield.com
X-WR-CALDESC:Events for Looky Here
REFRESH-INTERVAL;VALUE=DURATION:PT1H
X-Robots-Tag:noindex
X-PUBLISHED-TTL:PT1H
BEGIN:VTIMEZONE
TZID:America/New_York
BEGIN:DAYLIGHT
TZOFFSETFROM:-0500
TZOFFSETTO:-0400
TZNAME:EDT
DTSTART:20230312T070000
END:DAYLIGHT
BEGIN:STANDARD
TZOFFSETFROM:-0400
TZOFFSETTO:-0500
TZNAME:EST
DTSTART:20231105T060000
END:STANDARD
BEGIN:DAYLIGHT
TZOFFSETFROM:-0500
TZOFFSETTO:-0400
TZNAME:EDT
DTSTART:20240310T070000
END:DAYLIGHT
BEGIN:STANDARD
TZOFFSETFROM:-0400
TZOFFSETTO:-0500
TZNAME:EST
DTSTART:20241103T060000
END:STANDARD
BEGIN:DAYLIGHT
TZOFFSETFROM:-0500
TZOFFSETTO:-0400
TZNAME:EDT
DTSTART:20250309T070000
END:DAYLIGHT
BEGIN:STANDARD
TZOFFSETFROM:-0400
TZOFFSETTO:-0500
TZNAME:EST
DTSTART:20251102T060000
END:STANDARD
END:VTIMEZONE
BEGIN:VEVENT
DTSTART;TZID=America/New_York:20241104T180000
DTEND;TZID=America/New_York:20241104T200000
DTSTAMP:20260424T191607
CREATED:20241005T231755Z
LAST-MODIFIED:20241007T185027Z
UID:9651-1730743200-1730750400@lookyheregreenfield.com
SUMMARY:Comedy Workshop with Mo Schweiger (Mondays 11/4-12/9)
DESCRIPTION:This six session comedy workshop is designed to make performing stand-up comedy less daunting! \nOver six weeks\, we will alternate between “content” workshop sessions and open mic workshop sessions. In “content” sessions\, we will watch comedy sets by pros and discuss what makes them great. We will break down their jokes\, their stage personas\, and the structures of their sets and learn from them what works and doesn’t. \nThen\, on open mic weeks\, we’ll take our skills to the mic! \nThis workshop is specifically meant for people underrepresented in traditional comedy spaces\, though all are welcome. No experience necessary/all levels of experience welcome! \n$150 \n 
URL:https://lookyheregreenfield.com/event/comedy-workshop-with-mo-schweiger/
CATEGORIES:workshop,writing
ATTACH;FMTTYPE=image/jpeg:https://lookyheregreenfield.com/wp-content/uploads/2024/10/image0-58.jpeg
END:VEVENT
END:VCALENDAR