BEGIN:VCALENDAR
VERSION:2.0
PRODID:-//Looky Here - ECPv6.15.20//NONSGML v1.0//EN
CALSCALE:GREGORIAN
METHOD:PUBLISH
X-ORIGINAL-URL:https://lookyheregreenfield.com
X-WR-CALDESC:Events for Looky Here
REFRESH-INTERVAL;VALUE=DURATION:PT1H
X-Robots-Tag:noindex
X-PUBLISHED-TTL:PT1H
BEGIN:VTIMEZONE
TZID:America/New_York
BEGIN:DAYLIGHT
TZOFFSETFROM:-0500
TZOFFSETTO:-0400
TZNAME:EDT
DTSTART:20240310T070000
END:DAYLIGHT
BEGIN:STANDARD
TZOFFSETFROM:-0400
TZOFFSETTO:-0500
TZNAME:EST
DTSTART:20241103T060000
END:STANDARD
BEGIN:DAYLIGHT
TZOFFSETFROM:-0500
TZOFFSETTO:-0400
TZNAME:EDT
DTSTART:20250309T070000
END:DAYLIGHT
BEGIN:STANDARD
TZOFFSETFROM:-0400
TZOFFSETTO:-0500
TZNAME:EST
DTSTART:20251102T060000
END:STANDARD
BEGIN:DAYLIGHT
TZOFFSETFROM:-0500
TZOFFSETTO:-0400
TZNAME:EDT
DTSTART:20260308T070000
END:DAYLIGHT
BEGIN:STANDARD
TZOFFSETFROM:-0400
TZOFFSETTO:-0500
TZNAME:EST
DTSTART:20261101T060000
END:STANDARD
END:VTIMEZONE
BEGIN:VEVENT
DTSTART;TZID=America/New_York:20250115T180000
DTEND;TZID=America/New_York:20250115T200000
DTSTAMP:20260424T155444
CREATED:20241204T161608Z
LAST-MODIFIED:20250115T195511Z
UID:9877-1736964000-1736971200@lookyheregreenfield.com
SUMMARY:Make a Marionette with a British control! (January 15-February 19)
DESCRIPTION:Vermont based painter and puppet-maker\, Julia Zanes will teach this marionette building class using skills and designs handed down from Mrs. Barbara Richards of “The Small World Theater” in Hopkinton NH. This “British Control” style of marionette is easier to make and control and leaves much elbow room for personal vision while still making a marionette that can “imitate life”. All materials will be included in the cost of this 6 week class which will run from 1/15-2/19 from 6-8pm on Wednesday evenings.
URL:https://lookyheregreenfield.com/event/make-a-marionette-with-a-british-control/
CATEGORIES:workshop
ATTACH;FMTTYPE=image/jpeg:https://lookyheregreenfield.com/wp-content/uploads/2024/12/IMG-5872-scaled.jpg
END:VEVENT
END:VCALENDAR