BEGIN:VCALENDAR
VERSION:2.0
PRODID:-//Looky Here - ECPv6.15.20//NONSGML v1.0//EN
CALSCALE:GREGORIAN
METHOD:PUBLISH
X-ORIGINAL-URL:https://lookyheregreenfield.com
X-WR-CALDESC:Events for Looky Here
REFRESH-INTERVAL;VALUE=DURATION:PT1H
X-Robots-Tag:noindex
X-PUBLISHED-TTL:PT1H
BEGIN:VTIMEZONE
TZID:America/New_York
BEGIN:DAYLIGHT
TZOFFSETFROM:-0500
TZOFFSETTO:-0400
TZNAME:EDT
DTSTART:20240310T070000
END:DAYLIGHT
BEGIN:STANDARD
TZOFFSETFROM:-0400
TZOFFSETTO:-0500
TZNAME:EST
DTSTART:20241103T060000
END:STANDARD
BEGIN:DAYLIGHT
TZOFFSETFROM:-0500
TZOFFSETTO:-0400
TZNAME:EDT
DTSTART:20250309T070000
END:DAYLIGHT
BEGIN:STANDARD
TZOFFSETFROM:-0400
TZOFFSETTO:-0500
TZNAME:EST
DTSTART:20251102T060000
END:STANDARD
BEGIN:DAYLIGHT
TZOFFSETFROM:-0500
TZOFFSETTO:-0400
TZNAME:EDT
DTSTART:20260308T070000
END:DAYLIGHT
BEGIN:STANDARD
TZOFFSETFROM:-0400
TZOFFSETTO:-0500
TZNAME:EST
DTSTART:20261101T060000
END:STANDARD
END:VTIMEZONE
BEGIN:VEVENT
DTSTART;TZID=America/New_York:20250202T120000
DTEND;TZID=America/New_York:20250202T170000
DTSTAMP:20260424T141740
CREATED:20250121T181837Z
LAST-MODIFIED:20250127T184732Z
UID:10298-1738497600-1738515600@lookyheregreenfield.com
SUMMARY:Sweatshirt Weaving Workshop with Rae Heller (materials included 12:00-5:00 $100)
DESCRIPTION:Bring in some shabby sweats and make them shine with fabric weaving! \nWe ran a three hour version of this class\, but it just wasn’t long enough. Come to this all day intensive to master the art of sweatshirt weaving. \nSewing machine experience not mandatory but extremely helpful!\nBring a sweatshirt to upcycle\, all other materials included! \nThis class is 5 hours and will include a break. Pack a snack! \n 
URL:https://lookyheregreenfield.com/event/sweatshirt-weaving-workshop-with-rae-heller-1200-500-100/
CATEGORIES:workshop
ATTACH;FMTTYPE=image/jpeg:https://lookyheregreenfield.com/wp-content/uploads/2024/12/Weaving-scaled.jpg
END:VEVENT
END:VCALENDAR