BEGIN:VCALENDAR
VERSION:2.0
PRODID:-//Looky Here - ECPv6.15.20//NONSGML v1.0//EN
CALSCALE:GREGORIAN
METHOD:PUBLISH
X-WR-CALNAME:Looky Here
X-ORIGINAL-URL:https://lookyheregreenfield.com
X-WR-CALDESC:Events for Looky Here
REFRESH-INTERVAL;VALUE=DURATION:PT1H
X-Robots-Tag:noindex
X-PUBLISHED-TTL:PT1H
BEGIN:VTIMEZONE
TZID:America/New_York
BEGIN:DAYLIGHT
TZOFFSETFROM:-0500
TZOFFSETTO:-0400
TZNAME:EDT
DTSTART:20240310T070000
END:DAYLIGHT
BEGIN:STANDARD
TZOFFSETFROM:-0400
TZOFFSETTO:-0500
TZNAME:EST
DTSTART:20241103T060000
END:STANDARD
BEGIN:DAYLIGHT
TZOFFSETFROM:-0500
TZOFFSETTO:-0400
TZNAME:EDT
DTSTART:20250309T070000
END:DAYLIGHT
BEGIN:STANDARD
TZOFFSETFROM:-0400
TZOFFSETTO:-0500
TZNAME:EST
DTSTART:20251102T060000
END:STANDARD
BEGIN:DAYLIGHT
TZOFFSETFROM:-0500
TZOFFSETTO:-0400
TZNAME:EDT
DTSTART:20260308T070000
END:DAYLIGHT
BEGIN:STANDARD
TZOFFSETFROM:-0400
TZOFFSETTO:-0500
TZNAME:EST
DTSTART:20261101T060000
END:STANDARD
END:VTIMEZONE
BEGIN:VEVENT
DTSTART;TZID=America/New_York:20250308T130000
DTEND;TZID=America/New_York:20250308T150000
DTSTAMP:20260424T123044
CREATED:20250121T171127Z
LAST-MODIFIED:20250127T195101Z
UID:10283-1741438800-1741446000@lookyheregreenfield.com
SUMMARY:Simple Darning (March 8th\, 1-3pm $15)
DESCRIPTION:Simple Darning  \nIntroduction to darning\, a type of diy mending that reduces waste\, supports function\, makes items cool\, and supports the nostalgia of old clothes to live on. \nEach participant is encouraged to bring a knitted item with at least one hole or threadbare area. It can be hand knitted\, machine knitted\, and maybe even a loose weave. \nFor beginners\, it’s easiest to start with a small hole or a threadbare area. \nTogether we will fill holes and strengthen garments/socks/sweaters/blankets with beautiful art.  \nA selection of yarn will be provided\, and participants are welcome to bring their own. \nDarning needles and materials provided. \nMarch 8th\, 1-3pm $15 \nNo one will be turned away for lack of funds\, email LookyHereGreenfield@gmail.com for more info
URL:https://lookyheregreenfield.com/event/simple-darning-march-8th-1-3pm-15/
CATEGORIES:workshop
ATTACH;FMTTYPE=image/jpeg:https://lookyheregreenfield.com/wp-content/uploads/2025/01/Screenshot-2025-01-16-at-2.00.40-PM-scaled.jpg
END:VEVENT
END:VCALENDAR