BEGIN:VCALENDAR
VERSION:2.0
PRODID:-//Looky Here - ECPv6.15.20//NONSGML v1.0//EN
CALSCALE:GREGORIAN
METHOD:PUBLISH
X-WR-CALNAME:Looky Here
X-ORIGINAL-URL:https://lookyheregreenfield.com
X-WR-CALDESC:Events for Looky Here
REFRESH-INTERVAL;VALUE=DURATION:PT1H
X-Robots-Tag:noindex
X-PUBLISHED-TTL:PT1H
BEGIN:VTIMEZONE
TZID:America/New_York
BEGIN:DAYLIGHT
TZOFFSETFROM:-0500
TZOFFSETTO:-0400
TZNAME:EDT
DTSTART:20240310T070000
END:DAYLIGHT
BEGIN:STANDARD
TZOFFSETFROM:-0400
TZOFFSETTO:-0500
TZNAME:EST
DTSTART:20241103T060000
END:STANDARD
BEGIN:DAYLIGHT
TZOFFSETFROM:-0500
TZOFFSETTO:-0400
TZNAME:EDT
DTSTART:20250309T070000
END:DAYLIGHT
BEGIN:STANDARD
TZOFFSETFROM:-0400
TZOFFSETTO:-0500
TZNAME:EST
DTSTART:20251102T060000
END:STANDARD
BEGIN:DAYLIGHT
TZOFFSETFROM:-0500
TZOFFSETTO:-0400
TZNAME:EDT
DTSTART:20260308T070000
END:DAYLIGHT
BEGIN:STANDARD
TZOFFSETFROM:-0400
TZOFFSETTO:-0500
TZNAME:EST
DTSTART:20261101T060000
END:STANDARD
END:VTIMEZONE
BEGIN:VEVENT
DTSTART;TZID=America/New_York:20250406T153000
DTEND;TZID=America/New_York:20250406T180000
DTSTAMP:20260424T105030
CREATED:20241205T042509Z
LAST-MODIFIED:20250324T162806Z
UID:9976-1743953400-1743962400@lookyheregreenfield.com
SUMMARY:Quilting 101 - Part 3: Office Hours with Rae - 4/6\, 4/13 and 4/27 (no class 4/20) 3:30-6:00 $155
DESCRIPTION:Quilting 101 – Part 3: Office Hours with Rae – 4/6\, 4/13 and 4/27 (no class 4/20) \n\n\n\nPart 3 offers one-on-one attention\, community support\, and cheerleading to help you FINISH your project! \n\nLimited to six students.
URL:https://lookyheregreenfield.com/event/quilting-101-part-3-office-hours-with-rae-4-5-4-19-and-4-26-no-class-4-12-330-630-155/
CATEGORIES:Sewing,workshop
ATTACH;FMTTYPE=image/jpeg:https://lookyheregreenfield.com/wp-content/uploads/2024/12/BlueFadeQuilt71x71.jpeg
END:VEVENT
END:VCALENDAR