BEGIN:VCALENDAR
VERSION:2.0
PRODID:-//Looky Here - ECPv6.15.20//NONSGML v1.0//EN
CALSCALE:GREGORIAN
METHOD:PUBLISH
X-WR-CALNAME:Looky Here
X-ORIGINAL-URL:https://lookyheregreenfield.com
X-WR-CALDESC:Events for Looky Here
REFRESH-INTERVAL;VALUE=DURATION:PT1H
X-Robots-Tag:noindex
X-PUBLISHED-TTL:PT1H
BEGIN:VTIMEZONE
TZID:America/New_York
BEGIN:DAYLIGHT
TZOFFSETFROM:-0500
TZOFFSETTO:-0400
TZNAME:EDT
DTSTART:20240310T070000
END:DAYLIGHT
BEGIN:STANDARD
TZOFFSETFROM:-0400
TZOFFSETTO:-0500
TZNAME:EST
DTSTART:20241103T060000
END:STANDARD
BEGIN:DAYLIGHT
TZOFFSETFROM:-0500
TZOFFSETTO:-0400
TZNAME:EDT
DTSTART:20250309T070000
END:DAYLIGHT
BEGIN:STANDARD
TZOFFSETFROM:-0400
TZOFFSETTO:-0500
TZNAME:EST
DTSTART:20251102T060000
END:STANDARD
BEGIN:DAYLIGHT
TZOFFSETFROM:-0500
TZOFFSETTO:-0400
TZNAME:EDT
DTSTART:20260308T070000
END:DAYLIGHT
BEGIN:STANDARD
TZOFFSETFROM:-0400
TZOFFSETTO:-0500
TZNAME:EST
DTSTART:20261101T060000
END:STANDARD
END:VTIMEZONE
BEGIN:VEVENT
DTSTART;TZID=America/New_York:20250409T180000
DTEND;TZID=America/New_York:20250409T200000
DTSTAMP:20260424T105103
CREATED:20250305T192406Z
LAST-MODIFIED:20250313T173404Z
UID:10936-1744221600-1744228800@lookyheregreenfield.com
SUMMARY:Painting in Harmony: Color Theory for Painters with Julia Zanes (4/9-4/30 $125)
DESCRIPTION:Using the texts of Joseph Albers and Johannes Itten we will talk about Color.\nWe will play a synesthetic game of musical paintings and watch a slideshow of paintings that illustrate the color contrasts of Johannes Itten.  We will mix colors  with  a cursory discussion of new and historic pigments. Each student will make a painting the subject of which is Harmony\, and we will see where trying to pin down the idea of color harmony leads.
URL:https://lookyheregreenfield.com/event/painting-in-harmony-color-theory-for-painters-with-julia-zanes-4-9-4-30-125/
CATEGORIES:workshop
ATTACH;FMTTYPE=image/jpeg:https://lookyheregreenfield.com/wp-content/uploads/2025/03/IMG-6728.jpg
END:VEVENT
END:VCALENDAR