BEGIN:VCALENDAR
VERSION:2.0
PRODID:-//Looky Here - ECPv6.15.20//NONSGML v1.0//EN
CALSCALE:GREGORIAN
METHOD:PUBLISH
X-ORIGINAL-URL:https://lookyheregreenfield.com
X-WR-CALDESC:Events for Looky Here
REFRESH-INTERVAL;VALUE=DURATION:PT1H
X-Robots-Tag:noindex
X-PUBLISHED-TTL:PT1H
BEGIN:VTIMEZONE
TZID:America/New_York
BEGIN:DAYLIGHT
TZOFFSETFROM:-0500
TZOFFSETTO:-0400
TZNAME:EDT
DTSTART:20240310T070000
END:DAYLIGHT
BEGIN:STANDARD
TZOFFSETFROM:-0400
TZOFFSETTO:-0500
TZNAME:EST
DTSTART:20241103T060000
END:STANDARD
BEGIN:DAYLIGHT
TZOFFSETFROM:-0500
TZOFFSETTO:-0400
TZNAME:EDT
DTSTART:20250309T070000
END:DAYLIGHT
BEGIN:STANDARD
TZOFFSETFROM:-0400
TZOFFSETTO:-0500
TZNAME:EST
DTSTART:20251102T060000
END:STANDARD
BEGIN:DAYLIGHT
TZOFFSETFROM:-0500
TZOFFSETTO:-0400
TZNAME:EDT
DTSTART:20260308T070000
END:DAYLIGHT
BEGIN:STANDARD
TZOFFSETFROM:-0400
TZOFFSETTO:-0500
TZNAME:EST
DTSTART:20261101T060000
END:STANDARD
END:VTIMEZONE
BEGIN:VEVENT
DTSTART;TZID=America/New_York:20250422T180000
DTEND;TZID=America/New_York:20250422T193000
DTSTAMP:20260424T105159
CREATED:20250409T185223Z
LAST-MODIFIED:20250409T185244Z
UID:11277-1745344800-1745350200@lookyheregreenfield.com
SUMMARY:Writing through the Tarot with Melissa Dickey (drop in 6-7:30 $25)
DESCRIPTION:Writing through the Tarot with Melissa Dickey (drop in 6-7:30 $25) \nDROP IN \nTuesdays\, 6 – 7:30pm \nCome along on the Fool’s Journey and write your way through the rich archetypes and symbology of the Tarot. In this four-week class\, we’ll explore the three lines of the Major Arcana\, using the cards as inspiration for writing our own stories\, essays\, or poems. Each week we’ll focus on an aspect of narrative within the Tarot (as conceptualized by Rachel Pollack and illustrated by Pamela Coleman Smith). Our time together will consist of generative writing prompts and ekphrastic activities designed to spark associations and deepen your connection to the imagery and interpretations of the Tarot. No prior knowledge or experience necessary. This class welcomes any writer or card reader from novice to expert: it’s equal parts Tarot exposure and community of writers. Join us! \nAbout the teacher: Melissa is a poet and writer\, the author of three books. She has more than sixteen years of experience as a writing teacher and decades of experience reading Tarot for herself and others.
URL:https://lookyheregreenfield.com/event/writing-through-the-tarot-with-melissa-dickey-drop-in-6-730-25-3/
CATEGORIES:workshop,writing
ATTACH;FMTTYPE=image/webp:https://lookyheregreenfield.com/wp-content/uploads/2025/03/tarot.webp
END:VEVENT
END:VCALENDAR