BEGIN:VCALENDAR
VERSION:2.0
PRODID:-//Looky Here - ECPv6.15.20//NONSGML v1.0//EN
CALSCALE:GREGORIAN
METHOD:PUBLISH
X-WR-CALNAME:Looky Here
X-ORIGINAL-URL:https://lookyheregreenfield.com
X-WR-CALDESC:Events for Looky Here
REFRESH-INTERVAL;VALUE=DURATION:PT1H
X-Robots-Tag:noindex
X-PUBLISHED-TTL:PT1H
BEGIN:VTIMEZONE
TZID:America/New_York
BEGIN:DAYLIGHT
TZOFFSETFROM:-0500
TZOFFSETTO:-0400
TZNAME:EDT
DTSTART:20240310T070000
END:DAYLIGHT
BEGIN:STANDARD
TZOFFSETFROM:-0400
TZOFFSETTO:-0500
TZNAME:EST
DTSTART:20241103T060000
END:STANDARD
BEGIN:DAYLIGHT
TZOFFSETFROM:-0500
TZOFFSETTO:-0400
TZNAME:EDT
DTSTART:20250309T070000
END:DAYLIGHT
BEGIN:STANDARD
TZOFFSETFROM:-0400
TZOFFSETTO:-0500
TZNAME:EST
DTSTART:20251102T060000
END:STANDARD
BEGIN:DAYLIGHT
TZOFFSETFROM:-0500
TZOFFSETTO:-0400
TZNAME:EDT
DTSTART:20260308T070000
END:DAYLIGHT
BEGIN:STANDARD
TZOFFSETFROM:-0400
TZOFFSETTO:-0500
TZNAME:EST
DTSTART:20261101T060000
END:STANDARD
END:VTIMEZONE
BEGIN:VEVENT
DTSTART;TZID=America/New_York:20250707T180000
DTEND;TZID=America/New_York:20250707T200000
DTSTAMP:20260424T050210
CREATED:20250528T181139Z
LAST-MODIFIED:20251003T183108Z
UID:11983-1751911200-1751918400@lookyheregreenfield.com
SUMMARY:Watercolor Painting for Adults (6 week series with Giselle Harrington 7/7 - 8/11 6:00-8:00)
DESCRIPTION:Watercolor Painting for Adults \nLearn traditional methods of handling transparent watercolor in representational painting. Students will learn how to control watercolor through washes and glazes\, creating soft edges\, and using wet-in-wet techniques. They will also learn how to quickly identify a strong value design in a scene: key to success in watercolor. \nMaterials: Participants may choose to bring their own supplies or rent supplies for use during the class; Supply rental is: $5 per day or $25 for the full session. They can pay at the first class. Students choosing to bring their own supplies can find a supply list here.
URL:https://lookyheregreenfield.com/event/watercolor-painting-for-adults-6-week-series-with-giselle-harrington-7-7-8-11/
CATEGORIES:workshop
ATTACH;FMTTYPE=image/jpeg:https://lookyheregreenfield.com/wp-content/uploads/2025/05/View-from-Bishops-Orchard_June-2023-1.jpg
END:VEVENT
END:VCALENDAR