BEGIN:VCALENDAR
VERSION:2.0
PRODID:-//Looky Here - ECPv6.15.20//NONSGML v1.0//EN
CALSCALE:GREGORIAN
METHOD:PUBLISH
X-ORIGINAL-URL:https://lookyheregreenfield.com
X-WR-CALDESC:Events for Looky Here
REFRESH-INTERVAL;VALUE=DURATION:PT1H
X-Robots-Tag:noindex
X-PUBLISHED-TTL:PT1H
BEGIN:VTIMEZONE
TZID:America/New_York
BEGIN:DAYLIGHT
TZOFFSETFROM:-0500
TZOFFSETTO:-0400
TZNAME:EDT
DTSTART:20240310T070000
END:DAYLIGHT
BEGIN:STANDARD
TZOFFSETFROM:-0400
TZOFFSETTO:-0500
TZNAME:EST
DTSTART:20241103T060000
END:STANDARD
BEGIN:DAYLIGHT
TZOFFSETFROM:-0500
TZOFFSETTO:-0400
TZNAME:EDT
DTSTART:20250309T070000
END:DAYLIGHT
BEGIN:STANDARD
TZOFFSETFROM:-0400
TZOFFSETTO:-0500
TZNAME:EST
DTSTART:20251102T060000
END:STANDARD
BEGIN:DAYLIGHT
TZOFFSETFROM:-0500
TZOFFSETTO:-0400
TZNAME:EDT
DTSTART:20260308T070000
END:DAYLIGHT
BEGIN:STANDARD
TZOFFSETFROM:-0400
TZOFFSETTO:-0500
TZNAME:EST
DTSTART:20261101T060000
END:STANDARD
END:VTIMEZONE
BEGIN:VEVENT
DTSTART;TZID=America/New_York:20250716T180000
DTEND;TZID=America/New_York:20250716T200000
DTSTAMP:20260424T050717
CREATED:20250528T180209Z
LAST-MODIFIED:20250604T171841Z
UID:11980-1752688800-1752696000@lookyheregreenfield.com
SUMMARY:Introduction to Microtonal Music (5 week workshop with Omeed Goodarzi)
DESCRIPTION:Have you ever wondered about the notes between the notes? and how to incorporate them into your musical practice? What it means to be truly “in tune”? Would you like to learn scales from around the world & times long past? cultivate a broader sensitivity of listening not bound to the musical conventions of the western world?\nDoes the idea of building experimental instruments excite you?\nthen this course is for you!\njoin us as we explore the monochord and its offspring.\nNo former musical experience required\, just curious ears! \nfor more information visit proteinmonochord.net
URL:https://lookyheregreenfield.com/event/introduction-to-microtonal-music-5-week-workshop-with-omeed-goodarzi/
CATEGORIES:workshop
ATTACH;FMTTYPE=image/jpeg:https://lookyheregreenfield.com/wp-content/uploads/2025/05/miicrotonalmusicclassposter1.jpg
END:VEVENT
END:VCALENDAR