BEGIN:VCALENDAR
VERSION:2.0
PRODID:-//Looky Here - ECPv6.15.20//NONSGML v1.0//EN
CALSCALE:GREGORIAN
METHOD:PUBLISH
X-ORIGINAL-URL:https://lookyheregreenfield.com
X-WR-CALDESC:Events for Looky Here
REFRESH-INTERVAL;VALUE=DURATION:PT1H
X-Robots-Tag:noindex
X-PUBLISHED-TTL:PT1H
BEGIN:VTIMEZONE
TZID:America/New_York
BEGIN:DAYLIGHT
TZOFFSETFROM:-0500
TZOFFSETTO:-0400
TZNAME:EDT
DTSTART:20240310T070000
END:DAYLIGHT
BEGIN:STANDARD
TZOFFSETFROM:-0400
TZOFFSETTO:-0500
TZNAME:EST
DTSTART:20241103T060000
END:STANDARD
BEGIN:DAYLIGHT
TZOFFSETFROM:-0500
TZOFFSETTO:-0400
TZNAME:EDT
DTSTART:20250309T070000
END:DAYLIGHT
BEGIN:STANDARD
TZOFFSETFROM:-0400
TZOFFSETTO:-0500
TZNAME:EST
DTSTART:20251102T060000
END:STANDARD
BEGIN:DAYLIGHT
TZOFFSETFROM:-0500
TZOFFSETTO:-0400
TZNAME:EDT
DTSTART:20260308T070000
END:DAYLIGHT
BEGIN:STANDARD
TZOFFSETFROM:-0400
TZOFFSETTO:-0500
TZNAME:EST
DTSTART:20261101T060000
END:STANDARD
END:VTIMEZONE
BEGIN:VEVENT
DTSTART;TZID=America/New_York:20250903T180000
DTEND;TZID=America/New_York:20250903T200000
DTSTAMP:20260424T015125
CREATED:20250806T152944Z
LAST-MODIFIED:20250806T185520Z
UID:12755-1756922400-1756929600@lookyheregreenfield.com
SUMMARY:Deranged Sonnets with L Scully (9/3 6:00-8:00 $40)
DESCRIPTION:Shall I compare thee to a fall workshop? \nJoin writer L Scully for a single session workshop focused on creating your own DIY sonnets. You will accompany L for one evening of their daily sonnet quest. This class is a two hour generative session. Arrive with a silly\, open heart\, and leave with the beginnings of three new pieces. While sonnets are a famous poetic staple\, writers from all genres are encouraged to participate. Let’s get weird\, queer\, and let fourteen lines steward our journey together.  \nWednesday\, September 3rd 6-8PM \nL Scully (they/them) is a living writer. Their second book\, SELF-ROMANCING\, is out from Dopamine Books LA in September. They are a double Capricorn and like to boss people around. That includes you\, so come make new work!
URL:https://lookyheregreenfield.com/event/deranged-sonnets-with-l-scully-9-3-600-800-40/
CATEGORIES:workshop,writing
ATTACH;FMTTYPE=image/jpeg:https://lookyheregreenfield.com/wp-content/uploads/2025/08/L-scully-moustache.jpg
END:VEVENT
END:VCALENDAR