BEGIN:VCALENDAR
VERSION:2.0
PRODID:-//Looky Here - ECPv6.15.20//NONSGML v1.0//EN
CALSCALE:GREGORIAN
METHOD:PUBLISH
X-ORIGINAL-URL:https://lookyheregreenfield.com
X-WR-CALDESC:Events for Looky Here
REFRESH-INTERVAL;VALUE=DURATION:PT1H
X-Robots-Tag:noindex
X-PUBLISHED-TTL:PT1H
BEGIN:VTIMEZONE
TZID:America/New_York
BEGIN:DAYLIGHT
TZOFFSETFROM:-0500
TZOFFSETTO:-0400
TZNAME:EDT
DTSTART:20240310T070000
END:DAYLIGHT
BEGIN:STANDARD
TZOFFSETFROM:-0400
TZOFFSETTO:-0500
TZNAME:EST
DTSTART:20241103T060000
END:STANDARD
BEGIN:DAYLIGHT
TZOFFSETFROM:-0500
TZOFFSETTO:-0400
TZNAME:EDT
DTSTART:20250309T070000
END:DAYLIGHT
BEGIN:STANDARD
TZOFFSETFROM:-0400
TZOFFSETTO:-0500
TZNAME:EST
DTSTART:20251102T060000
END:STANDARD
BEGIN:DAYLIGHT
TZOFFSETFROM:-0500
TZOFFSETTO:-0400
TZNAME:EDT
DTSTART:20260308T070000
END:DAYLIGHT
BEGIN:STANDARD
TZOFFSETFROM:-0400
TZOFFSETTO:-0500
TZNAME:EST
DTSTART:20261101T060000
END:STANDARD
END:VTIMEZONE
BEGIN:VEVENT
DTSTART;TZID=America/New_York:20250909T180000
DTEND;TZID=America/New_York:20250909T200000
DTSTAMP:20260424T013627
CREATED:20250718T193004Z
LAST-MODIFIED:20250806T161800Z
UID:12476-1757440800-1757448000@lookyheregreenfield.com
SUMMARY:The Art of Restraint: Exploring Poetic Forms (8 Tuesdays with Sarah Wisby 9/9-10/28)
DESCRIPTION:The Art of Restraint: Exploring Poetic Forms \nwith Sarah Wisby \nLooking for structure? Curious about constraints? In this 8 week generative poetry class\, we will read and write in a variety of short forms\, from the abcedarian to the ghazal. Emphasis will be on playfulness and freedom. Some poets we will likely read include Victoria Chang\, Marilyn Hacker\, Agha Shahid Ali\, Adrienne Rich\, Terrance Hayes\, Issa\, and Elizabeth Bishop. \n8 Tuesdays \nSeptember 9 – October 28 \n6-8 pm \nLooky Here \n$200
URL:https://lookyheregreenfield.com/event/the-art-of-restraint-exploring-poetic-forms-8-tuesdays-with-sarah-wisby-9-9-10-28/
CATEGORIES:workshop,writing
ATTACH;FMTTYPE=image/jpeg:https://lookyheregreenfield.com/wp-content/uploads/2025/07/art-of-restraint-1.jpg
END:VEVENT
END:VCALENDAR