BEGIN:VCALENDAR
VERSION:2.0
PRODID:-//Looky Here - ECPv6.15.20//NONSGML v1.0//EN
CALSCALE:GREGORIAN
METHOD:PUBLISH
X-WR-CALNAME:Looky Here
X-ORIGINAL-URL:https://lookyheregreenfield.com
X-WR-CALDESC:Events for Looky Here
REFRESH-INTERVAL;VALUE=DURATION:PT1H
X-Robots-Tag:noindex
X-PUBLISHED-TTL:PT1H
BEGIN:VTIMEZONE
TZID:America/New_York
BEGIN:DAYLIGHT
TZOFFSETFROM:-0500
TZOFFSETTO:-0400
TZNAME:EDT
DTSTART:20240310T070000
END:DAYLIGHT
BEGIN:STANDARD
TZOFFSETFROM:-0400
TZOFFSETTO:-0500
TZNAME:EST
DTSTART:20241103T060000
END:STANDARD
BEGIN:DAYLIGHT
TZOFFSETFROM:-0500
TZOFFSETTO:-0400
TZNAME:EDT
DTSTART:20250309T070000
END:DAYLIGHT
BEGIN:STANDARD
TZOFFSETFROM:-0400
TZOFFSETTO:-0500
TZNAME:EST
DTSTART:20251102T060000
END:STANDARD
BEGIN:DAYLIGHT
TZOFFSETFROM:-0500
TZOFFSETTO:-0400
TZNAME:EDT
DTSTART:20260308T070000
END:DAYLIGHT
BEGIN:STANDARD
TZOFFSETFROM:-0400
TZOFFSETTO:-0500
TZNAME:EST
DTSTART:20261101T060000
END:STANDARD
END:VTIMEZONE
BEGIN:VEVENT
DTSTART;TZID=America/New_York:20250910T180000
DTEND;TZID=America/New_York:20250910T200000
DTSTAMP:20260424T013259
CREATED:20250806T154910Z
LAST-MODIFIED:20250806T154910Z
UID:12754-1757527200-1757534400@lookyheregreenfield.com
SUMMARY:Joseph Albers' "Interaction of Color" with Hannah Brookman (9/10-10/29)
DESCRIPTION:Josef Albers’ “Interaction of Color” Reading and Color Theory Class \nIn this 8 week class\, we will work through the color experiments presented by Josef Albers in his 1963 publication “Interaction of Color”. Albers taught at the Bauhaus and Black Mountain College\, headed Yale University’s department of design\, and is considered one of the most influential teachers of the visual arts in the twentieth century. Students will need to have a copy of the text as well as color swatches to work with (color swatches from paint stores work best!). Experiments will be done at home and in class.  \nClass will meet 6-8pm on Wednesdays 9/10-10/29 at Looky Here
URL:https://lookyheregreenfield.com/event/joseph-albers-interaction-of-color-with-hannah-brookman-9-10-10-29/
CATEGORIES:workshop
ATTACH;FMTTYPE=image/jpeg:https://lookyheregreenfield.com/wp-content/uploads/2025/08/IMG-8472.jpg
END:VEVENT
END:VCALENDAR