BEGIN:VCALENDAR
VERSION:2.0
PRODID:-//Looky Here - ECPv6.15.20//NONSGML v1.0//EN
CALSCALE:GREGORIAN
METHOD:PUBLISH
X-ORIGINAL-URL:https://lookyheregreenfield.com
X-WR-CALDESC:Events for Looky Here
REFRESH-INTERVAL;VALUE=DURATION:PT1H
X-Robots-Tag:noindex
X-PUBLISHED-TTL:PT1H
BEGIN:VTIMEZONE
TZID:America/New_York
BEGIN:DAYLIGHT
TZOFFSETFROM:-0500
TZOFFSETTO:-0400
TZNAME:EDT
DTSTART:20240310T070000
END:DAYLIGHT
BEGIN:STANDARD
TZOFFSETFROM:-0400
TZOFFSETTO:-0500
TZNAME:EST
DTSTART:20241103T060000
END:STANDARD
BEGIN:DAYLIGHT
TZOFFSETFROM:-0500
TZOFFSETTO:-0400
TZNAME:EDT
DTSTART:20250309T070000
END:DAYLIGHT
BEGIN:STANDARD
TZOFFSETFROM:-0400
TZOFFSETTO:-0500
TZNAME:EST
DTSTART:20251102T060000
END:STANDARD
BEGIN:DAYLIGHT
TZOFFSETFROM:-0500
TZOFFSETTO:-0400
TZNAME:EDT
DTSTART:20260308T070000
END:DAYLIGHT
BEGIN:STANDARD
TZOFFSETFROM:-0400
TZOFFSETTO:-0500
TZNAME:EST
DTSTART:20261101T060000
END:STANDARD
END:VTIMEZONE
BEGIN:VEVENT
DTSTART;TZID=America/New_York:20251113T180000
DTEND;TZID=America/New_York:20251113T200000
DTSTAMP:20260423T221905
CREATED:20251006T143955Z
LAST-MODIFIED:20251006T144208Z
UID:14132-1763056800-1763064000@lookyheregreenfield.com
SUMMARY:Public Interest Zine Making with Holly Muñoz and Randy Lesage (pay what you can!)
DESCRIPTION:“Public Interest” is a concern for the well-being of all people\, rather than individuals\, specific groups\, or companies. \nThe world is messed up and scary. Information and education can help. Learn how to make zines. Get your message across to people. Help them understand why we all do better when we all do better. \nSuggested donation of $15 for the two-hour workshop. No one turned away. Proceeds support Looky Here. All supplies included.
URL:https://lookyheregreenfield.com/event/public-interest-zine-making-with-holly-munoz-and-randy-lesage-pay-what-you-can/
CATEGORIES:workshop
ATTACH;FMTTYPE=image/jpeg:https://lookyheregreenfield.com/wp-content/uploads/2025/09/pips-image-for-workshop.jpg
END:VEVENT
END:VCALENDAR